BEGIN:VCALENDAR
VERSION:2.0
PRODID:-//Tullinge SK - ECPv6.15.20//NONSGML v1.0//EN
CALSCALE:GREGORIAN
METHOD:PUBLISH
X-ORIGINAL-URL:https://www.tullingesk.se
X-WR-CALDESC:Händelser för Tullinge SK
REFRESH-INTERVAL;VALUE=DURATION:PT1H
X-Robots-Tag:noindex
X-PUBLISHED-TTL:PT1H
BEGIN:VTIMEZONE
TZID:Europe/Stockholm
BEGIN:DAYLIGHT
TZOFFSETFROM:+0100
TZOFFSETTO:+0200
TZNAME:CEST
DTSTART:20250330T010000
END:DAYLIGHT
BEGIN:STANDARD
TZOFFSETFROM:+0200
TZOFFSETTO:+0100
TZNAME:CET
DTSTART:20251026T010000
END:STANDARD
BEGIN:DAYLIGHT
TZOFFSETFROM:+0100
TZOFFSETTO:+0200
TZNAME:CEST
DTSTART:20260329T010000
END:DAYLIGHT
BEGIN:STANDARD
TZOFFSETFROM:+0200
TZOFFSETTO:+0100
TZNAME:CET
DTSTART:20261025T010000
END:STANDARD
BEGIN:DAYLIGHT
TZOFFSETFROM:+0100
TZOFFSETTO:+0200
TZNAME:CEST
DTSTART:20270328T010000
END:DAYLIGHT
BEGIN:STANDARD
TZOFFSETFROM:+0200
TZOFFSETTO:+0100
TZNAME:CET
DTSTART:20271031T010000
END:STANDARD
END:VTIMEZONE
BEGIN:VEVENT
DTSTART;TZID=Europe/Stockholm:20260406T080000
DTEND;TZID=Europe/Stockholm:20260406T170000
DTSTAMP:20260421T204512
CREATED:20260401T132529Z
LAST-MODIFIED:20260401T132529Z
UID:10003147-1775462400-1775494800@www.tullingesk.se
SUMMARY:Kolmårdskavlen (Stafettligan\, #1)
DESCRIPTION:https://eventor.orientering.se/Events/Show/53087
URL:https://www.tullingesk.se/aktivitet/kolmardskavlen-stafettligan-1/
LOCATION:TSK-klubbstugan\, Flottiljvägen 56\, Tullinge\, 146 38\, Sweden
GEO:59.193432193406;17.901717405743
X-APPLE-STRUCTURED-LOCATION;VALUE=URI;X-ADDRESS=TSK-klubbstugan Flottiljvägen 56 Tullinge 146 38 Sweden;X-APPLE-RADIUS=500;X-TITLE=Flottiljvägen 56:geo:17.901717405743,59.193432193406
END:VEVENT
BEGIN:VEVENT
DTSTART;TZID=Europe/Stockholm:20260407T180000
DTEND;TZID=Europe/Stockholm:20260407T190000
DTSTAMP:20260421T204512
CREATED:20260315T173254Z
LAST-MODIFIED:20260403T091146Z
UID:10003048-1775584800-1775588400@www.tullingesk.se
SUMMARY:Grupp4-tisdagsträning
DESCRIPTION:Grupp 4 – tisdagsträning \nGruppen för alla som inte väljer annan grupp  \nAnsvarig denna vecka: \nV15  Karin & P-A Forsberg \nLinje-OL (5\,6km\, 6\,8km samt 7\,7km) \n  \n  \n  \nFör anvisningar och lista över ansvariga: https://www.tullingesk.se/bredd-motionar/
URL:https://www.tullingesk.se/aktivitet/grupp4-tisdagstraning-4/
LOCATION:TSK-klubbstugan\, Flottiljvägen 56\, Tullinge\, 146 38\, Sweden
GEO:59.193432193406;17.901717405743
X-APPLE-STRUCTURED-LOCATION;VALUE=URI;X-ADDRESS=TSK-klubbstugan Flottiljvägen 56 Tullinge 146 38 Sweden;X-APPLE-RADIUS=500;X-TITLE=Flottiljvägen 56:geo:17.901717405743,59.193432193406
END:VEVENT
BEGIN:VEVENT
DTSTART;TZID=Europe/Stockholm:20260407T180000
DTEND;TZID=Europe/Stockholm:20260407T200000
DTSTAMP:20260421T204512
CREATED:20260406T122715Z
LAST-MODIFIED:20260406T122737Z
UID:10001032-1775584800-1775592000@www.tullingesk.se
SUMMARY:HD17
DESCRIPTION:60 min stigrunda. \nAnsvar: Viktor W
URL:https://www.tullingesk.se/aktivitet/hd17-34-15/
LOCATION:TSK-klubbstugan\, Flottiljvägen 56\, Tullinge\, 146 38\, Sweden
GEO:59.193432193406;17.901717405743
X-APPLE-STRUCTURED-LOCATION;VALUE=URI;X-ADDRESS=TSK-klubbstugan Flottiljvägen 56 Tullinge 146 38 Sweden;X-APPLE-RADIUS=500;X-TITLE=Flottiljvägen 56:geo:17.901717405743,59.193432193406
END:VEVENT
BEGIN:VEVENT
DTSTART;TZID=Europe/Stockholm:20260408T180000
DTEND;TZID=Europe/Stockholm:20260408T190000
DTSTAMP:20260421T204512
CREATED:20260407T063619Z
LAST-MODIFIED:20260407T063619Z
UID:10003225-1775671200-1775674800@www.tullingesk.se
SUMMARY:1316-gruppen: 10x1' på spåret (haka gärna på från övriga grupper!)
DESCRIPTION:Onsdagsintervaller den här veckan. \nLöparskor \n/Johan
URL:https://www.tullingesk.se/aktivitet/1316-gruppen-10x1-pa-sparet-haka-garna-pa-fran-ovriga-grupper/
LOCATION:TSK-klubbstugan\, Flottiljvägen 56\, Tullinge\, 146 38\, Sweden
GEO:59.193432193406;17.901717405743
X-APPLE-STRUCTURED-LOCATION;VALUE=URI;X-ADDRESS=TSK-klubbstugan Flottiljvägen 56 Tullinge 146 38 Sweden;X-APPLE-RADIUS=500;X-TITLE=Flottiljvägen 56:geo:17.901717405743,59.193432193406
END:VEVENT
BEGIN:VEVENT
DTSTART;TZID=Europe/Stockholm:20260409T180000
DTEND;TZID=Europe/Stockholm:20260409T193000
DTSTAMP:20260421T204512
CREATED:20260330T062537Z
LAST-MODIFIED:20260407T112628Z
UID:10003140-1775757600-1775763000@www.tullingesk.se
SUMMARY:Teknikträning Masmo
DESCRIPTION:Teknikträning öppen för alla medlemmar \nAnmälan:\nSenast onsdag kl 19 via Eventor: Länk till Eventor \nSamling:\n18:00 Korsningen Snickarkrogsvägen/Solhagavägen i Masmo. https://maps.app.goo.gl/8m1FcHr2DHTAvKyB7\nParkering vid Lidl/färgaffären i Masmo (2 timmar med p-skiva) \nBanor/tema:\nKontrollplock \nBanlängder:\nSvart 8\,2 km avkortningsbar till 6\,0 km eller 4\,0 km. Möjlig att korta ytterligare.\nOrange 3\,2 km\nVi kör på den alldeles färska nyritade kartan över Gömmaren som även kommer att användas för 25-manna i höst men vi kör utanför det avlysta området.\nLivelox: https://www.livelox.com/Events/Show/183259/Sydsamarbetet-Masmo-vecka-14-och-15 \nInga vita och gula banor finns denna vecka så träningen vänder sig främst till de som vill köra orange och svart. \nFör de om inte kan aktuellt datum kommer kartor att finnas i filarkivet för egen utskrift. Träningen sitter uppe till 10 april \nAnsvariga:\n9-12 ledare: Inga 9-12 ledare denna vecka\n13-16 ledare: Rickard \nBanläggare: Rickard \nUtskrift: Rickard \nUtsättning: Mia + Rickard\nInplockning: IFK Enskede \nMedtag gärna plastficka A4.
URL:https://www.tullingesk.se/aktivitet/tekniktraning-masmo/
END:VEVENT
BEGIN:VEVENT
DTSTART;TZID=Europe/Stockholm:20260410T080000
DTEND;TZID=Europe/Stockholm:20260410T170000
DTSTAMP:20260421T204512
CREATED:20260401T132618Z
LAST-MODIFIED:20260401T132618Z
UID:10003148-1775808000-1775840400@www.tullingesk.se
SUMMARY:SM\, natt (Swedish League\, #3)
DESCRIPTION:https://eventor.orientering.se/Events/Show/52726
URL:https://www.tullingesk.se/aktivitet/sm-natt-swedish-league-3-2/
LOCATION:TSK-klubbstugan\, Flottiljvägen 56\, Tullinge\, 146 38\, Sweden
GEO:59.193432193406;17.901717405743
X-APPLE-STRUCTURED-LOCATION;VALUE=URI;X-ADDRESS=TSK-klubbstugan Flottiljvägen 56 Tullinge 146 38 Sweden;X-APPLE-RADIUS=500;X-TITLE=Flottiljvägen 56:geo:17.901717405743,59.193432193406
END:VEVENT
BEGIN:VEVENT
DTSTART;TZID=Europe/Stockholm:20260411T080000
DTEND;TZID=Europe/Stockholm:20260411T170000
DTSTAMP:20260421T204512
CREATED:20260401T132740Z
LAST-MODIFIED:20260401T132740Z
UID:10003149-1775894400-1775926800@www.tullingesk.se
SUMMARY:Lännamedeln
DESCRIPTION:https://eventor.orientering.se/Events/Show/53627
URL:https://www.tullingesk.se/aktivitet/lannamedeln-3/
LOCATION:TSK-klubbstugan\, Flottiljvägen 56\, Tullinge\, 146 38\, Sweden
GEO:59.193432193406;17.901717405743
X-APPLE-STRUCTURED-LOCATION;VALUE=URI;X-ADDRESS=TSK-klubbstugan Flottiljvägen 56 Tullinge 146 38 Sweden;X-APPLE-RADIUS=500;X-TITLE=Flottiljvägen 56:geo:17.901717405743,59.193432193406
END:VEVENT
BEGIN:VEVENT
DTSTART;TZID=Europe/Stockholm:20260411T130000
DTEND;TZID=Europe/Stockholm:20260412T090000
DTSTAMP:20260421T204512
CREATED:20260317T073409Z
LAST-MODIFIED:20260317T073409Z
UID:10003132-1775912400-1775984400@www.tullingesk.se
SUMMARY:Klubbstugan bokad/fest
DESCRIPTION:Kontaktperson: Ester Laaksonen
URL:https://www.tullingesk.se/aktivitet/klubbstugan-bokad-fest/
LOCATION:TSK-klubbstugan\, Flottiljvägen 56\, Tullinge\, 146 38\, Sweden
ORGANIZER;CN="Stugkommitt%C3%A9n":MAILTO:uthyrning@tullingesk.se
GEO:59.193432193406;17.901717405743
X-APPLE-STRUCTURED-LOCATION;VALUE=URI;X-ADDRESS=TSK-klubbstugan Flottiljvägen 56 Tullinge 146 38 Sweden;X-APPLE-RADIUS=500;X-TITLE=Flottiljvägen 56:geo:17.901717405743,59.193432193406
END:VEVENT
BEGIN:VEVENT
DTSTART;VALUE=DATE:20260412
DTEND;VALUE=DATE:20260413
DTSTAMP:20260421T204512
CREATED:20260401T132827Z
LAST-MODIFIED:20260401T132827Z
UID:10003150-1775952000-1776038399@www.tullingesk.se
SUMMARY:O-stafetten (Stafettligan\, #2)
DESCRIPTION:https://eventor.orientering.se/Events/Show/52964
URL:https://www.tullingesk.se/aktivitet/o-stafetten-stafettligan-2/
LOCATION:TSK-klubbstugan\, Flottiljvägen 56\, Tullinge\, 146 38\, Sweden
GEO:59.193432193406;17.901717405743
X-APPLE-STRUCTURED-LOCATION;VALUE=URI;X-ADDRESS=TSK-klubbstugan Flottiljvägen 56 Tullinge 146 38 Sweden;X-APPLE-RADIUS=500;X-TITLE=Flottiljvägen 56:geo:17.901717405743,59.193432193406
END:VEVENT
BEGIN:VEVENT
DTSTART;TZID=Europe/Stockholm:20260412T100000
DTEND;TZID=Europe/Stockholm:20260412T113000
DTSTAMP:20260421T204512
CREATED:20260407T064618Z
LAST-MODIFIED:20260407T064618Z
UID:10003226-1775988000-1775993400@www.tullingesk.se
SUMMARY:1316-gruppen: långpass
DESCRIPTION:Se veckobrev/whatsapp för info. /Johan
URL:https://www.tullingesk.se/aktivitet/1316-gruppen-langpass/
END:VEVENT
END:VCALENDAR