BEGIN:VCALENDAR
VERSION:2.0
PRODID:-//Tullinge SK - ECPv6.15.20//NONSGML v1.0//EN
CALSCALE:GREGORIAN
METHOD:PUBLISH
X-ORIGINAL-URL:https://www.tullingesk.se
X-WR-CALDESC:Händelser för Tullinge SK
REFRESH-INTERVAL;VALUE=DURATION:PT1H
X-Robots-Tag:noindex
X-PUBLISHED-TTL:PT1H
BEGIN:VTIMEZONE
TZID:Europe/Stockholm
BEGIN:DAYLIGHT
TZOFFSETFROM:+0100
TZOFFSETTO:+0200
TZNAME:CEST
DTSTART:20250330T010000
END:DAYLIGHT
BEGIN:STANDARD
TZOFFSETFROM:+0200
TZOFFSETTO:+0100
TZNAME:CET
DTSTART:20251026T010000
END:STANDARD
BEGIN:DAYLIGHT
TZOFFSETFROM:+0100
TZOFFSETTO:+0200
TZNAME:CEST
DTSTART:20260329T010000
END:DAYLIGHT
BEGIN:STANDARD
TZOFFSETFROM:+0200
TZOFFSETTO:+0100
TZNAME:CET
DTSTART:20261025T010000
END:STANDARD
BEGIN:DAYLIGHT
TZOFFSETFROM:+0100
TZOFFSETTO:+0200
TZNAME:CEST
DTSTART:20270328T010000
END:DAYLIGHT
BEGIN:STANDARD
TZOFFSETFROM:+0200
TZOFFSETTO:+0100
TZNAME:CET
DTSTART:20271031T010000
END:STANDARD
END:VTIMEZONE
BEGIN:VEVENT
DTSTART;TZID=Europe/Stockholm:20260323T190000
DTEND;TZID=Europe/Stockholm:20260323T200000
DTSTAMP:20260420T041258
CREATED:20251003T073124Z
LAST-MODIFIED:20260330T145355Z
UID:10002625-1774292400-1774296000@www.tullingesk.se
SUMMARY:Styrkegympa -för alla!
DESCRIPTION:Tid: Måndagar kl 19-20\nPlats: Parkhemsskolans gympahall\nVem: TSK-medlemmar\nTa med: Inneskor & vattenflaska\nFörkunskaper: INGA! Alla kan vara med på sin nivå!\nVad: Styrka för hela kroppen. Enkla övningar\, oftast med egna kroppen som vikt men ibland även med gummiband (finns på plats). \n  \n  \n 
URL:https://www.tullingesk.se/aktivitet/tsk-gympa/2026-03-23/
LOCATION:Parkhemsskolans gympahall
END:VEVENT
BEGIN:VEVENT
DTSTART;TZID=Europe/Stockholm:20260324T180000
DTEND;TZID=Europe/Stockholm:20260324T190000
DTSTAMP:20260420T041258
CREATED:20260309T174321Z
LAST-MODIFIED:20260309T174321Z
UID:10003030-1774375200-1774378800@www.tullingesk.se
SUMMARY:Träsktrollen
DESCRIPTION:Barn födda 2019 & 2018. \nLenka\, Zdeněk & Micke
URL:https://www.tullingesk.se/aktivitet/trasktrollen-7/2026-03-24/
LOCATION:TSK-klubbstugan\, Flottiljvägen 56\, Tullinge\, 146 38\, Sweden
GEO:59.193432193406;17.901717405743
X-APPLE-STRUCTURED-LOCATION;VALUE=URI;X-ADDRESS=TSK-klubbstugan Flottiljvägen 56 Tullinge 146 38 Sweden;X-APPLE-RADIUS=500;X-TITLE=Flottiljvägen 56:geo:17.901717405743,59.193432193406
END:VEVENT
BEGIN:VEVENT
DTSTART;TZID=Europe/Stockholm:20260324T180000
DTEND;TZID=Europe/Stockholm:20260324T190000
DTSTAMP:20260420T041258
CREATED:20260315T172835Z
LAST-MODIFIED:20260323T201119Z
UID:10003046-1774375200-1774378800@www.tullingesk.se
SUMMARY:Grupp4-tisdagsträning
DESCRIPTION:Grupp 4 – tisdagsträning \nGruppen för alla som inte väljer annan grupp  \nAnsvarig denna vecka: \nV13  Mia Bratt & Carina Ronge \nSkogs-backintervaller med karta och uthängda reflexsnitslar. Välkomna! \n  \nFör anvisningar och lista över ansvariga: https://www.tullingesk.se/bredd-motionar/
URL:https://www.tullingesk.se/aktivitet/grupp4-tisdagstraning-2/
LOCATION:TSK-klubbstugan\, Flottiljvägen 56\, Tullinge\, 146 38\, Sweden
GEO:59.193432193406;17.901717405743
X-APPLE-STRUCTURED-LOCATION;VALUE=URI;X-ADDRESS=TSK-klubbstugan Flottiljvägen 56 Tullinge 146 38 Sweden;X-APPLE-RADIUS=500;X-TITLE=Flottiljvägen 56:geo:17.901717405743,59.193432193406
END:VEVENT
BEGIN:VEVENT
DTSTART;TZID=Europe/Stockholm:20260324T180000
DTEND;TZID=Europe/Stockholm:20260324T191500
DTSTAMP:20260420T041258
CREATED:20260323T060600Z
LAST-MODIFIED:20260323T060600Z
UID:10003138-1774375200-1774379700@www.tullingesk.se
SUMMARY:1316-gruppen: OL-intervaller (lampa och kompass)
DESCRIPTION:
URL:https://www.tullingesk.se/aktivitet/1316-gruppen-ol-intervaller-lampa-och-kompass/
LOCATION:TSK-klubbstugan\, Flottiljvägen 56\, Tullinge\, 146 38\, Sweden
GEO:59.193432193406;17.901717405743
X-APPLE-STRUCTURED-LOCATION;VALUE=URI;X-ADDRESS=TSK-klubbstugan Flottiljvägen 56 Tullinge 146 38 Sweden;X-APPLE-RADIUS=500;X-TITLE=Flottiljvägen 56:geo:17.901717405743,59.193432193406
END:VEVENT
BEGIN:VEVENT
DTSTART;TZID=Europe/Stockholm:20260324T180000
DTEND;TZID=Europe/Stockholm:20260324T191500
DTSTAMP:20260420T041258
CREATED:20260324T073515Z
LAST-MODIFIED:20260324T073515Z
UID:10003139-1774375200-1774379700@www.tullingesk.se
SUMMARY:9-12 tisdagsträning
DESCRIPTION:
URL:https://www.tullingesk.se/aktivitet/9-12-tisdagstraning-12/
LOCATION:TSK-klubbstugan\, Flottiljvägen 56\, Tullinge\, 146 38\, Sweden
GEO:59.193432193406;17.901717405743
X-APPLE-STRUCTURED-LOCATION;VALUE=URI;X-ADDRESS=TSK-klubbstugan Flottiljvägen 56 Tullinge 146 38 Sweden;X-APPLE-RADIUS=500;X-TITLE=Flottiljvägen 56:geo:17.901717405743,59.193432193406
END:VEVENT
BEGIN:VEVENT
DTSTART;TZID=Europe/Stockholm:20260324T180000
DTEND;TZID=Europe/Stockholm:20260324T200000
DTSTAMP:20260420T041258
CREATED:20260322T140135Z
LAST-MODIFIED:20260322T140136Z
UID:10001030-1774375200-1774382400@www.tullingesk.se
SUMMARY:HD17
DESCRIPTION:10 x 3’\, 1’ vila. \nAnsvarig: Simon
URL:https://www.tullingesk.se/aktivitet/hd17-34-14/
LOCATION:TSK-klubbstugan\, Flottiljvägen 56\, Tullinge\, 146 38\, Sweden
GEO:59.193432193406;17.901717405743
X-APPLE-STRUCTURED-LOCATION;VALUE=URI;X-ADDRESS=TSK-klubbstugan Flottiljvägen 56 Tullinge 146 38 Sweden;X-APPLE-RADIUS=500;X-TITLE=Flottiljvägen 56:geo:17.901717405743,59.193432193406
END:VEVENT
BEGIN:VEVENT
DTSTART;TZID=Europe/Stockholm:20260324T180000
DTEND;TZID=Europe/Stockholm:20260324T210000
DTSTAMP:20260420T041258
CREATED:20260301T103214Z
LAST-MODIFIED:20260301T103214Z
UID:10003009-1774375200-1774386000@www.tullingesk.se
SUMMARY:Soppa och städa
DESCRIPTION:Soppa: M+E Fryxell/K+E Berggren/E Nygren-Wåhlin/V Kauranen \nStäd Dam: Carina Ronge och Linnea Fryxell \nStäd Herr: Patrik Leickt och Jörgen Rydenius
URL:https://www.tullingesk.se/aktivitet/soppa-och-stada-98/
LOCATION:TSK-klubbstugan\, Flottiljvägen 56\, Tullinge\, 146 38\, Sweden
CATEGORIES:Städvecka / tisdagssoppa
GEO:59.193432193406;17.901717405743
X-APPLE-STRUCTURED-LOCATION;VALUE=URI;X-ADDRESS=TSK-klubbstugan Flottiljvägen 56 Tullinge 146 38 Sweden;X-APPLE-RADIUS=500;X-TITLE=Flottiljvägen 56:geo:17.901717405743,59.193432193406
END:VEVENT
BEGIN:VEVENT
DTSTART;TZID=Europe/Stockholm:20260324T193000
DTEND;TZID=Europe/Stockholm:20260324T203000
DTSTAMP:20260420T041258
CREATED:20260322T144943Z
LAST-MODIFIED:20260322T144943Z
UID:10003137-1774380600-1774384200@www.tullingesk.se
SUMMARY:Styrelserummet bokat av Kassör
DESCRIPTION:
URL:https://www.tullingesk.se/aktivitet/styrelserummet-bokat-av-kassor/
LOCATION:TSK-klubbstugan\, Flottiljvägen 56\, Tullinge\, 146 38\, Sweden
GEO:59.193432193406;17.901717405743
X-APPLE-STRUCTURED-LOCATION;VALUE=URI;X-ADDRESS=TSK-klubbstugan Flottiljvägen 56 Tullinge 146 38 Sweden;X-APPLE-RADIUS=500;X-TITLE=Flottiljvägen 56:geo:17.901717405743,59.193432193406
END:VEVENT
BEGIN:VEVENT
DTSTART;TZID=Europe/Stockholm:20260324T193000
DTEND;TZID=Europe/Stockholm:20260324T210000
DTSTAMP:20260420T041258
CREATED:20260322T121019Z
LAST-MODIFIED:20260322T121019Z
UID:10003135-1774380600-1774386000@www.tullingesk.se
SUMMARY:1316-ledarna bokar mötesrummet vid entrén
DESCRIPTION:/Johan
URL:https://www.tullingesk.se/aktivitet/1316-ledarna-bokar-motesrummet-vid-entren/
LOCATION:TSK-klubbstugan\, Flottiljvägen 56\, Tullinge\, 146 38\, Sweden
GEO:59.193432193406;17.901717405743
X-APPLE-STRUCTURED-LOCATION;VALUE=URI;X-ADDRESS=TSK-klubbstugan Flottiljvägen 56 Tullinge 146 38 Sweden;X-APPLE-RADIUS=500;X-TITLE=Flottiljvägen 56:geo:17.901717405743,59.193432193406
END:VEVENT
BEGIN:VEVENT
DTSTART;TZID=Europe/Stockholm:20260325T180000
DTEND;TZID=Europe/Stockholm:20260325T203000
DTSTAMP:20260420T041258
CREATED:20260102T172653Z
LAST-MODIFIED:20260102T172653Z
UID:10002792-1774461600-1774470600@www.tullingesk.se
SUMMARY:Snättringe nattcup #5
DESCRIPTION:
URL:https://www.tullingesk.se/aktivitet/snattringe-nattcup-5/
LOCATION:TSK-klubbstugan\, Flottiljvägen 56\, Tullinge\, 146 38\, Sweden
GEO:59.193432193406;17.901717405743
X-APPLE-STRUCTURED-LOCATION;VALUE=URI;X-ADDRESS=TSK-klubbstugan Flottiljvägen 56 Tullinge 146 38 Sweden;X-APPLE-RADIUS=500;X-TITLE=Flottiljvägen 56:geo:17.901717405743,59.193432193406
END:VEVENT
BEGIN:VEVENT
DTSTART;TZID=Europe/Stockholm:20260326T173000
DTEND;TZID=Europe/Stockholm:20260326T183000
DTSTAMP:20260420T041258
CREATED:20260322T121503Z
LAST-MODIFIED:20260323T095032Z
UID:10003136-1774546200-1774549800@www.tullingesk.se
SUMMARY:1316-gruppen: Sprintträning Flemingsberg C kl 17:30
DESCRIPTION:Samling Flemingsberg C. https://maps.app.goo.gl/Wu6J7cPHno71tSJCA \n3 slingor 1\,5-2\,0km
URL:https://www.tullingesk.se/aktivitet/sprinttraning-flemingsberg-kl-1730/
LOCATION:Flemingsberg C
END:VEVENT
END:VCALENDAR