BEGIN:VCALENDAR
VERSION:2.0
PRODID:-//Tullinge SK - ECPv6.15.20//NONSGML v1.0//EN
CALSCALE:GREGORIAN
METHOD:PUBLISH
X-WR-CALNAME:Tullinge SK
X-ORIGINAL-URL:https://www.tullingesk.se
X-WR-CALDESC:Händelser för Tullinge SK
REFRESH-INTERVAL;VALUE=DURATION:PT1H
X-Robots-Tag:noindex
X-PUBLISHED-TTL:PT1H
BEGIN:VTIMEZONE
TZID:Europe/Stockholm
BEGIN:DAYLIGHT
TZOFFSETFROM:+0100
TZOFFSETTO:+0200
TZNAME:CEST
DTSTART:20240331T010000
END:DAYLIGHT
BEGIN:STANDARD
TZOFFSETFROM:+0200
TZOFFSETTO:+0100
TZNAME:CET
DTSTART:20241027T010000
END:STANDARD
BEGIN:DAYLIGHT
TZOFFSETFROM:+0100
TZOFFSETTO:+0200
TZNAME:CEST
DTSTART:20250330T010000
END:DAYLIGHT
BEGIN:STANDARD
TZOFFSETFROM:+0200
TZOFFSETTO:+0100
TZNAME:CET
DTSTART:20251026T010000
END:STANDARD
BEGIN:DAYLIGHT
TZOFFSETFROM:+0100
TZOFFSETTO:+0200
TZNAME:CEST
DTSTART:20260329T010000
END:DAYLIGHT
BEGIN:STANDARD
TZOFFSETFROM:+0200
TZOFFSETTO:+0100
TZNAME:CET
DTSTART:20261025T010000
END:STANDARD
END:VTIMEZONE
BEGIN:VEVENT
DTSTART;TZID=Europe/Stockholm:20251110T183000
DTEND;TZID=Europe/Stockholm:20251110T210000
DTSTAMP:20260423T002123
CREATED:20251110T191007Z
LAST-MODIFIED:20251110T191158Z
UID:10002713-1762799400-1762808400@www.tullingesk.se
SUMMARY:Snättringe nattcup #2
DESCRIPTION:
URL:https://www.tullingesk.se/aktivitet/msbn-2/
LOCATION:TSK-klubbstugan\, Flottiljvägen 56\, Tullinge\, 146 38\, Sweden
GEO:59.193432193406;17.901717405743
X-APPLE-STRUCTURED-LOCATION;VALUE=URI;X-ADDRESS=TSK-klubbstugan Flottiljvägen 56 Tullinge 146 38 Sweden;X-APPLE-RADIUS=500;X-TITLE=Flottiljvägen 56:geo:17.901717405743,59.193432193406
END:VEVENT
BEGIN:VEVENT
DTSTART;TZID=Europe/Stockholm:20251110T190000
DTEND;TZID=Europe/Stockholm:20251110T200000
DTSTAMP:20260423T002123
CREATED:20251003T073124Z
LAST-MODIFIED:20260330T145355Z
UID:10002608-1762801200-1762804800@www.tullingesk.se
SUMMARY:Styrkegympa -för alla!
DESCRIPTION:Tid: Måndagar kl 19-20\nPlats: Parkhemsskolans gympahall\nVem: TSK-medlemmar\nTa med: Inneskor & vattenflaska\nFörkunskaper: INGA! Alla kan vara med på sin nivå!\nVad: Styrka för hela kroppen. Enkla övningar\, oftast med egna kroppen som vikt men ibland även med gummiband (finns på plats). \n  \n  \n 
URL:https://www.tullingesk.se/aktivitet/tsk-gympa/2025-11-10/
LOCATION:Parkhemsskolans gympahall
END:VEVENT
BEGIN:VEVENT
DTSTART;TZID=Europe/Stockholm:20251111T180000
DTEND;TZID=Europe/Stockholm:20251111T190000
DTSTAMP:20260423T002123
CREATED:20251103T203430Z
LAST-MODIFIED:20251109T200846Z
UID:10001611-1762884000-1762887600@www.tullingesk.se
SUMMARY:Grupp 4 tisdagar
DESCRIPTION:Grupp 4 – gruppen för alla! \nFör instruktioner och lista över alla ansvariga:  https://www.tullingesk.se/bredd-motionar/ \nV46 Kristin Bergh & Ingemar Åkerman \nIngen annan organiserad träning för Grupp4 än Getaren Runt. Reflexrundan finns som ett lättsammare alternativ.
URL:https://www.tullingesk.se/aktivitet/grupp-4-tisdagar-46/
LOCATION:TSK-klubbstugan\, Flottiljvägen 56\, Tullinge\, 146 38\, Sweden
GEO:59.193432193406;17.901717405743
X-APPLE-STRUCTURED-LOCATION;VALUE=URI;X-ADDRESS=TSK-klubbstugan Flottiljvägen 56 Tullinge 146 38 Sweden;X-APPLE-RADIUS=500;X-TITLE=Flottiljvägen 56:geo:17.901717405743,59.193432193406
END:VEVENT
BEGIN:VEVENT
DTSTART;TZID=Europe/Stockholm:20251111T180000
DTEND;TZID=Europe/Stockholm:20251111T190000
DTSTAMP:20260423T002123
CREATED:20251111T092834Z
LAST-MODIFIED:20251111T092834Z
UID:10002719-1762884000-1762887600@www.tullingesk.se
SUMMARY:9-12 - tisdagsträning
DESCRIPTION:
URL:https://www.tullingesk.se/aktivitet/9-12-tisdagstraning-10/
LOCATION:TSK-klubbstugan\, Flottiljvägen 56\, Tullinge\, 146 38\, Sweden
GEO:59.193432193406;17.901717405743
X-APPLE-STRUCTURED-LOCATION;VALUE=URI;X-ADDRESS=TSK-klubbstugan Flottiljvägen 56 Tullinge 146 38 Sweden;X-APPLE-RADIUS=500;X-TITLE=Flottiljvägen 56:geo:17.901717405743,59.193432193406
END:VEVENT
BEGIN:VEVENT
DTSTART;TZID=Europe/Stockholm:20251111T180000
DTEND;TZID=Europe/Stockholm:20251111T200000
DTSTAMP:20260423T002123
CREATED:20250708T181756Z
LAST-MODIFIED:20251026T124755Z
UID:10000915-1762884000-1762891200@www.tullingesk.se
SUMMARY:HD17
DESCRIPTION:Ingen intervaller. Vi kör Getaren runt istället. \nhttps://eventor.orientering.se/Events/Show/56483
URL:https://www.tullingesk.se/aktivitet/hd17-100/
LOCATION:TSK-klubbstugan\, Flottiljvägen 56\, Tullinge\, 146 38\, Sweden
GEO:59.193432193406;17.901717405743
X-APPLE-STRUCTURED-LOCATION;VALUE=URI;X-ADDRESS=TSK-klubbstugan Flottiljvägen 56 Tullinge 146 38 Sweden;X-APPLE-RADIUS=500;X-TITLE=Flottiljvägen 56:geo:17.901717405743,59.193432193406
END:VEVENT
BEGIN:VEVENT
DTSTART;TZID=Europe/Stockholm:20251111T180000
DTEND;TZID=Europe/Stockholm:20251111T210000
DTSTAMP:20260423T002123
CREATED:20250810T130229Z
LAST-MODIFIED:20250810T130229Z
UID:10001940-1762884000-1762894800@www.tullingesk.se
SUMMARY:Soppa och städa
DESCRIPTION:Soppa: K+R Imark/B+L Lönnkvist/Jenny Bylund \nStäd Dam: Carina Stensson och Gunilla Eriksson \nStäd Herr: Ingemar Åkerman och Mats Berg
URL:https://www.tullingesk.se/aktivitet/soppa-och-stada-88/
LOCATION:TSK-klubbstugan\, Flottiljvägen 56\, Tullinge\, 146 38\, Sweden
CATEGORIES:Städvecka / tisdagssoppa
GEO:59.193432193406;17.901717405743
X-APPLE-STRUCTURED-LOCATION;VALUE=URI;X-ADDRESS=TSK-klubbstugan Flottiljvägen 56 Tullinge 146 38 Sweden;X-APPLE-RADIUS=500;X-TITLE=Flottiljvägen 56:geo:17.901717405743,59.193432193406
END:VEVENT
BEGIN:VEVENT
DTSTART;TZID=Europe/Stockholm:20251111T181500
DTEND;TZID=Europe/Stockholm:20251111T203000
DTSTAMP:20260423T002123
CREATED:20250915T151606Z
LAST-MODIFIED:20250915T151606Z
UID:10002331-1762884900-1762893000@www.tullingesk.se
SUMMARY:Getaren runt - Löpning- & MTB-klasser
DESCRIPTION:Samling i klubbstugan vid 18-tiden.\nStart sker ca: 18:15.\nOrdinarie anmälan göras via Eventor\, efteranmälan kan även göras i klubbstugan strax innan start.\nHåll utkik här och under nyheter för uppdaterad information.
URL:https://www.tullingesk.se/aktivitet/getaren-runt-lopning-mtb-klasser-2/
LOCATION:TSK-klubbstugan\, Flottiljvägen 56\, Tullinge\, 146 38\, Sweden
CATEGORIES:Supporterklubben
GEO:59.193432193406;17.901717405743
X-APPLE-STRUCTURED-LOCATION;VALUE=URI;X-ADDRESS=TSK-klubbstugan Flottiljvägen 56 Tullinge 146 38 Sweden;X-APPLE-RADIUS=500;X-TITLE=Flottiljvägen 56:geo:17.901717405743,59.193432193406
END:VEVENT
BEGIN:VEVENT
DTSTART;TZID=Europe/Stockholm:20251113T180000
DTEND;TZID=Europe/Stockholm:20251113T190000
DTSTAMP:20260423T002123
CREATED:20251111T093438Z
LAST-MODIFIED:20251111T103559Z
UID:10002720-1763056800-1763060400@www.tullingesk.se
SUMMARY:13-16 - torsdagsträning stigintervaller med karta
DESCRIPTION:Enkel linjeorientering med intervaller i olika längd beroende på ambitionsnivå. Vi kör på mindre och större stigar. Medtag pannlampa\, kompass och skor för stiglöpning exempelvis trailskor eller orienteringsskor.
URL:https://www.tullingesk.se/aktivitet/13-16-torsdagstraning-stigintervaller-med-karta/
LOCATION:TSK-klubbstugan\, Flottiljvägen 56\, Tullinge\, 146 38\, Sweden
GEO:59.193432193406;17.901717405743
X-APPLE-STRUCTURED-LOCATION;VALUE=URI;X-ADDRESS=TSK-klubbstugan Flottiljvägen 56 Tullinge 146 38 Sweden;X-APPLE-RADIUS=500;X-TITLE=Flottiljvägen 56:geo:17.901717405743,59.193432193406
END:VEVENT
BEGIN:VEVENT
DTSTART;TZID=Europe/Stockholm:20251114T080000
DTEND;TZID=Europe/Stockholm:20251114T170000
DTSTAMP:20260423T002123
CREATED:20251105T190806Z
LAST-MODIFIED:20251105T190806Z
UID:10002704-1763107200-1763139600@www.tullingesk.se
SUMMARY:Stugan bokad /SOFT utbildning Lena S
DESCRIPTION:
URL:https://www.tullingesk.se/aktivitet/stugan-bokad-soft-utbildning-lena-s/
LOCATION:TSK-klubbstugan\, Flottiljvägen 56\, Tullinge\, 146 38\, Sweden
CATEGORIES:Uthyrning klubbstugan
GEO:59.193432193406;17.901717405743
X-APPLE-STRUCTURED-LOCATION;VALUE=URI;X-ADDRESS=TSK-klubbstugan Flottiljvägen 56 Tullinge 146 38 Sweden;X-APPLE-RADIUS=500;X-TITLE=Flottiljvägen 56:geo:17.901717405743,59.193432193406
END:VEVENT
BEGIN:VEVENT
DTSTART;VALUE=DATE:20251115
DTEND;VALUE=DATE:20251116
DTSTAMP:20260423T002123
CREATED:20250828T183537Z
LAST-MODIFIED:20250828T183537Z
UID:10002040-1763164800-1763251199@www.tullingesk.se
SUMMARY:Stugan uthyrd/SOFT
DESCRIPTION:
URL:https://www.tullingesk.se/aktivitet/stugan-uthyrd-soft/
LOCATION:TSK-klubbstugan\, Flottiljvägen 56\, Tullinge\, 146 38\, Sweden
CATEGORIES:Uthyrning klubbstugan
GEO:59.193432193406;17.901717405743
X-APPLE-STRUCTURED-LOCATION;VALUE=URI;X-ADDRESS=TSK-klubbstugan Flottiljvägen 56 Tullinge 146 38 Sweden;X-APPLE-RADIUS=500;X-TITLE=Flottiljvägen 56:geo:17.901717405743,59.193432193406
END:VEVENT
BEGIN:VEVENT
DTSTART;TZID=Europe/Stockholm:20251116T090000
DTEND;TZID=Europe/Stockholm:20251116T140000
DTSTAMP:20260423T002123
CREATED:20250915T150127Z
LAST-MODIFIED:20250915T150127Z
UID:10002315-1763283600-1763301600@www.tullingesk.se
SUMMARY:Tipspromenad från TSK-stugan\, Brantbrinks IP
DESCRIPTION:Tipspromenad med barn och vuxenfrågor.\nMotionsbingo\nStart kl10-12\nFikaservering kl.10-13\nLotterier\nVälkomna!\nSupporterklubben
URL:https://www.tullingesk.se/aktivitet/tipspromenad-fran-tsk-stugan-brantbrinks-ip-18/
LOCATION:TSK-klubbstugan\, Flottiljvägen 56\, Tullinge\, 146 38\, Sweden
GEO:59.193432193406;17.901717405743
X-APPLE-STRUCTURED-LOCATION;VALUE=URI;X-ADDRESS=TSK-klubbstugan Flottiljvägen 56 Tullinge 146 38 Sweden;X-APPLE-RADIUS=500;X-TITLE=Flottiljvägen 56:geo:17.901717405743,59.193432193406
END:VEVENT
BEGIN:VEVENT
DTSTART;TZID=Europe/Stockholm:20251116T100000
DTEND;TZID=Europe/Stockholm:20251116T120000
DTSTAMP:20260423T002123
CREATED:20251110T185422Z
LAST-MODIFIED:20251110T185422Z
UID:10002707-1763287200-1763294400@www.tullingesk.se
SUMMARY:Långpass från Brantan
DESCRIPTION:Ansvarig: Lugo/Yvonne
URL:https://www.tullingesk.se/aktivitet/langpass-fran-brantan-2/
LOCATION:TSK-klubbstugan\, Flottiljvägen 56\, Tullinge\, 146 38\, Sweden
GEO:59.193432193406;17.901717405743
X-APPLE-STRUCTURED-LOCATION;VALUE=URI;X-ADDRESS=TSK-klubbstugan Flottiljvägen 56 Tullinge 146 38 Sweden;X-APPLE-RADIUS=500;X-TITLE=Flottiljvägen 56:geo:17.901717405743,59.193432193406
END:VEVENT
END:VCALENDAR