BEGIN:VCALENDAR
VERSION:2.0
PRODID:-//Tullinge SK - ECPv6.15.20//NONSGML v1.0//EN
CALSCALE:GREGORIAN
METHOD:PUBLISH
X-WR-CALNAME:Tullinge SK
X-ORIGINAL-URL:https://www.tullingesk.se
X-WR-CALDESC:Händelser för Tullinge SK
REFRESH-INTERVAL;VALUE=DURATION:PT1H
X-Robots-Tag:noindex
X-PUBLISHED-TTL:PT1H
BEGIN:VTIMEZONE
TZID:Europe/Stockholm
BEGIN:DAYLIGHT
TZOFFSETFROM:+0100
TZOFFSETTO:+0200
TZNAME:CEST
DTSTART:20240331T010000
END:DAYLIGHT
BEGIN:STANDARD
TZOFFSETFROM:+0200
TZOFFSETTO:+0100
TZNAME:CET
DTSTART:20241027T010000
END:STANDARD
BEGIN:DAYLIGHT
TZOFFSETFROM:+0100
TZOFFSETTO:+0200
TZNAME:CEST
DTSTART:20250330T010000
END:DAYLIGHT
BEGIN:STANDARD
TZOFFSETFROM:+0200
TZOFFSETTO:+0100
TZNAME:CET
DTSTART:20251026T010000
END:STANDARD
BEGIN:DAYLIGHT
TZOFFSETFROM:+0100
TZOFFSETTO:+0200
TZNAME:CEST
DTSTART:20260329T010000
END:DAYLIGHT
BEGIN:STANDARD
TZOFFSETFROM:+0200
TZOFFSETTO:+0100
TZNAME:CET
DTSTART:20261025T010000
END:STANDARD
END:VTIMEZONE
BEGIN:VEVENT
DTSTART;TZID=Europe/Stockholm:20250512T180000
DTEND;TZID=Europe/Stockholm:20250512T190000
DTSTAMP:20260421T234851
CREATED:20250507T060215Z
LAST-MODIFIED:20250507T060215Z
UID:10001827-1747072800-1747076400@www.tullingesk.se
SUMMARY:1316: Styrka
DESCRIPTION:Ben\, mage och rygg. \nVi kör utomhus\, samling utanför gymmet. \n/Johan
URL:https://www.tullingesk.se/aktivitet/1316-styrka-3/
LOCATION:TSK-klubbstugan\, Flottiljvägen 56\, Tullinge\, 146 38\, Sweden
GEO:59.193432193406;17.901717405743
X-APPLE-STRUCTURED-LOCATION;VALUE=URI;X-ADDRESS=TSK-klubbstugan Flottiljvägen 56 Tullinge 146 38 Sweden;X-APPLE-RADIUS=500;X-TITLE=Flottiljvägen 56:geo:17.901717405743,59.193432193406
END:VEVENT
BEGIN:VEVENT
DTSTART;TZID=Europe/Stockholm:20250513T080000
DTEND;TZID=Europe/Stockholm:20250513T110000
DTSTAMP:20260421T234851
CREATED:20250403T171902Z
LAST-MODIFIED:20250403T171902Z
UID:10001740-1747123200-1747134000@www.tullingesk.se
SUMMARY:Stugan uthyrd/KI studie Peter/Linda Bergman
DESCRIPTION:
URL:https://www.tullingesk.se/aktivitet/stugan-uthyrd-ki-studie-peter-linda-bergman-3/
LOCATION:TSK-klubbstugan\, Flottiljvägen 56\, Tullinge\, 146 38\, Sweden
CATEGORIES:Uthyrning klubbstugan
GEO:59.193432193406;17.901717405743
X-APPLE-STRUCTURED-LOCATION;VALUE=URI;X-ADDRESS=TSK-klubbstugan Flottiljvägen 56 Tullinge 146 38 Sweden;X-APPLE-RADIUS=500;X-TITLE=Flottiljvägen 56:geo:17.901717405743,59.193432193406
END:VEVENT
BEGIN:VEVENT
DTSTART;TZID=Europe/Stockholm:20250513T180000
DTEND;TZID=Europe/Stockholm:20250513T190000
DTSTAMP:20260421T234851
CREATED:20250410T062714Z
LAST-MODIFIED:20250410T062714Z
UID:10001748-1747159200-1747162800@www.tullingesk.se
SUMMARY:Träsktrollen
DESCRIPTION:Barn födda 2017-2018
URL:https://www.tullingesk.se/aktivitet/trasktrollen-5/2025-05-13/
LOCATION:TSK-klubbstugan\, Flottiljvägen 56\, Tullinge\, 146 38\, Sweden
CATEGORIES:Ungdomskommittén
GEO:59.193432193406;17.901717405743
X-APPLE-STRUCTURED-LOCATION;VALUE=URI;X-ADDRESS=TSK-klubbstugan Flottiljvägen 56 Tullinge 146 38 Sweden;X-APPLE-RADIUS=500;X-TITLE=Flottiljvägen 56:geo:17.901717405743,59.193432193406
END:VEVENT
BEGIN:VEVENT
DTSTART;TZID=Europe/Stockholm:20250513T180000
DTEND;TZID=Europe/Stockholm:20250513T190000
DTSTAMP:20260421T234851
CREATED:20250427T173049Z
LAST-MODIFIED:20250427T173050Z
UID:10001585-1747159200-1747162800@www.tullingesk.se
SUMMARY:Grupp 4 tisdagar
DESCRIPTION:Grupp 4 – gruppen för alla! \nFör instruktioner och lista över alla ansvariga:  https://www.tullingesk.se/bredd-motionar/ \nV20 – hela klubben träning! För alla mao!
URL:https://www.tullingesk.se/aktivitet/grupp-4-tisdagar-20/
LOCATION:TSK-klubbstugan\, Flottiljvägen 56\, Tullinge\, 146 38\, Sweden
GEO:59.193432193406;17.901717405743
X-APPLE-STRUCTURED-LOCATION;VALUE=URI;X-ADDRESS=TSK-klubbstugan Flottiljvägen 56 Tullinge 146 38 Sweden;X-APPLE-RADIUS=500;X-TITLE=Flottiljvägen 56:geo:17.901717405743,59.193432193406
END:VEVENT
BEGIN:VEVENT
DTSTART;TZID=Europe/Stockholm:20250513T180000
DTEND;TZID=Europe/Stockholm:20250513T190000
DTSTAMP:20260421T234851
CREATED:20250507T132805Z
LAST-MODIFIED:20250507T135303Z
UID:10001828-1747159200-1747162800@www.tullingesk.se
SUMMARY:Hela-klubben-träning
DESCRIPTION:Alla välkomna på helaklubbenträning – OL-intervaller orange-svart nivå. Banlängder 3\,5-5\,5-7\,5 km.
URL:https://www.tullingesk.se/aktivitet/hela-klubben-traning/
END:VEVENT
BEGIN:VEVENT
DTSTART;TZID=Europe/Stockholm:20250513T180000
DTEND;TZID=Europe/Stockholm:20250513T191500
DTSTAMP:20260421T234851
CREATED:20250511T153302Z
LAST-MODIFIED:20250511T153302Z
UID:10001832-1747159200-1747163700@www.tullingesk.se
SUMMARY:1316-gruppen: hela klubben intervall
DESCRIPTION:
URL:https://www.tullingesk.se/aktivitet/1316-gruppen-hela-klubben-intervall/
LOCATION:TSK-klubbstugan\, Flottiljvägen 56\, Tullinge\, 146 38\, Sweden
GEO:59.193432193406;17.901717405743
X-APPLE-STRUCTURED-LOCATION;VALUE=URI;X-ADDRESS=TSK-klubbstugan Flottiljvägen 56 Tullinge 146 38 Sweden;X-APPLE-RADIUS=500;X-TITLE=Flottiljvägen 56:geo:17.901717405743,59.193432193406
END:VEVENT
BEGIN:VEVENT
DTSTART;TZID=Europe/Stockholm:20250513T180000
DTEND;TZID=Europe/Stockholm:20250513T191500
DTSTAMP:20260421T234851
CREATED:20250513T165349Z
LAST-MODIFIED:20250513T183720Z
UID:10001836-1747159200-1747163700@www.tullingesk.se
SUMMARY:9-12 träning
DESCRIPTION:Tisdagsträning för 9-12 gruppen (födda 2013-2016)
URL:https://www.tullingesk.se/aktivitet/9-12-traning/
LOCATION:TSK-klubbstugan\, Flottiljvägen 56\, Tullinge\, 146 38\, Sweden
GEO:59.193432193406;17.901717405743
X-APPLE-STRUCTURED-LOCATION;VALUE=URI;X-ADDRESS=TSK-klubbstugan Flottiljvägen 56 Tullinge 146 38 Sweden;X-APPLE-RADIUS=500;X-TITLE=Flottiljvägen 56:geo:17.901717405743,59.193432193406
END:VEVENT
BEGIN:VEVENT
DTSTART;TZID=Europe/Stockholm:20250513T180000
DTEND;TZID=Europe/Stockholm:20250513T200000
DTSTAMP:20260421T234851
CREATED:20250511T131733Z
LAST-MODIFIED:20250511T131938Z
UID:10000912-1747159200-1747166400@www.tullingesk.se
SUMMARY:HD17: Hela klubbenträning
DESCRIPTION:Vi kör hela klubbenträningen\, det blir OL-intervaller orange-svart nivå. Banlängder 3\,5-5\,5-7\,5 km
URL:https://www.tullingesk.se/aktivitet/hd17-81/
LOCATION:TSK-klubbstugan\, Flottiljvägen 56\, Tullinge\, 146 38\, Sweden
GEO:59.193432193406;17.901717405743
X-APPLE-STRUCTURED-LOCATION;VALUE=URI;X-ADDRESS=TSK-klubbstugan Flottiljvägen 56 Tullinge 146 38 Sweden;X-APPLE-RADIUS=500;X-TITLE=Flottiljvägen 56:geo:17.901717405743,59.193432193406
END:VEVENT
BEGIN:VEVENT
DTSTART;TZID=Europe/Stockholm:20250513T180000
DTEND;TZID=Europe/Stockholm:20250513T210000
DTSTAMP:20260421T234851
CREATED:20250218T190119Z
LAST-MODIFIED:20250218T190119Z
UID:10001708-1747159200-1747170000@www.tullingesk.se
SUMMARY:Soppa och städa
DESCRIPTION:Soppa: A Hultqvist/ H Larsson/M Brice/O Andersson/M Fellbaum \nStäd Dam: Magdalena Hoffsten-Arkäng och Linda Fredriksson \nStäd Herr: Patrik Tjärdal och Rudolf Hersen
URL:https://www.tullingesk.se/aktivitet/soppa-och-stada-71/
LOCATION:TSK-klubbstugan\, Flottiljvägen 56\, Tullinge\, 146 38\, Sweden
CATEGORIES:Städvecka / tisdagssoppa
GEO:59.193432193406;17.901717405743
X-APPLE-STRUCTURED-LOCATION;VALUE=URI;X-ADDRESS=TSK-klubbstugan Flottiljvägen 56 Tullinge 146 38 Sweden;X-APPLE-RADIUS=500;X-TITLE=Flottiljvägen 56:geo:17.901717405743,59.193432193406
END:VEVENT
BEGIN:VEVENT
DTSTART;TZID=Europe/Stockholm:20250513T193000
DTEND;TZID=Europe/Stockholm:20250513T210000
DTSTAMP:20260421T234851
CREATED:20250512T171207Z
LAST-MODIFIED:20250512T171207Z
UID:10001833-1747164600-1747170000@www.tullingesk.se
SUMMARY:Lilla mötesrummet bokat/Per S Lida loop info
DESCRIPTION:
URL:https://www.tullingesk.se/aktivitet/lilla-motesrummet-bokat-per-s-lida-loop-info/
LOCATION:TSK-klubbstugan\, Flottiljvägen 56\, Tullinge\, 146 38\, Sweden
CATEGORIES:Uthyrning klubbstugan
GEO:59.193432193406;17.901717405743
X-APPLE-STRUCTURED-LOCATION;VALUE=URI;X-ADDRESS=TSK-klubbstugan Flottiljvägen 56 Tullinge 146 38 Sweden;X-APPLE-RADIUS=500;X-TITLE=Flottiljvägen 56:geo:17.901717405743,59.193432193406
END:VEVENT
BEGIN:VEVENT
DTSTART;TZID=Europe/Stockholm:20250513T193000
DTEND;TZID=Europe/Stockholm:20250513T213000
DTSTAMP:20260421T234851
CREATED:20250428T181144Z
LAST-MODIFIED:20250428T181144Z
UID:10001821-1747164600-1747171800@www.tullingesk.se
SUMMARY:Styrelserummet bokad/Ung.komm Åsa F
DESCRIPTION:
URL:https://www.tullingesk.se/aktivitet/styrelserummet-bokad-ung-komm-asa-f-3/
LOCATION:TSK-klubbstugan\, Flottiljvägen 56\, Tullinge\, 146 38\, Sweden
CATEGORIES:Uthyrning klubbstugan
GEO:59.193432193406;17.901717405743
X-APPLE-STRUCTURED-LOCATION;VALUE=URI;X-ADDRESS=TSK-klubbstugan Flottiljvägen 56 Tullinge 146 38 Sweden;X-APPLE-RADIUS=500;X-TITLE=Flottiljvägen 56:geo:17.901717405743,59.193432193406
END:VEVENT
BEGIN:VEVENT
DTSTART;TZID=Europe/Stockholm:20250514T080000
DTEND;TZID=Europe/Stockholm:20250514T110000
DTSTAMP:20260421T234851
CREATED:20250403T171937Z
LAST-MODIFIED:20250403T171937Z
UID:10001741-1747209600-1747220400@www.tullingesk.se
SUMMARY:Stugan uthyrd/KI studie Peter/Linda Bergman
DESCRIPTION:
URL:https://www.tullingesk.se/aktivitet/stugan-uthyrd-ki-studie-peter-linda-bergman-4/
LOCATION:TSK-klubbstugan\, Flottiljvägen 56\, Tullinge\, 146 38\, Sweden
CATEGORIES:Uthyrning klubbstugan
GEO:59.193432193406;17.901717405743
X-APPLE-STRUCTURED-LOCATION;VALUE=URI;X-ADDRESS=TSK-klubbstugan Flottiljvägen 56 Tullinge 146 38 Sweden;X-APPLE-RADIUS=500;X-TITLE=Flottiljvägen 56:geo:17.901717405743,59.193432193406
END:VEVENT
BEGIN:VEVENT
DTSTART;TZID=Europe/Stockholm:20250515T080000
DTEND;TZID=Europe/Stockholm:20250515T120000
DTSTAMP:20260421T234851
CREATED:20250119T165549Z
LAST-MODIFIED:20250119T170852Z
UID:10001642-1747296000-1747310400@www.tullingesk.se
SUMMARY:Stugan uthyrd/Eklid fritids
DESCRIPTION:
URL:https://www.tullingesk.se/aktivitet/stugan-uthyrd-ekkid-fritids-2/
LOCATION:TSK-klubbstugan\, Flottiljvägen 56\, Tullinge\, 146 38\, Sweden
CATEGORIES:Uthyrning klubbstugan
GEO:59.193432193406;17.901717405743
X-APPLE-STRUCTURED-LOCATION;VALUE=URI;X-ADDRESS=TSK-klubbstugan Flottiljvägen 56 Tullinge 146 38 Sweden;X-APPLE-RADIUS=500;X-TITLE=Flottiljvägen 56:geo:17.901717405743,59.193432193406
END:VEVENT
BEGIN:VEVENT
DTSTART;TZID=Europe/Stockholm:20250515T180000
DTEND;TZID=Europe/Stockholm:20250515T193000
DTSTAMP:20260421T234851
CREATED:20250509T064714Z
LAST-MODIFIED:20250509T105142Z
UID:10001830-1747332000-1747337400@www.tullingesk.se
SUMMARY:Teknikträning - Gömmaren
DESCRIPTION:Teknikträning öppen för alla medlemmar \nAnmälan senast onsdag kl 12 via Eventor: https://eventor.orientering.se/Activities/Show/23680 \nSamling:\nGömmarens västra spets (samma ställe som oftast): https://maps.app.goo.gl/LXVQjN9BgLyW6jZKA \nBanor/tema:\nViolett: Brunbild\nOrange: Bana med fokus på höjdkurvor. Två delad bana. Vanlig/Brunbild\nGul-vit: Vanlig bana \nBanlängder:\nViolett: 5\,5km 100% Brunbild\nOrange: 3\,5km 50% Brunbild\nGul: 3\,1km\nVit: 2\,3 km \nAnsvariga ledare:\n9-12 Ledare: Mats + Pelle\, Närvaro: Simon\n13-16 Ledare: Calle \nBanläggare: Björn \nUtskrift: Björn \nUtsättning: Calle\nInplockning: Erik B \nMedtag gärna egen plastficka i storlek A4. \n 
URL:https://www.tullingesk.se/aktivitet/tekniktraning-gommaren-3/
END:VEVENT
BEGIN:VEVENT
DTSTART;TZID=Europe/Stockholm:20250516T080000
DTEND;TZID=Europe/Stockholm:20250516T140000
DTSTAMP:20260421T234851
CREATED:20250119T165726Z
LAST-MODIFIED:20250119T165726Z
UID:10001643-1747382400-1747404000@www.tullingesk.se
SUMMARY:Stugan uthyrd/Björkhaga skola
DESCRIPTION:
URL:https://www.tullingesk.se/aktivitet/stugan-uthyrd-bjorkhaga-skola/
LOCATION:TSK-klubbstugan\, Flottiljvägen 56\, Tullinge\, 146 38\, Sweden
CATEGORIES:Uthyrning klubbstugan
GEO:59.193432193406;17.901717405743
X-APPLE-STRUCTURED-LOCATION;VALUE=URI;X-ADDRESS=TSK-klubbstugan Flottiljvägen 56 Tullinge 146 38 Sweden;X-APPLE-RADIUS=500;X-TITLE=Flottiljvägen 56:geo:17.901717405743,59.193432193406
END:VEVENT
BEGIN:VEVENT
DTSTART;TZID=Europe/Stockholm:20250517T130000
DTEND;TZID=Europe/Stockholm:20250518T100000
DTSTAMP:20260421T234851
CREATED:20241014T185316Z
LAST-MODIFIED:20241014T185316Z
UID:10001424-1747486800-1747562400@www.tullingesk.se
SUMMARY:Stugan uthyrd/Maya Lloyd
DESCRIPTION:
URL:https://www.tullingesk.se/aktivitet/stugan-uthyrd-maya-lloyd/
LOCATION:TSK-klubbstugan\, Flottiljvägen 56\, Tullinge\, 146 38\, Sweden
CATEGORIES:Uthyrning klubbstugan
GEO:59.193432193406;17.901717405743
X-APPLE-STRUCTURED-LOCATION;VALUE=URI;X-ADDRESS=TSK-klubbstugan Flottiljvägen 56 Tullinge 146 38 Sweden;X-APPLE-RADIUS=500;X-TITLE=Flottiljvägen 56:geo:17.901717405743,59.193432193406
END:VEVENT
END:VCALENDAR