BEGIN:VCALENDAR
VERSION:2.0
PRODID:-//Tullinge SK - ECPv6.15.20//NONSGML v1.0//EN
CALSCALE:GREGORIAN
METHOD:PUBLISH
X-ORIGINAL-URL:https://www.tullingesk.se
X-WR-CALDESC:Händelser för Tullinge SK
REFRESH-INTERVAL;VALUE=DURATION:PT1H
X-Robots-Tag:noindex
X-PUBLISHED-TTL:PT1H
BEGIN:VTIMEZONE
TZID:Europe/Stockholm
BEGIN:DAYLIGHT
TZOFFSETFROM:+0100
TZOFFSETTO:+0200
TZNAME:CEST
DTSTART:20240331T010000
END:DAYLIGHT
BEGIN:STANDARD
TZOFFSETFROM:+0200
TZOFFSETTO:+0100
TZNAME:CET
DTSTART:20241027T010000
END:STANDARD
BEGIN:DAYLIGHT
TZOFFSETFROM:+0100
TZOFFSETTO:+0200
TZNAME:CEST
DTSTART:20250330T010000
END:DAYLIGHT
BEGIN:STANDARD
TZOFFSETFROM:+0200
TZOFFSETTO:+0100
TZNAME:CET
DTSTART:20251026T010000
END:STANDARD
BEGIN:DAYLIGHT
TZOFFSETFROM:+0100
TZOFFSETTO:+0200
TZNAME:CEST
DTSTART:20260329T010000
END:DAYLIGHT
BEGIN:STANDARD
TZOFFSETFROM:+0200
TZOFFSETTO:+0100
TZNAME:CET
DTSTART:20261025T010000
END:STANDARD
END:VTIMEZONE
BEGIN:VEVENT
DTSTART;TZID=Europe/Stockholm:20250414T180000
DTEND;TZID=Europe/Stockholm:20250414T190000
DTSTAMP:20260422T140127
CREATED:20250410T093842Z
LAST-MODIFIED:20250410T105656Z
UID:10001805-1744653600-1744657200@www.tullingesk.se
SUMMARY:1316 Påsk#1 Teknikträning Högmora
DESCRIPTION:Samling: https://maps.app.goo.gl/NswXFVD6DdqRRuUr7 \n 
URL:https://www.tullingesk.se/aktivitet/1316-pask1-tekniktraning-hogmora/
END:VEVENT
BEGIN:VEVENT
DTSTART;TZID=Europe/Stockholm:20250415T180000
DTEND;TZID=Europe/Stockholm:20250415T190000
DTSTAMP:20260422T140127
CREATED:20250324T163408Z
LAST-MODIFIED:20250324T163408Z
UID:10001581-1744740000-1744743600@www.tullingesk.se
SUMMARY:Grupp 4 tisdagar
DESCRIPTION:Grupp 4 – gruppen för alla! \nFör instruktioner och lista över alla ansvariga:  https://www.tullingesk.se/bredd-motionar/ \nV16 Pia-Lena & Anders
URL:https://www.tullingesk.se/aktivitet/grupp-4-tisdagar-17/
LOCATION:TSK-klubbstugan\, Flottiljvägen 56\, Tullinge\, 146 38\, Sweden
GEO:59.193432193406;17.901717405743
X-APPLE-STRUCTURED-LOCATION;VALUE=URI;X-ADDRESS=TSK-klubbstugan Flottiljvägen 56 Tullinge 146 38 Sweden;X-APPLE-RADIUS=500;X-TITLE=Flottiljvägen 56:geo:17.901717405743,59.193432193406
END:VEVENT
BEGIN:VEVENT
DTSTART;TZID=Europe/Stockholm:20250415T180000
DTEND;TZID=Europe/Stockholm:20250415T193000
DTSTAMP:20260422T140127
CREATED:20250410T105146Z
LAST-MODIFIED:20250410T105146Z
UID:10001806-1744740000-1744745400@www.tullingesk.se
SUMMARY:1316 Påsk#2: Intervaller Brantan
DESCRIPTION:
URL:https://www.tullingesk.se/aktivitet/1316-pask2-intervaller-brantan/
LOCATION:TSK-klubbstugan\, Flottiljvägen 56\, Tullinge\, 146 38\, Sweden
GEO:59.193432193406;17.901717405743
X-APPLE-STRUCTURED-LOCATION;VALUE=URI;X-ADDRESS=TSK-klubbstugan Flottiljvägen 56 Tullinge 146 38 Sweden;X-APPLE-RADIUS=500;X-TITLE=Flottiljvägen 56:geo:17.901717405743,59.193432193406
END:VEVENT
BEGIN:VEVENT
DTSTART;TZID=Europe/Stockholm:20250415T180000
DTEND;TZID=Europe/Stockholm:20250415T200000
DTSTAMP:20260422T140127
CREATED:20250223T185251Z
LAST-MODIFIED:20250414T065212Z
UID:10000910-1744740000-1744747200@www.tullingesk.se
SUMMARY:HD17: 6x 4 min + 4x 90\, vila 60
DESCRIPTION:Intervaöler på spåret 6x 4 min + 4x 90\, vila 60
URL:https://www.tullingesk.se/aktivitet/hd17-78/
LOCATION:TSK-klubbstugan\, Flottiljvägen 56\, Tullinge\, 146 38\, Sweden
GEO:59.193432193406;17.901717405743
X-APPLE-STRUCTURED-LOCATION;VALUE=URI;X-ADDRESS=TSK-klubbstugan Flottiljvägen 56 Tullinge 146 38 Sweden;X-APPLE-RADIUS=500;X-TITLE=Flottiljvägen 56:geo:17.901717405743,59.193432193406
END:VEVENT
BEGIN:VEVENT
DTSTART;TZID=Europe/Stockholm:20250415T180000
DTEND;TZID=Europe/Stockholm:20250415T210000
DTSTAMP:20260422T140127
CREATED:20250218T185343Z
LAST-MODIFIED:20250218T185343Z
UID:10001704-1744740000-1744750800@www.tullingesk.se
SUMMARY:Soppa och städa
DESCRIPTION:Soppa: Ingen soppa – Påsklov \nStäd Dam: Mari Heijkenskjöld och Anna Perneby \nStäd Herr: Lennart Hävren och Kenneth Jönsson
URL:https://www.tullingesk.se/aktivitet/soppa-och-stada-67/
LOCATION:TSK-klubbstugan\, Flottiljvägen 56\, Tullinge\, 146 38\, Sweden
CATEGORIES:Städvecka / tisdagssoppa
GEO:59.193432193406;17.901717405743
X-APPLE-STRUCTURED-LOCATION;VALUE=URI;X-ADDRESS=TSK-klubbstugan Flottiljvägen 56 Tullinge 146 38 Sweden;X-APPLE-RADIUS=500;X-TITLE=Flottiljvägen 56:geo:17.901717405743,59.193432193406
END:VEVENT
BEGIN:VEVENT
DTSTART;TZID=Europe/Stockholm:20250415T193000
DTEND;TZID=Europe/Stockholm:20250415T210000
DTSTAMP:20260422T140127
CREATED:20250116T064641Z
LAST-MODIFIED:20250116T064641Z
UID:10001640-1744745400-1744750800@www.tullingesk.se
SUMMARY:EK-möte i lilla rummet vid entrén
DESCRIPTION:
URL:https://www.tullingesk.se/aktivitet/ek-mote-i-lilla-rummet-vid-entren-5/
LOCATION:TSK-klubbstugan\, Flottiljvägen 56\, Tullinge\, 146 38\, Sweden
CATEGORIES:Elitkommittén
GEO:59.193432193406;17.901717405743
X-APPLE-STRUCTURED-LOCATION;VALUE=URI;X-ADDRESS=TSK-klubbstugan Flottiljvägen 56 Tullinge 146 38 Sweden;X-APPLE-RADIUS=500;X-TITLE=Flottiljvägen 56:geo:17.901717405743,59.193432193406
END:VEVENT
BEGIN:VEVENT
DTSTART;TZID=Europe/Stockholm:20250416T180000
DTEND;TZID=Europe/Stockholm:20250416T193000
DTSTAMP:20260422T140127
CREATED:20250410T105354Z
LAST-MODIFIED:20250410T105411Z
UID:10001807-1744826400-1744831800@www.tullingesk.se
SUMMARY:1316 Påsk#3: Tiomilarepet
DESCRIPTION:
URL:https://www.tullingesk.se/aktivitet/1316-pask3-tiomilarepet/
END:VEVENT
BEGIN:VEVENT
DTSTART;TZID=Europe/Stockholm:20250417T080000
DTEND;TZID=Europe/Stockholm:20250417T170000
DTSTAMP:20260422T140127
CREATED:20250411T065855Z
LAST-MODIFIED:20250414T190440Z
UID:10001810-1744876800-1744909200@www.tullingesk.se
SUMMARY:Teknikträning - ingen organiserad träning denna vecka - skriv ut själv från filarkiv
DESCRIPTION:Det finns gul\, orange och svart bana i Högmora/Svartviksskogen från Sydsamarbetet för egen utskrift och träning vid valfritt tillfälle under veckan. Banorna finner du i filarkivet. \nParkeringsinfo fr arrangören:\n”Nya förutsättningar för parkering imorgon se karta\, https://kartor.eniro.se/m/ZNGdi \nNoteringar på kartan enligt\n(1) Det är avstängt med stenar på den högra sidan sett från infarten från Ågestavägen.\n(2) Ett fåtal platser finns till vänster vid returstationen (OBS Parkera inte in returstationen)\n(3\,4\,5) Parkering finns på vägarna\, rekommenderat är att ställa sig på höger sida på Högmoravägen eller Takymetervägen.\n(6) Parkering på ”grusplan” vid skolan med infart från Högmoravägen. \nFör de som parkerar på vägen uppmana att de parkerar längst bort först och därefter fyller på.”
URL:https://www.tullingesk.se/aktivitet/tekniktraning-ingen-organiserad-traning-denna-vecka-skriv-ut-sjalv-fran-filarkiv/
END:VEVENT
BEGIN:VEVENT
DTSTART;TZID=Europe/Stockholm:20250417T160000
DTEND;TZID=Europe/Stockholm:20250417T170000
DTSTAMP:20260422T140127
CREATED:20250410T105514Z
LAST-MODIFIED:20250410T105514Z
UID:10001808-1744905600-1744909200@www.tullingesk.se
SUMMARY:1316 Påsk#4: Styrka Brantan
DESCRIPTION:Kläder för styrka utomhus
URL:https://www.tullingesk.se/aktivitet/1316-pask4-styrka-brantan/
LOCATION:TSK-klubbstugan\, Flottiljvägen 56\, Tullinge\, 146 38\, Sweden
GEO:59.193432193406;17.901717405743
X-APPLE-STRUCTURED-LOCATION;VALUE=URI;X-ADDRESS=TSK-klubbstugan Flottiljvägen 56 Tullinge 146 38 Sweden;X-APPLE-RADIUS=500;X-TITLE=Flottiljvägen 56:geo:17.901717405743,59.193432193406
END:VEVENT
BEGIN:VEVENT
DTSTART;TZID=Europe/Stockholm:20250418T080000
DTEND;TZID=Europe/Stockholm:20250420T230000
DTSTAMP:20260422T140127
CREATED:20241204T211056Z
LAST-MODIFIED:20241204T211056Z
UID:10001492-1744963200-1745190000@www.tullingesk.se
SUMMARY:Stugan bokad/TSK arr Calle Arewång
DESCRIPTION:
URL:https://www.tullingesk.se/aktivitet/stugan-bokad-tsk-arr-calle-arewang/
LOCATION:TSK-klubbstugan\, Flottiljvägen 56\, Tullinge\, 146 38\, Sweden
CATEGORIES:Uthyrning klubbstugan
GEO:59.193432193406;17.901717405743
X-APPLE-STRUCTURED-LOCATION;VALUE=URI;X-ADDRESS=TSK-klubbstugan Flottiljvägen 56 Tullinge 146 38 Sweden;X-APPLE-RADIUS=500;X-TITLE=Flottiljvägen 56:geo:17.901717405743,59.193432193406
END:VEVENT
END:VCALENDAR