BEGIN:VCALENDAR
VERSION:2.0
PRODID:-//Tullinge SK - ECPv6.15.20//NONSGML v1.0//EN
CALSCALE:GREGORIAN
METHOD:PUBLISH
X-ORIGINAL-URL:https://www.tullingesk.se
X-WR-CALDESC:Händelser för Tullinge SK
REFRESH-INTERVAL;VALUE=DURATION:PT1H
X-Robots-Tag:noindex
X-PUBLISHED-TTL:PT1H
BEGIN:VTIMEZONE
TZID:Europe/Stockholm
BEGIN:DAYLIGHT
TZOFFSETFROM:+0100
TZOFFSETTO:+0200
TZNAME:CEST
DTSTART:20240331T010000
END:DAYLIGHT
BEGIN:STANDARD
TZOFFSETFROM:+0200
TZOFFSETTO:+0100
TZNAME:CET
DTSTART:20241027T010000
END:STANDARD
BEGIN:DAYLIGHT
TZOFFSETFROM:+0100
TZOFFSETTO:+0200
TZNAME:CEST
DTSTART:20250330T010000
END:DAYLIGHT
BEGIN:STANDARD
TZOFFSETFROM:+0200
TZOFFSETTO:+0100
TZNAME:CET
DTSTART:20251026T010000
END:STANDARD
BEGIN:DAYLIGHT
TZOFFSETFROM:+0100
TZOFFSETTO:+0200
TZNAME:CEST
DTSTART:20260329T010000
END:DAYLIGHT
BEGIN:STANDARD
TZOFFSETFROM:+0200
TZOFFSETTO:+0100
TZNAME:CET
DTSTART:20261025T010000
END:STANDARD
END:VTIMEZONE
BEGIN:VEVENT
DTSTART;TZID=Europe/Stockholm:20250113T190000
DTEND;TZID=Europe/Stockholm:20250113T200000
DTSTAMP:20260421T065558
CREATED:20240923T070355Z
LAST-MODIFIED:20240923T070355Z
UID:10001320-1736794800-1736798400@www.tullingesk.se
SUMMARY:TSK Styrkegympa
DESCRIPTION:Tid: 19-20\nPlats: Parkhemsskolans gympahall\nVem: TSK-medlemmar\nFörkunskaper: INGA! Alla kan vara med på sin nivå!\nVad: Styrka för hela kroppen. Enkla övningar\, oftast med egna kroppen som vikt men ibland även med gummiband (finns på plats).\n\nIngen föranmälan\, bara kom!\nVÄLKOMMEN //Kristin
URL:https://www.tullingesk.se/aktivitet/tsk-styrkegympa/2025-01-13/
LOCATION:Parkhemsskolans gympahall
END:VEVENT
BEGIN:VEVENT
DTSTART;TZID=Europe/Stockholm:20250114T180000
DTEND;TZID=Europe/Stockholm:20250114T190000
DTSTAMP:20260421T065558
CREATED:20241229T144648Z
LAST-MODIFIED:20250112T202825Z
UID:10001568-1736877600-1736881200@www.tullingesk.se
SUMMARY:Grupp 4: OL-bana
DESCRIPTION:OL-bana med avkortningsmöjligheter: \n\n5\,7km: S-M\n4\,6km: S-3\, 8-M\n3\,0km: S-3\, 11-M\n\nV3  Karin\, P-A & Fredrik Forsberg
URL:https://www.tullingesk.se/aktivitet/grupp-4-tisdagar-3/
LOCATION:TSK-klubbstugan\, Flottiljvägen 56\, Tullinge\, 146 38\, Sweden
GEO:59.193432193406;17.901717405743
X-APPLE-STRUCTURED-LOCATION;VALUE=URI;X-ADDRESS=TSK-klubbstugan Flottiljvägen 56 Tullinge 146 38 Sweden;X-APPLE-RADIUS=500;X-TITLE=Flottiljvägen 56:geo:17.901717405743,59.193432193406
END:VEVENT
BEGIN:VEVENT
DTSTART;TZID=Europe/Stockholm:20250114T180000
DTEND;TZID=Europe/Stockholm:20250114T191500
DTSTAMP:20260421T065558
CREATED:20250112T164419Z
LAST-MODIFIED:20250114T154413Z
UID:10001634-1736877600-1736882100@www.tullingesk.se
SUMMARY:13-16: Backe (lampa\, ol-skor)
DESCRIPTION:
URL:https://www.tullingesk.se/aktivitet/13-16-backe-lampa-ol-skor-stjartlapp/
LOCATION:TSK-klubbstugan\, Flottiljvägen 56\, Tullinge\, 146 38\, Sweden
GEO:59.193432193406;17.901717405743
X-APPLE-STRUCTURED-LOCATION;VALUE=URI;X-ADDRESS=TSK-klubbstugan Flottiljvägen 56 Tullinge 146 38 Sweden;X-APPLE-RADIUS=500;X-TITLE=Flottiljvägen 56:geo:17.901717405743,59.193432193406
END:VEVENT
BEGIN:VEVENT
DTSTART;TZID=Europe/Stockholm:20250114T180000
DTEND;TZID=Europe/Stockholm:20250114T200000
DTSTAMP:20260421T065558
CREATED:20241227T144635Z
LAST-MODIFIED:20250112T161540Z
UID:10000979-1736877600-1736884800@www.tullingesk.se
SUMMARY:HD17 Intervaller 5x 6 min\, vila 90\, OBS reflexväst!
DESCRIPTION:Intervaller på väg 5x 6 min\, vila 90 \nOBS! Reflexväst behövs!
URL:https://www.tullingesk.se/aktivitet/hd17-64/
LOCATION:TSK-klubbstugan\, Flottiljvägen 56\, Tullinge\, 146 38\, Sweden
GEO:59.193432193406;17.901717405743
X-APPLE-STRUCTURED-LOCATION;VALUE=URI;X-ADDRESS=TSK-klubbstugan Flottiljvägen 56 Tullinge 146 38 Sweden;X-APPLE-RADIUS=500;X-TITLE=Flottiljvägen 56:geo:17.901717405743,59.193432193406
END:VEVENT
BEGIN:VEVENT
DTSTART;TZID=Europe/Stockholm:20250114T180000
DTEND;TZID=Europe/Stockholm:20250114T210000
DTSTAMP:20260421T065558
CREATED:20250101T140409Z
LAST-MODIFIED:20250101T140409Z
UID:10001618-1736877600-1736888400@www.tullingesk.se
SUMMARY:Soppa och städa
DESCRIPTION:Soppa: K Håland/M Heinrup/L Hävren/G Eriksson/A Perneby \nStäd Dam: Karin Lundberg och Åsa Flodmark \nStäd Herr: Ingemar Åkerman och Mats Berg
URL:https://www.tullingesk.se/aktivitet/soppa-och-stada-54/
LOCATION:TSK-klubbstugan\, Flottiljvägen 56\, Tullinge\, 146 38\, Sweden
CATEGORIES:Städvecka / tisdagssoppa
GEO:59.193432193406;17.901717405743
X-APPLE-STRUCTURED-LOCATION;VALUE=URI;X-ADDRESS=TSK-klubbstugan Flottiljvägen 56 Tullinge 146 38 Sweden;X-APPLE-RADIUS=500;X-TITLE=Flottiljvägen 56:geo:17.901717405743,59.193432193406
END:VEVENT
BEGIN:VEVENT
DTSTART;TZID=Europe/Stockholm:20250114T193000
DTEND;TZID=Europe/Stockholm:20250114T210000
DTSTAMP:20260421T065558
CREATED:20241211T065939Z
LAST-MODIFIED:20241217T081632Z
UID:10001498-1736883000-1736888400@www.tullingesk.se
SUMMARY:EK-möte i lilla rummet vid entrén
DESCRIPTION:Månatliga EK-mötet
URL:https://www.tullingesk.se/aktivitet/ek-mote-i-lilla-rummet-vid-entren-2/
LOCATION:TSK-klubbstugan\, Flottiljvägen 56\, Tullinge\, 146 38\, Sweden
CATEGORIES:Elitkommittén
GEO:59.193432193406;17.901717405743
X-APPLE-STRUCTURED-LOCATION;VALUE=URI;X-ADDRESS=TSK-klubbstugan Flottiljvägen 56 Tullinge 146 38 Sweden;X-APPLE-RADIUS=500;X-TITLE=Flottiljvägen 56:geo:17.901717405743,59.193432193406
END:VEVENT
BEGIN:VEVENT
DTSTART;TZID=Europe/Stockholm:20250115T180000
DTEND;TZID=Europe/Stockholm:20250115T210000
DTSTAMP:20260421T065558
CREATED:20241227T145131Z
LAST-MODIFIED:20241227T145131Z
UID:10001512-1736964000-1736974800@www.tullingesk.se
SUMMARY:SBN #3 Järla
DESCRIPTION:Anmälan via eventor en vecka innan!
URL:https://www.tullingesk.se/aktivitet/sbn-3-jarla/
LOCATION:TSK-klubbstugan\, Flottiljvägen 56\, Tullinge\, 146 38\, Sweden
GEO:59.193432193406;17.901717405743
X-APPLE-STRUCTURED-LOCATION;VALUE=URI;X-ADDRESS=TSK-klubbstugan Flottiljvägen 56 Tullinge 146 38 Sweden;X-APPLE-RADIUS=500;X-TITLE=Flottiljvägen 56:geo:17.901717405743,59.193432193406
END:VEVENT
BEGIN:VEVENT
DTSTART;TZID=Europe/Stockholm:20250116T180000
DTEND;TZID=Europe/Stockholm:20250116T190000
DTSTAMP:20260421T065558
CREATED:20250112T164530Z
LAST-MODIFIED:20250116T115531Z
UID:10001635-1737050400-1737054000@www.tullingesk.se
SUMMARY:13-16 gruppen: reflexrundan (lampa & ol-skor)
DESCRIPTION:
URL:https://www.tullingesk.se/aktivitet/13-16-gruppen-skogsdistans-lampa-ol-skor/
LOCATION:TSK-klubbstugan\, Flottiljvägen 56\, Tullinge\, 146 38\, Sweden
GEO:59.193432193406;17.901717405743
X-APPLE-STRUCTURED-LOCATION;VALUE=URI;X-ADDRESS=TSK-klubbstugan Flottiljvägen 56 Tullinge 146 38 Sweden;X-APPLE-RADIUS=500;X-TITLE=Flottiljvägen 56:geo:17.901717405743,59.193432193406
END:VEVENT
BEGIN:VEVENT
DTSTART;TZID=Europe/Stockholm:20250117T080000
DTEND;TZID=Europe/Stockholm:20250119T170000
DTSTAMP:20260421T065558
CREATED:20250107T123448Z
LAST-MODIFIED:20250107T123448Z
UID:10001630-1737100800-1737306000@www.tullingesk.se
SUMMARY:1316: SkidO-läger Grönklitt
DESCRIPTION:Fredag: 2 träningar \nLördag: tävling + träning \nSöndag: tävling
URL:https://www.tullingesk.se/aktivitet/1316-skido-lager-gronklitt/
END:VEVENT
BEGIN:VEVENT
DTSTART;TZID=Europe/Stockholm:20250118T100000
DTEND;TZID=Europe/Stockholm:20250118T120000
DTSTAMP:20260421T065558
CREATED:20241227T145301Z
LAST-MODIFIED:20250116T184409Z
UID:10001513-1737194400-1737201600@www.tullingesk.se
SUMMARY:Lördagsbacke
DESCRIPTION:Ansvarig: Axel
URL:https://www.tullingesk.se/aktivitet/lordagsbacke-4/
LOCATION:TSK-klubbstugan\, Flottiljvägen 56\, Tullinge\, 146 38\, Sweden
GEO:59.193432193406;17.901717405743
X-APPLE-STRUCTURED-LOCATION;VALUE=URI;X-ADDRESS=TSK-klubbstugan Flottiljvägen 56 Tullinge 146 38 Sweden;X-APPLE-RADIUS=500;X-TITLE=Flottiljvägen 56:geo:17.901717405743,59.193432193406
END:VEVENT
BEGIN:VEVENT
DTSTART;TZID=Europe/Stockholm:20250119T090000
DTEND;TZID=Europe/Stockholm:20250119T140000
DTSTAMP:20260421T065558
CREATED:20240930T174859Z
LAST-MODIFIED:20240930T174859Z
UID:10001407-1737277200-1737295200@www.tullingesk.se
SUMMARY:Tipspromenad från TSK-stugan\, Brantbrink IP
DESCRIPTION:Tipspromenad med barn och vuxenfrågor.\nMotionsbingo\nStart kl10-12\nFikaservering kl.10-13. Lotterier\nVälkomna!\nSupporterklubben
URL:https://www.tullingesk.se/aktivitet/tipspromenad-fran-tsk-stugan-brantbrink-ip-4/2025-01-19/
LOCATION:TSK-klubbstugan\, Flottiljvägen 56\, Tullinge\, 146 38\, Sweden
CATEGORIES:Supporterklubben
GEO:59.193432193406;17.901717405743
X-APPLE-STRUCTURED-LOCATION;VALUE=URI;X-ADDRESS=TSK-klubbstugan Flottiljvägen 56 Tullinge 146 38 Sweden;X-APPLE-RADIUS=500;X-TITLE=Flottiljvägen 56:geo:17.901717405743,59.193432193406
END:VEVENT
BEGIN:VEVENT
DTSTART;TZID=Europe/Stockholm:20250119T100000
DTEND;TZID=Europe/Stockholm:20250119T120000
DTSTAMP:20260421T065558
CREATED:20241127T204242Z
LAST-MODIFIED:20250118T183124Z
UID:10001487-1737280800-1737288000@www.tullingesk.se
SUMMARY:Långpass från Brantan
DESCRIPTION:Långpass mot Visättraskogen. Möjligt att starta/parkera vid korsningen : Smedvägen/VH-vägen. \nSlingor med bra avkortningsmöjligheter.  Kartor utskrivna och ligger på bordet i lilla mötesrummet. \nVätska och choklad kommer att serveras vid bokontrollen : ) \nAnsvariga: Lin och Björn
URL:https://www.tullingesk.se/aktivitet/langpass-fran-brantan/
LOCATION:TSK-klubbstugan\, Flottiljvägen 56\, Tullinge\, 146 38\, Sweden
GEO:59.193432193406;17.901717405743
X-APPLE-STRUCTURED-LOCATION;VALUE=URI;X-ADDRESS=TSK-klubbstugan Flottiljvägen 56 Tullinge 146 38 Sweden;X-APPLE-RADIUS=500;X-TITLE=Flottiljvägen 56:geo:17.901717405743,59.193432193406
END:VEVENT
END:VCALENDAR