BEGIN:VCALENDAR
VERSION:2.0
PRODID:-//Tullinge SK - ECPv6.15.20//NONSGML v1.0//EN
CALSCALE:GREGORIAN
METHOD:PUBLISH
X-WR-CALNAME:Tullinge SK
X-ORIGINAL-URL:https://www.tullingesk.se
X-WR-CALDESC:Händelser för Tullinge SK
REFRESH-INTERVAL;VALUE=DURATION:PT1H
X-Robots-Tag:noindex
X-PUBLISHED-TTL:PT1H
BEGIN:VTIMEZONE
TZID:Europe/Stockholm
BEGIN:DAYLIGHT
TZOFFSETFROM:+0100
TZOFFSETTO:+0200
TZNAME:CEST
DTSTART:20230326T010000
END:DAYLIGHT
BEGIN:STANDARD
TZOFFSETFROM:+0200
TZOFFSETTO:+0100
TZNAME:CET
DTSTART:20231029T010000
END:STANDARD
BEGIN:DAYLIGHT
TZOFFSETFROM:+0100
TZOFFSETTO:+0200
TZNAME:CEST
DTSTART:20240331T010000
END:DAYLIGHT
BEGIN:STANDARD
TZOFFSETFROM:+0200
TZOFFSETTO:+0100
TZNAME:CET
DTSTART:20241027T010000
END:STANDARD
BEGIN:DAYLIGHT
TZOFFSETFROM:+0100
TZOFFSETTO:+0200
TZNAME:CEST
DTSTART:20250330T010000
END:DAYLIGHT
BEGIN:STANDARD
TZOFFSETFROM:+0200
TZOFFSETTO:+0100
TZNAME:CET
DTSTART:20251026T010000
END:STANDARD
END:VTIMEZONE
BEGIN:VEVENT
DTSTART;TZID=Europe/Stockholm:20240813T180000
DTEND;TZID=Europe/Stockholm:20240813T180000
DTSTAMP:20260419T232748
CREATED:20240810T101041Z
LAST-MODIFIED:20240810T101622Z
UID:10001251-1723572000-1723572000@www.tullingesk.se
SUMMARY:Sensommarträning Salemsvallen
DESCRIPTION:Träning på karta Salem-Rönninge. Se länk till nyheten nedan för mer info och anmälan där med en kommentar. \nhttps://www.tullingesk.se/nyheter/sensommartraning-salem-ronninge/
URL:https://www.tullingesk.se/aktivitet/sensommartraning-salemsvallen/
END:VEVENT
BEGIN:VEVENT
DTSTART;TZID=Europe/Stockholm:20240813T193000
DTEND;TZID=Europe/Stockholm:20240813T210000
DTSTAMP:20260419T232748
CREATED:20240613T063745Z
LAST-MODIFIED:20240613T063745Z
UID:10001242-1723577400-1723582800@www.tullingesk.se
SUMMARY:EK-Månadsmöte
DESCRIPTION:Lilla mötesrummet
URL:https://www.tullingesk.se/aktivitet/ek-manadsmote-4/
LOCATION:TSK-klubbstugan\, Flottiljvägen 56\, Tullinge\, 146 38\, Sweden
CATEGORIES:Elitkommittén
GEO:59.193432193406;17.901717405743
X-APPLE-STRUCTURED-LOCATION;VALUE=URI;X-ADDRESS=TSK-klubbstugan Flottiljvägen 56 Tullinge 146 38 Sweden;X-APPLE-RADIUS=500;X-TITLE=Flottiljvägen 56:geo:17.901717405743,59.193432193406
END:VEVENT
BEGIN:VEVENT
DTSTART;TZID=Europe/Stockholm:20240815T180000
DTEND;TZID=Europe/Stockholm:20240815T180000
DTSTAMP:20260419T232748
CREATED:20240810T101436Z
LAST-MODIFIED:20240810T101613Z
UID:10001252-1723744800-1723744800@www.tullingesk.se
SUMMARY:Sensommarträning Ersboda
DESCRIPTION:Träning på karta Salem-Rönninge. Se länk till nyheten nedan för mer info och anmälan där med en kommentar. \nhttps://www.tullingesk.se/nyheter/sensommartraning-salem-ronninge/
URL:https://www.tullingesk.se/aktivitet/sensommartraning-ersboda/
END:VEVENT
BEGIN:VEVENT
DTSTART;TZID=Europe/Stockholm:20240815T180000
DTEND;TZID=Europe/Stockholm:20240815T190000
DTSTAMP:20260419T232748
CREATED:20240812T073951Z
LAST-MODIFIED:20240812T073951Z
UID:10001261-1723744800-1723748400@www.tullingesk.se
SUMMARY:1316-gruppen (mfl) intervaller på spåret
DESCRIPTION:1 min intervaller på spåret \nAlla välkomna! \n/Johan
URL:https://www.tullingesk.se/aktivitet/1316-gruppen-mfl-intervaller-pa-sparet/
LOCATION:TSK-klubbstugan\, Flottiljvägen 56\, Tullinge\, 146 38\, Sweden
GEO:59.193432193406;17.901717405743
X-APPLE-STRUCTURED-LOCATION;VALUE=URI;X-ADDRESS=TSK-klubbstugan Flottiljvägen 56 Tullinge 146 38 Sweden;X-APPLE-RADIUS=500;X-TITLE=Flottiljvägen 56:geo:17.901717405743,59.193432193406
END:VEVENT
END:VCALENDAR