BEGIN:VCALENDAR
VERSION:2.0
PRODID:-//Tullinge SK - ECPv6.15.20//NONSGML v1.0//EN
CALSCALE:GREGORIAN
METHOD:PUBLISH
X-ORIGINAL-URL:https://www.tullingesk.se
X-WR-CALDESC:Händelser för Tullinge SK
REFRESH-INTERVAL;VALUE=DURATION:PT1H
X-Robots-Tag:noindex
X-PUBLISHED-TTL:PT1H
BEGIN:VTIMEZONE
TZID:Europe/Stockholm
BEGIN:DAYLIGHT
TZOFFSETFROM:+0100
TZOFFSETTO:+0200
TZNAME:CEST
DTSTART:20240331T010000
END:DAYLIGHT
BEGIN:STANDARD
TZOFFSETFROM:+0200
TZOFFSETTO:+0100
TZNAME:CET
DTSTART:20241027T010000
END:STANDARD
BEGIN:DAYLIGHT
TZOFFSETFROM:+0100
TZOFFSETTO:+0200
TZNAME:CEST
DTSTART:20250330T010000
END:DAYLIGHT
BEGIN:STANDARD
TZOFFSETFROM:+0200
TZOFFSETTO:+0100
TZNAME:CET
DTSTART:20251026T010000
END:STANDARD
BEGIN:DAYLIGHT
TZOFFSETFROM:+0100
TZOFFSETTO:+0200
TZNAME:CEST
DTSTART:20260329T010000
END:DAYLIGHT
BEGIN:STANDARD
TZOFFSETFROM:+0200
TZOFFSETTO:+0100
TZNAME:CET
DTSTART:20261025T010000
END:STANDARD
END:VTIMEZONE
BEGIN:VEVENT
DTSTART;TZID=Europe/Stockholm:20250902T180000
DTEND;TZID=Europe/Stockholm:20250902T200000
DTSTAMP:20260422T210042
CREATED:20250708T181714Z
LAST-MODIFIED:20250831T154718Z
UID:10001006-1756836000-1756843200@www.tullingesk.se
SUMMARY:HD17
DESCRIPTION:Tornetintervaller. 6 x ca 5 min på stig. \nAnsvarig: Simon
URL:https://www.tullingesk.se/aktivitet/hd17-90/
LOCATION:TSK-klubbstugan\, Flottiljvägen 56\, Tullinge\, 146 38\, Sweden
GEO:59.193432193406;17.901717405743
X-APPLE-STRUCTURED-LOCATION;VALUE=URI;X-ADDRESS=TSK-klubbstugan Flottiljvägen 56 Tullinge 146 38 Sweden;X-APPLE-RADIUS=500;X-TITLE=Flottiljvägen 56:geo:17.901717405743,59.193432193406
END:VEVENT
BEGIN:VEVENT
DTSTART;TZID=Europe/Stockholm:20250902T180000
DTEND;TZID=Europe/Stockholm:20250902T210000
DTSTAMP:20260422T210042
CREATED:20250810T124027Z
LAST-MODIFIED:20250810T124027Z
UID:10001930-1756836000-1756846800@www.tullingesk.se
SUMMARY:Soppa och städa
DESCRIPTION:Soppa: L+B Normark/H Bladh/J Ohlin/K Lundberg \nStäd Dam: Sofia Lönnkvist och Pauline Levinson \nStäd Herr: Hasse Sundqvist och Mikael Sundqvist
URL:https://www.tullingesk.se/aktivitet/soppa-och-stada-78/
LOCATION:TSK-klubbstugan\, Flottiljvägen 56\, Tullinge\, 146 38\, Sweden
CATEGORIES:Städvecka / tisdagssoppa
GEO:59.193432193406;17.901717405743
X-APPLE-STRUCTURED-LOCATION;VALUE=URI;X-ADDRESS=TSK-klubbstugan Flottiljvägen 56 Tullinge 146 38 Sweden;X-APPLE-RADIUS=500;X-TITLE=Flottiljvägen 56:geo:17.901717405743,59.193432193406
END:VEVENT
BEGIN:VEVENT
DTSTART;TZID=Europe/Stockholm:20250904T181500
DTEND;TZID=Europe/Stockholm:20250904T193000
DTSTAMP:20260422T210042
CREATED:20250825T132716Z
LAST-MODIFIED:20250828T194455Z
UID:10002037-1757009700-1757014200@www.tullingesk.se
SUMMARY:Sprint-KM för ungdom och sprintträning med sportident för övriga
DESCRIPTION:Sprint i Salem. Öppet för alla medlemmar och fungerar som KM för ungdomar. https://eventor.orientering.se/Events/Show/55670 \nFör icke ungdomar finns två öppna banor med sportident att köra Ö Medel och Ö Längre. När man kört sin öppna bana finns ytterligare en träningsbana om man vill springa mer. Anmälan senast tisdag men några enstaka extra kartor finns för anmälan på plats. \nFör den som inte vill köra sprint så kommer det att finnas en bana i Visättra för nedladdning och egen utskrift i filarkivet.
URL:https://www.tullingesk.se/aktivitet/sprint-km-for-ungdom-och-sprinttraning-med-sportident-for-ovriga/
CATEGORIES:Orienteringstävling,Ungdomskommittén
END:VEVENT
BEGIN:VEVENT
DTSTART;TZID=Europe/Stockholm:20250906T130000
DTEND;TZID=Europe/Stockholm:20250907T233000
DTSTAMP:20260422T210042
CREATED:20250804T165400Z
LAST-MODIFIED:20250827T163847Z
UID:10001923-1757163600-1757287800@www.tullingesk.se
SUMMARY:Stugan uthyrd/Patrik Westerberg
DESCRIPTION:
URL:https://www.tullingesk.se/aktivitet/stugan-uthyrd-patrik-westerberg/
LOCATION:TSK-klubbstugan\, Flottiljvägen 56\, Tullinge\, 146 38\, Sweden
CATEGORIES:Uthyrning klubbstugan
GEO:59.193432193406;17.901717405743
X-APPLE-STRUCTURED-LOCATION;VALUE=URI;X-ADDRESS=TSK-klubbstugan Flottiljvägen 56 Tullinge 146 38 Sweden;X-APPLE-RADIUS=500;X-TITLE=Flottiljvägen 56:geo:17.901717405743,59.193432193406
END:VEVENT
BEGIN:VEVENT
DTSTART;TZID=Europe/Stockholm:20250908T180000
DTEND;TZID=Europe/Stockholm:20250908T210000
DTSTAMP:20260422T210042
CREATED:20250824T121737Z
LAST-MODIFIED:20250824T121737Z
UID:10002035-1757354400-1757365200@www.tullingesk.se
SUMMARY:Storstugan bokad f möte/ PA Forsberg
DESCRIPTION:
URL:https://www.tullingesk.se/aktivitet/storstugan-bokad-f-mote-pa-forsberg/
LOCATION:TSK-klubbstugan\, Flottiljvägen 56\, Tullinge\, 146 38\, Sweden
CATEGORIES:Uthyrning klubbstugan
GEO:59.193432193406;17.901717405743
X-APPLE-STRUCTURED-LOCATION;VALUE=URI;X-ADDRESS=TSK-klubbstugan Flottiljvägen 56 Tullinge 146 38 Sweden;X-APPLE-RADIUS=500;X-TITLE=Flottiljvägen 56:geo:17.901717405743,59.193432193406
END:VEVENT
BEGIN:VEVENT
DTSTART;TZID=Europe/Stockholm:20250909T180000
DTEND;TZID=Europe/Stockholm:20250909T190000
DTSTAMP:20260422T210042
CREATED:20250819T182424Z
LAST-MODIFIED:20251020T095021Z
UID:10001971-1757440800-1757444400@www.tullingesk.se
SUMMARY:Träsktrollen
DESCRIPTION:Barn födda 2017-2018 \n 
URL:https://www.tullingesk.se/aktivitet/trasktrollen-6/2025-09-09/
LOCATION:TSK-klubbstugan\, Flottiljvägen 56\, Tullinge\, 146 38\, Sweden
CATEGORIES:Ungdomskommittén
GEO:59.193432193406;17.901717405743
X-APPLE-STRUCTURED-LOCATION;VALUE=URI;X-ADDRESS=TSK-klubbstugan Flottiljvägen 56 Tullinge 146 38 Sweden;X-APPLE-RADIUS=500;X-TITLE=Flottiljvägen 56:geo:17.901717405743,59.193432193406
END:VEVENT
BEGIN:VEVENT
DTSTART;TZID=Europe/Stockholm:20250909T180000
DTEND;TZID=Europe/Stockholm:20250909T190000
DTSTAMP:20260422T210042
CREATED:20250904T183330Z
LAST-MODIFIED:20250908T201456Z
UID:10001602-1757440800-1757444400@www.tullingesk.se
SUMMARY:Grupp 4 tisdagar
DESCRIPTION:Grupp 4 – gruppen för alla! Denna veckan klubbgemensamma orienteringsintervaller i olika sträckor med uthängda snitslar på Stockmossberget. \nFör instruktioner och lista över alla ansvariga:  https://www.tullingesk.se/bredd-motionar/ \nV37 Rickard Andersson & Peter Mattila
URL:https://www.tullingesk.se/aktivitet/grupp-4-tisdagar-37/
LOCATION:TSK-klubbstugan\, Flottiljvägen 56\, Tullinge\, 146 38\, Sweden
GEO:59.193432193406;17.901717405743
X-APPLE-STRUCTURED-LOCATION;VALUE=URI;X-ADDRESS=TSK-klubbstugan Flottiljvägen 56 Tullinge 146 38 Sweden;X-APPLE-RADIUS=500;X-TITLE=Flottiljvägen 56:geo:17.901717405743,59.193432193406
END:VEVENT
BEGIN:VEVENT
DTSTART;TZID=Europe/Stockholm:20250909T180000
DTEND;TZID=Europe/Stockholm:20250909T191500
DTSTAMP:20260422T210043
CREATED:20250819T182133Z
LAST-MODIFIED:20250819T182133Z
UID:10001962-1757440800-1757445300@www.tullingesk.se
SUMMARY:9-12 träning
DESCRIPTION:
URL:https://www.tullingesk.se/aktivitet/9-12-traning-3/2025-09-09/
LOCATION:TSK-klubbstugan\, Flottiljvägen 56\, Tullinge\, 146 38\, Sweden
CATEGORIES:Ungdomskommittén
GEO:59.193432193406;17.901717405743
X-APPLE-STRUCTURED-LOCATION;VALUE=URI;X-ADDRESS=TSK-klubbstugan Flottiljvägen 56 Tullinge 146 38 Sweden;X-APPLE-RADIUS=500;X-TITLE=Flottiljvägen 56:geo:17.901717405743,59.193432193406
END:VEVENT
BEGIN:VEVENT
DTSTART;TZID=Europe/Stockholm:20250909T180000
DTEND;TZID=Europe/Stockholm:20250909T191500
DTSTAMP:20260422T210043
CREATED:20250907T173910Z
LAST-MODIFIED:20250907T173910Z
UID:10002045-1757440800-1757445300@www.tullingesk.se
SUMMARY:1316-gruppen: hela klubben intervall (ol-skor och kompass)
DESCRIPTION:
URL:https://www.tullingesk.se/aktivitet/1316-gruppen-hela-klubben-intervall-ol-skor-och-kompass/
LOCATION:TSK-klubbstugan\, Flottiljvägen 56\, Tullinge\, 146 38\, Sweden
GEO:59.193432193406;17.901717405743
X-APPLE-STRUCTURED-LOCATION;VALUE=URI;X-ADDRESS=TSK-klubbstugan Flottiljvägen 56 Tullinge 146 38 Sweden;X-APPLE-RADIUS=500;X-TITLE=Flottiljvägen 56:geo:17.901717405743,59.193432193406
END:VEVENT
BEGIN:VEVENT
DTSTART;TZID=Europe/Stockholm:20250909T180000
DTEND;TZID=Europe/Stockholm:20250909T191500
DTSTAMP:20260422T210043
CREATED:20250907T184655Z
LAST-MODIFIED:20250909T081606Z
UID:10002046-1757440800-1757445300@www.tullingesk.se
SUMMARY:Klubbgemensam träning
DESCRIPTION:Hela-klubben-intervall. OL-intervaller på Stockmosseberget. Orange och svart svårighetsgrad. \n5 slingor där varje slinga finns i tre olika längder (ca 500-1000m). \nSamling bakom klubbstugan. \nAnsvarig: Ungdomskommitén /1316-ledarna
URL:https://www.tullingesk.se/aktivitet/klubbgemensam-traning/
LOCATION:TSK-klubbstugan\, Flottiljvägen 56\, Tullinge\, 146 38\, Sweden
GEO:59.193432193406;17.901717405743
X-APPLE-STRUCTURED-LOCATION;VALUE=URI;X-ADDRESS=TSK-klubbstugan Flottiljvägen 56 Tullinge 146 38 Sweden;X-APPLE-RADIUS=500;X-TITLE=Flottiljvägen 56:geo:17.901717405743,59.193432193406
END:VEVENT
BEGIN:VEVENT
DTSTART;TZID=Europe/Stockholm:20250909T180000
DTEND;TZID=Europe/Stockholm:20250909T200000
DTSTAMP:20260422T210043
CREATED:20250708T181719Z
LAST-MODIFIED:20250909T081007Z
UID:10001007-1757440800-1757448000@www.tullingesk.se
SUMMARY:HD17
DESCRIPTION:Hela-klubben-intervall. OL-intervaller på Stockmosseberget. \n5 slingor där varje slinga finns i tre olika längder (ca 500-1000m). \nAnsvarig: Ungdomskommitén /1316-ledarna
URL:https://www.tullingesk.se/aktivitet/hd17-91/
LOCATION:TSK-klubbstugan\, Flottiljvägen 56\, Tullinge\, 146 38\, Sweden
GEO:59.193432193406;17.901717405743
X-APPLE-STRUCTURED-LOCATION;VALUE=URI;X-ADDRESS=TSK-klubbstugan Flottiljvägen 56 Tullinge 146 38 Sweden;X-APPLE-RADIUS=500;X-TITLE=Flottiljvägen 56:geo:17.901717405743,59.193432193406
END:VEVENT
BEGIN:VEVENT
DTSTART;TZID=Europe/Stockholm:20250909T180000
DTEND;TZID=Europe/Stockholm:20250909T210000
DTSTAMP:20260422T210043
CREATED:20250810T124234Z
LAST-MODIFIED:20250810T124234Z
UID:10001931-1757440800-1757451600@www.tullingesk.se
SUMMARY:Soppa och städa
DESCRIPTION:Soppa: T Sundberg/C+P Mattila/L+K Hanson/E Stiernstedt \nStäd Dam: Tina Junegard och Josefin Illergård \nStäd Herr: Örjan Arkäng och Magnus Wallqvist Pousette
URL:https://www.tullingesk.se/aktivitet/soppa-och-stada-79/
LOCATION:TSK-klubbstugan\, Flottiljvägen 56\, Tullinge\, 146 38\, Sweden
CATEGORIES:Städvecka / tisdagssoppa
GEO:59.193432193406;17.901717405743
X-APPLE-STRUCTURED-LOCATION;VALUE=URI;X-ADDRESS=TSK-klubbstugan Flottiljvägen 56 Tullinge 146 38 Sweden;X-APPLE-RADIUS=500;X-TITLE=Flottiljvägen 56:geo:17.901717405743,59.193432193406
END:VEVENT
BEGIN:VEVENT
DTSTART;TZID=Europe/Stockholm:20250909T193000
DTEND;TZID=Europe/Stockholm:20250909T213000
DTSTAMP:20260422T210043
CREATED:20250820T062645Z
LAST-MODIFIED:20250820T062645Z
UID:10002032-1757446200-1757453400@www.tullingesk.se
SUMMARY:Styrelserummet bokat /Styrelsen
DESCRIPTION:
URL:https://www.tullingesk.se/aktivitet/styrelserummet-bokat-styrelsen-4/
LOCATION:TSK-klubbstugan\, Flottiljvägen 56\, Tullinge\, 146 38\, Sweden
GEO:59.193432193406;17.901717405743
X-APPLE-STRUCTURED-LOCATION;VALUE=URI;X-ADDRESS=TSK-klubbstugan Flottiljvägen 56 Tullinge 146 38 Sweden;X-APPLE-RADIUS=500;X-TITLE=Flottiljvägen 56:geo:17.901717405743,59.193432193406
END:VEVENT
BEGIN:VEVENT
DTSTART;TZID=Europe/Stockholm:20250911T180000
DTEND;TZID=Europe/Stockholm:20250911T193000
DTSTAMP:20260422T210043
CREATED:20250906T150814Z
LAST-MODIFIED:20250910T061437Z
UID:10002044-1757613600-1757619000@www.tullingesk.se
SUMMARY:Teknikträning Gladö Kvarn
DESCRIPTION:Teknikträning öppen för alla medlemmar. \nAnmälan senast onsdag kl 13 via Eventor:https://eventor.orientering.se/Activities/Show/24424 \nSamling:\nParkeringen vid badet Gladö Kvarnsjö. https://maps.app.goo.gl/y5GU2BErK4j2wVkx6\nFler parkeringsplatser finns vid tennisbanan nära badet. \nBanor/tema:\nOrange + svart: Vanliga banor med långsträckor\nGul: vanlig bana. Den gula banan kan också göras vit genom att några kontroller hoppas över (ledare visar vid genomgång) \nBanlängder:\nGul 2\,8 km\nOrange 3\,6 km\nSvart 3\,6-9\,6 km \nAnsvariga ledare:\n13-16 ledare: Mats\n9-12 ledare: Ingrid \nBanläggare:\nOrange + svart: Sydsam\nGul: Mats \nUtskrift: Rickard \nInplockning: Ingrid + Pauline \nMedtag gärna plastficka A4 för alla utom för svart 7500 som har A3. \nLivelox finns: länk till livelox \n\n\nOrange + svart finns även i filarkivet för utskrift och egen träning under veckan
URL:https://www.tullingesk.se/aktivitet/tekniktraning-glado-kvarn/
END:VEVENT
BEGIN:VEVENT
DTSTART;TZID=Europe/Stockholm:20250913T100000
DTEND;TZID=Europe/Stockholm:20250913T160000
DTSTAMP:20260422T210043
CREATED:20250824T121901Z
LAST-MODIFIED:20250824T121901Z
UID:10002036-1757757600-1757779200@www.tullingesk.se
SUMMARY:Stugan bokad/Magnus Pousette
DESCRIPTION:
URL:https://www.tullingesk.se/aktivitet/stugan-bokad-magnus-pousette/
LOCATION:TSK-klubbstugan\, Flottiljvägen 56\, Tullinge\, 146 38\, Sweden
CATEGORIES:Uthyrning klubbstugan
GEO:59.193432193406;17.901717405743
X-APPLE-STRUCTURED-LOCATION;VALUE=URI;X-ADDRESS=TSK-klubbstugan Flottiljvägen 56 Tullinge 146 38 Sweden;X-APPLE-RADIUS=500;X-TITLE=Flottiljvägen 56:geo:17.901717405743,59.193432193406
END:VEVENT
BEGIN:VEVENT
DTSTART;TZID=Europe/Stockholm:20250916T180000
DTEND;TZID=Europe/Stockholm:20250916T190000
DTSTAMP:20260422T210043
CREATED:20250819T182424Z
LAST-MODIFIED:20251020T095021Z
UID:10001972-1758045600-1758049200@www.tullingesk.se
SUMMARY:Träsktrollen
DESCRIPTION:Barn födda 2017-2018 \n 
URL:https://www.tullingesk.se/aktivitet/trasktrollen-6/2025-09-16/
LOCATION:TSK-klubbstugan\, Flottiljvägen 56\, Tullinge\, 146 38\, Sweden
CATEGORIES:Ungdomskommittén
GEO:59.193432193406;17.901717405743
X-APPLE-STRUCTURED-LOCATION;VALUE=URI;X-ADDRESS=TSK-klubbstugan Flottiljvägen 56 Tullinge 146 38 Sweden;X-APPLE-RADIUS=500;X-TITLE=Flottiljvägen 56:geo:17.901717405743,59.193432193406
END:VEVENT
BEGIN:VEVENT
DTSTART;TZID=Europe/Stockholm:20250916T180000
DTEND;TZID=Europe/Stockholm:20250916T190000
DTSTAMP:20260422T210043
CREATED:20250904T183507Z
LAST-MODIFIED:20250916T120937Z
UID:10001603-1758045600-1758049200@www.tullingesk.se
SUMMARY:Grupp 4 tisdagar
DESCRIPTION:OL-intervall-pyramid\, mao börjar med kort intervall\, sedan blir de längre och tillslut minskar igen och vips så är vi tillbaka vid klubbstugan\, redo för soppa. \nPannlampa är nog inget måste men kan naturligtvis hjälpa. \nV38 Daniel Helander & Henrik Bladh
URL:https://www.tullingesk.se/aktivitet/grupp-4-tisdagar-38/
LOCATION:TSK-klubbstugan\, Flottiljvägen 56\, Tullinge\, 146 38\, Sweden
GEO:59.193432193406;17.901717405743
X-APPLE-STRUCTURED-LOCATION;VALUE=URI;X-ADDRESS=TSK-klubbstugan Flottiljvägen 56 Tullinge 146 38 Sweden;X-APPLE-RADIUS=500;X-TITLE=Flottiljvägen 56:geo:17.901717405743,59.193432193406
END:VEVENT
BEGIN:VEVENT
DTSTART;TZID=Europe/Stockholm:20250916T180000
DTEND;TZID=Europe/Stockholm:20250916T191500
DTSTAMP:20260422T210043
CREATED:20250819T182133Z
LAST-MODIFIED:20250819T182133Z
UID:10001963-1758045600-1758050100@www.tullingesk.se
SUMMARY:9-12 träning
DESCRIPTION:
URL:https://www.tullingesk.se/aktivitet/9-12-traning-3/2025-09-16/
LOCATION:TSK-klubbstugan\, Flottiljvägen 56\, Tullinge\, 146 38\, Sweden
CATEGORIES:Ungdomskommittén
GEO:59.193432193406;17.901717405743
X-APPLE-STRUCTURED-LOCATION;VALUE=URI;X-ADDRESS=TSK-klubbstugan Flottiljvägen 56 Tullinge 146 38 Sweden;X-APPLE-RADIUS=500;X-TITLE=Flottiljvägen 56:geo:17.901717405743,59.193432193406
END:VEVENT
BEGIN:VEVENT
DTSTART;TZID=Europe/Stockholm:20250916T180000
DTEND;TZID=Europe/Stockholm:20250916T200000
DTSTAMP:20260422T210043
CREATED:20250708T181722Z
LAST-MODIFIED:20250831T154541Z
UID:10001008-1758045600-1758052800@www.tullingesk.se
SUMMARY:HD17
DESCRIPTION:4×8 min\, vila 2 min. Vi springer på spåret. \n  \nAnsvarig: Matthew
URL:https://www.tullingesk.se/aktivitet/hd17-92/
LOCATION:TSK-klubbstugan\, Flottiljvägen 56\, Tullinge\, 146 38\, Sweden
GEO:59.193432193406;17.901717405743
X-APPLE-STRUCTURED-LOCATION;VALUE=URI;X-ADDRESS=TSK-klubbstugan Flottiljvägen 56 Tullinge 146 38 Sweden;X-APPLE-RADIUS=500;X-TITLE=Flottiljvägen 56:geo:17.901717405743,59.193432193406
END:VEVENT
BEGIN:VEVENT
DTSTART;TZID=Europe/Stockholm:20250916T180000
DTEND;TZID=Europe/Stockholm:20250916T210000
DTSTAMP:20260422T210043
CREATED:20250810T124435Z
LAST-MODIFIED:20250810T124435Z
UID:10001932-1758045600-1758056400@www.tullingesk.se
SUMMARY:Soppa och städa
DESCRIPTION:Soppa: K Håland/M Heinrup/L Hävren/G Eriksson/A Perneby \nStäd Dam: Anna Ställberg och Ingela Hersen \nStäd Herr: Peter Mattila och Rickard Andersson
URL:https://www.tullingesk.se/aktivitet/soppa-och-stada-80/
LOCATION:TSK-klubbstugan\, Flottiljvägen 56\, Tullinge\, 146 38\, Sweden
CATEGORIES:Städvecka / tisdagssoppa
GEO:59.193432193406;17.901717405743
X-APPLE-STRUCTURED-LOCATION;VALUE=URI;X-ADDRESS=TSK-klubbstugan Flottiljvägen 56 Tullinge 146 38 Sweden;X-APPLE-RADIUS=500;X-TITLE=Flottiljvägen 56:geo:17.901717405743,59.193432193406
END:VEVENT
BEGIN:VEVENT
DTSTART;TZID=Europe/Stockholm:20250916T193000
DTEND;TZID=Europe/Stockholm:20250916T210000
DTSTAMP:20260422T210043
CREATED:20250820T052507Z
LAST-MODIFIED:20250820T052507Z
UID:10002030-1758051000-1758056400@www.tullingesk.se
SUMMARY:EK-möte i lilla rummet vid entrén
DESCRIPTION:Månatliga mötet.
URL:https://www.tullingesk.se/aktivitet/ek-mote-i-lilla-rummet-vid-entren-9/
LOCATION:TSK-klubbstugan\, Flottiljvägen 56\, Tullinge\, 146 38\, Sweden
CATEGORIES:Elitkommittén
GEO:59.193432193406;17.901717405743
X-APPLE-STRUCTURED-LOCATION;VALUE=URI;X-ADDRESS=TSK-klubbstugan Flottiljvägen 56 Tullinge 146 38 Sweden;X-APPLE-RADIUS=500;X-TITLE=Flottiljvägen 56:geo:17.901717405743,59.193432193406
END:VEVENT
BEGIN:VEVENT
DTSTART;TZID=Europe/Stockholm:20250917T173000
DTEND;TZID=Europe/Stockholm:20250917T200000
DTSTAMP:20260422T210043
CREATED:20250913T180505Z
LAST-MODIFIED:20250913T180546Z
UID:10002048-1758130200-1758139200@www.tullingesk.se
SUMMARY:Mtbo
DESCRIPTION:ABCD-Cupen Från Brantbrink
URL:https://www.tullingesk.se/aktivitet/mtbo/
LOCATION:TSK-klubbstugan\, Flottiljvägen 56\, Tullinge\, 146 38\, Sweden
CATEGORIES:Tullinge SK
GEO:59.193432193406;17.901717405743
X-APPLE-STRUCTURED-LOCATION;VALUE=URI;X-ADDRESS=TSK-klubbstugan Flottiljvägen 56 Tullinge 146 38 Sweden;X-APPLE-RADIUS=500;X-TITLE=Flottiljvägen 56:geo:17.901717405743,59.193432193406
END:VEVENT
BEGIN:VEVENT
DTSTART;TZID=Europe/Stockholm:20250918T175000
DTEND;TZID=Europe/Stockholm:20250918T190000
DTSTAMP:20260422T210043
CREATED:20250912T171807Z
LAST-MODIFIED:20250917T065856Z
UID:10002047-1758217800-1758222000@www.tullingesk.se
SUMMARY:Teknikträning Älvsjöskogen - ny plats mot tidigare aviserat
DESCRIPTION:OBS. Plats ändrad till Älvsjöskogen då sydsam missat att skogen runt Kungens kurva var avlyst för 25-manna nästa år. \nTeknikträning öppen för alla medlemmar. OBS Samling kl 17:50. \nAnmälan senast onsdag kl 16 via Eventor: https://eventor.orientering.se/Activities/Show/24449 \nSamling: Vid OK Älvsjö Örbys klubbstuga https://maps.app.goo.gl/ytUBGV65sFZ22DUs7\nParkering på villagatorna i närheten eller promenad från Älvsjö station. \nBanor/tema:\nGul + Orange : Vanlig bana av medeldistanskaraktär.\nSvart: Tre slingor på ca 3\,5 km st. Två av slingorna på reducerad karta med endast brunbild\, stenar mm kvar. En av slingorna på en vanlig karta med lite enklare kontroller (röd/violett) som tas i hög fart. \nBanlängder:\nGul 2\,8 km\nOrange 3\,4 km\nSvart tre st slingor på ca 3\,5 km per st \nAnsvariga ledare:\n13-16 ledare: Calle\n9-12 ledare: Frida \nBanläggare:\nSydsam \nUtskrift: Rickard \nMedtag gärna plastficka A4
URL:https://www.tullingesk.se/aktivitet/tekniktraning-kungens-kurva/
LOCATION:TSK-klubbstugan\, Flottiljvägen 56\, Tullinge\, 146 38\, Sweden
GEO:59.193432193406;17.901717405743
X-APPLE-STRUCTURED-LOCATION;VALUE=URI;X-ADDRESS=TSK-klubbstugan Flottiljvägen 56 Tullinge 146 38 Sweden;X-APPLE-RADIUS=500;X-TITLE=Flottiljvägen 56:geo:17.901717405743,59.193432193406
END:VEVENT
BEGIN:VEVENT
DTSTART;TZID=Europe/Stockholm:20250920T110000
DTEND;TZID=Europe/Stockholm:20250920T180000
DTSTAMP:20260422T210043
CREATED:20250825T171359Z
LAST-MODIFIED:20250827T163937Z
UID:10002038-1758366000-1758391200@www.tullingesk.se
SUMMARY:Stugan uthyrd/Carina Ronge
DESCRIPTION:
URL:https://www.tullingesk.se/aktivitet/stugan-uthyrd-carin-ronge/
LOCATION:TSK-klubbstugan\, Flottiljvägen 56\, Tullinge\, 146 38\, Sweden
CATEGORIES:Uthyrning klubbstugan
GEO:59.193432193406;17.901717405743
X-APPLE-STRUCTURED-LOCATION;VALUE=URI;X-ADDRESS=TSK-klubbstugan Flottiljvägen 56 Tullinge 146 38 Sweden;X-APPLE-RADIUS=500;X-TITLE=Flottiljvägen 56:geo:17.901717405743,59.193432193406
END:VEVENT
BEGIN:VEVENT
DTSTART;TZID=Europe/Stockholm:20250923T180000
DTEND;TZID=Europe/Stockholm:20250923T190000
DTSTAMP:20260422T210043
CREATED:20250819T182424Z
LAST-MODIFIED:20251020T095021Z
UID:10001973-1758650400-1758654000@www.tullingesk.se
SUMMARY:Träsktrollen
DESCRIPTION:Barn födda 2017-2018 \n 
URL:https://www.tullingesk.se/aktivitet/trasktrollen-6/2025-09-23/
LOCATION:TSK-klubbstugan\, Flottiljvägen 56\, Tullinge\, 146 38\, Sweden
CATEGORIES:Ungdomskommittén
GEO:59.193432193406;17.901717405743
X-APPLE-STRUCTURED-LOCATION;VALUE=URI;X-ADDRESS=TSK-klubbstugan Flottiljvägen 56 Tullinge 146 38 Sweden;X-APPLE-RADIUS=500;X-TITLE=Flottiljvägen 56:geo:17.901717405743,59.193432193406
END:VEVENT
BEGIN:VEVENT
DTSTART;TZID=Europe/Stockholm:20250923T180000
DTEND;TZID=Europe/Stockholm:20250923T190000
DTSTAMP:20260422T210043
CREATED:20250904T183637Z
LAST-MODIFIED:20250904T183637Z
UID:10001604-1758650400-1758654000@www.tullingesk.se
SUMMARY:Grupp 4 tisdagar
DESCRIPTION:Grupp 4 – gruppen för alla! \nFör instruktioner och lista över alla ansvariga:  https://www.tullingesk.se/bredd-motionar/ \nV39 Piero Sannicolo & Åsa Sand
URL:https://www.tullingesk.se/aktivitet/grupp-4-tisdagar-39/
LOCATION:TSK-klubbstugan\, Flottiljvägen 56\, Tullinge\, 146 38\, Sweden
GEO:59.193432193406;17.901717405743
X-APPLE-STRUCTURED-LOCATION;VALUE=URI;X-ADDRESS=TSK-klubbstugan Flottiljvägen 56 Tullinge 146 38 Sweden;X-APPLE-RADIUS=500;X-TITLE=Flottiljvägen 56:geo:17.901717405743,59.193432193406
END:VEVENT
BEGIN:VEVENT
DTSTART;TZID=Europe/Stockholm:20250923T180000
DTEND;TZID=Europe/Stockholm:20250923T191500
DTSTAMP:20260422T210043
CREATED:20250819T182133Z
LAST-MODIFIED:20250819T182133Z
UID:10001964-1758650400-1758654900@www.tullingesk.se
SUMMARY:9-12 träning
DESCRIPTION:
URL:https://www.tullingesk.se/aktivitet/9-12-traning-3/2025-09-23/
LOCATION:TSK-klubbstugan\, Flottiljvägen 56\, Tullinge\, 146 38\, Sweden
CATEGORIES:Ungdomskommittén
GEO:59.193432193406;17.901717405743
X-APPLE-STRUCTURED-LOCATION;VALUE=URI;X-ADDRESS=TSK-klubbstugan Flottiljvägen 56 Tullinge 146 38 Sweden;X-APPLE-RADIUS=500;X-TITLE=Flottiljvägen 56:geo:17.901717405743,59.193432193406
END:VEVENT
BEGIN:VEVENT
DTSTART;TZID=Europe/Stockholm:20250923T180000
DTEND;TZID=Europe/Stockholm:20250923T191500
DTSTAMP:20260422T210043
CREATED:20250922T151527Z
LAST-MODIFIED:20250922T151527Z
UID:10002335-1758650400-1758654900@www.tullingesk.se
SUMMARY:1316-gruppen: Hillarious (ol-skor & starka ben)
DESCRIPTION:
URL:https://www.tullingesk.se/aktivitet/1316-gruppen-hillarious-ol-skor-starka-ben/
LOCATION:TSK-klubbstugan\, Flottiljvägen 56\, Tullinge\, 146 38\, Sweden
GEO:59.193432193406;17.901717405743
X-APPLE-STRUCTURED-LOCATION;VALUE=URI;X-ADDRESS=TSK-klubbstugan Flottiljvägen 56 Tullinge 146 38 Sweden;X-APPLE-RADIUS=500;X-TITLE=Flottiljvägen 56:geo:17.901717405743,59.193432193406
END:VEVENT
BEGIN:VEVENT
DTSTART;TZID=Europe/Stockholm:20250923T180000
DTEND;TZID=Europe/Stockholm:20250923T200000
DTSTAMP:20260422T210043
CREATED:20250708T181726Z
LAST-MODIFIED:20250923T055713Z
UID:10001009-1758650400-1758657600@www.tullingesk.se
SUMMARY:HD17
DESCRIPTION:Backintervaller. Underlag grus och väg.  \nAnsvarig: Simon
URL:https://www.tullingesk.se/aktivitet/hd17-93/
LOCATION:TSK-klubbstugan\, Flottiljvägen 56\, Tullinge\, 146 38\, Sweden
GEO:59.193432193406;17.901717405743
X-APPLE-STRUCTURED-LOCATION;VALUE=URI;X-ADDRESS=TSK-klubbstugan Flottiljvägen 56 Tullinge 146 38 Sweden;X-APPLE-RADIUS=500;X-TITLE=Flottiljvägen 56:geo:17.901717405743,59.193432193406
END:VEVENT
BEGIN:VEVENT
DTSTART;TZID=Europe/Stockholm:20250923T180000
DTEND;TZID=Europe/Stockholm:20250923T210000
DTSTAMP:20260422T210043
CREATED:20250810T124637Z
LAST-MODIFIED:20250810T124637Z
UID:10001933-1758650400-1758661200@www.tullingesk.se
SUMMARY:Soppa och städa
DESCRIPTION:Soppa: C Sigrand Barker/J+K Illergård/H Larbo/F Kalderen \nStäd Dam: Sofia Sundström och Julia Pütsep \nStäd Herr: Lars Lönnkvist och Piero Sannicolo
URL:https://www.tullingesk.se/aktivitet/soppa-och-stada-81/
LOCATION:TSK-klubbstugan\, Flottiljvägen 56\, Tullinge\, 146 38\, Sweden
CATEGORIES:Städvecka / tisdagssoppa
GEO:59.193432193406;17.901717405743
X-APPLE-STRUCTURED-LOCATION;VALUE=URI;X-ADDRESS=TSK-klubbstugan Flottiljvägen 56 Tullinge 146 38 Sweden;X-APPLE-RADIUS=500;X-TITLE=Flottiljvägen 56:geo:17.901717405743,59.193432193406
END:VEVENT
END:VCALENDAR