BEGIN:VCALENDAR
VERSION:2.0
PRODID:-//Tullinge SK - ECPv6.15.20//NONSGML v1.0//EN
CALSCALE:GREGORIAN
METHOD:PUBLISH
X-ORIGINAL-URL:https://www.tullingesk.se
X-WR-CALDESC:Händelser för Tullinge SK
REFRESH-INTERVAL;VALUE=DURATION:PT1H
X-Robots-Tag:noindex
X-PUBLISHED-TTL:PT1H
BEGIN:VTIMEZONE
TZID:Europe/Stockholm
BEGIN:DAYLIGHT
TZOFFSETFROM:+0100
TZOFFSETTO:+0200
TZNAME:CEST
DTSTART:20250330T010000
END:DAYLIGHT
BEGIN:STANDARD
TZOFFSETFROM:+0200
TZOFFSETTO:+0100
TZNAME:CET
DTSTART:20251026T010000
END:STANDARD
BEGIN:DAYLIGHT
TZOFFSETFROM:+0100
TZOFFSETTO:+0200
TZNAME:CEST
DTSTART:20260329T010000
END:DAYLIGHT
BEGIN:STANDARD
TZOFFSETFROM:+0200
TZOFFSETTO:+0100
TZNAME:CET
DTSTART:20261025T010000
END:STANDARD
BEGIN:DAYLIGHT
TZOFFSETFROM:+0100
TZOFFSETTO:+0200
TZNAME:CEST
DTSTART:20270328T010000
END:DAYLIGHT
BEGIN:STANDARD
TZOFFSETFROM:+0200
TZOFFSETTO:+0100
TZNAME:CET
DTSTART:20271031T010000
END:STANDARD
BEGIN:DAYLIGHT
TZOFFSETFROM:+0100
TZOFFSETTO:+0200
TZNAME:CEST
DTSTART:20280326T010000
END:DAYLIGHT
BEGIN:STANDARD
TZOFFSETFROM:+0200
TZOFFSETTO:+0100
TZNAME:CET
DTSTART:20281029T010000
END:STANDARD
END:VTIMEZONE
BEGIN:VEVENT
DTSTART;TZID=Europe/Stockholm:20261027T180000
DTEND;TZID=Europe/Stockholm:20261027T200000
DTSTAMP:20260419T214947
CREATED:20260413T183550Z
LAST-MODIFIED:20260413T183550Z
UID:10001056-1793124000-1793131200@www.tullingesk.se
SUMMARY:HD17
DESCRIPTION:Intervaller på spåret. \nAnsvarig Simon/Matthew
URL:https://www.tullingesk.se/aktivitet/hd17-34-17/2026-10-27/
LOCATION:TSK-klubbstugan\, Flottiljvägen 56\, Tullinge\, 146 38\, Sweden
GEO:59.193432193406;17.901717405743
X-APPLE-STRUCTURED-LOCATION;VALUE=URI;X-ADDRESS=TSK-klubbstugan Flottiljvägen 56 Tullinge 146 38 Sweden;X-APPLE-RADIUS=500;X-TITLE=Flottiljvägen 56:geo:17.901717405743,59.193432193406
END:VEVENT
BEGIN:VEVENT
DTSTART;TZID=Europe/Stockholm:20261103T180000
DTEND;TZID=Europe/Stockholm:20261103T190000
DTSTAMP:20260419T214947
CREATED:20260315T172514Z
LAST-MODIFIED:20260315T172514Z
UID:10003055-1793728800-1793732400@www.tullingesk.se
SUMMARY:Grupp4-tisdagsträning
DESCRIPTION:Grupp 4 – tisdagsträning \nGruppen för alla som inte väljer annan grupp  \nAnsvarig denna vecka: \nV12 A-K Ohlsson och Anna Perneby \n  \n  \n  \nFör anvisningar och lista över ansvariga: https://www.tullingesk.se/bredd-motionar/
URL:https://www.tullingesk.se/aktivitet/grupp4-tisdagstraning/2026-11-03/
LOCATION:TSK-klubbstugan\, Flottiljvägen 56\, Tullinge\, 146 38\, Sweden
GEO:59.193432193406;17.901717405743
X-APPLE-STRUCTURED-LOCATION;VALUE=URI;X-ADDRESS=TSK-klubbstugan Flottiljvägen 56 Tullinge 146 38 Sweden;X-APPLE-RADIUS=500;X-TITLE=Flottiljvägen 56:geo:17.901717405743,59.193432193406
END:VEVENT
BEGIN:VEVENT
DTSTART;TZID=Europe/Stockholm:20261103T180000
DTEND;TZID=Europe/Stockholm:20261103T191500
DTSTAMP:20260419T214947
CREATED:20260403T091758Z
LAST-MODIFIED:20260403T091758Z
UID:10003191-1793728800-1793733300@www.tullingesk.se
SUMMARY:9-12 träning
DESCRIPTION:Tisdagsträning för 9-12 gruppen \nSamling vid stakethörnet
URL:https://www.tullingesk.se/aktivitet/9-12-traning-4/2026-11-03/
LOCATION:TSK-klubbstugan\, Flottiljvägen 56\, Tullinge\, 146 38\, Sweden
GEO:59.193432193406;17.901717405743
X-APPLE-STRUCTURED-LOCATION;VALUE=URI;X-ADDRESS=TSK-klubbstugan Flottiljvägen 56 Tullinge 146 38 Sweden;X-APPLE-RADIUS=500;X-TITLE=Flottiljvägen 56:geo:17.901717405743,59.193432193406
END:VEVENT
BEGIN:VEVENT
DTSTART;TZID=Europe/Stockholm:20261103T180000
DTEND;TZID=Europe/Stockholm:20261103T200000
DTSTAMP:20260419T214947
CREATED:20260413T183550Z
LAST-MODIFIED:20260413T183550Z
UID:10001057-1793728800-1793736000@www.tullingesk.se
SUMMARY:HD17
DESCRIPTION:Intervaller på spåret. \nAnsvarig Simon/Matthew
URL:https://www.tullingesk.se/aktivitet/hd17-34-17/2026-11-03/
LOCATION:TSK-klubbstugan\, Flottiljvägen 56\, Tullinge\, 146 38\, Sweden
GEO:59.193432193406;17.901717405743
X-APPLE-STRUCTURED-LOCATION;VALUE=URI;X-ADDRESS=TSK-klubbstugan Flottiljvägen 56 Tullinge 146 38 Sweden;X-APPLE-RADIUS=500;X-TITLE=Flottiljvägen 56:geo:17.901717405743,59.193432193406
END:VEVENT
BEGIN:VEVENT
DTSTART;TZID=Europe/Stockholm:20261110T180000
DTEND;TZID=Europe/Stockholm:20261110T191500
DTSTAMP:20260419T214947
CREATED:20260403T091758Z
LAST-MODIFIED:20260403T091758Z
UID:10003192-1794333600-1794338100@www.tullingesk.se
SUMMARY:9-12 träning
DESCRIPTION:Tisdagsträning för 9-12 gruppen \nSamling vid stakethörnet
URL:https://www.tullingesk.se/aktivitet/9-12-traning-4/2026-11-10/
LOCATION:TSK-klubbstugan\, Flottiljvägen 56\, Tullinge\, 146 38\, Sweden
GEO:59.193432193406;17.901717405743
X-APPLE-STRUCTURED-LOCATION;VALUE=URI;X-ADDRESS=TSK-klubbstugan Flottiljvägen 56 Tullinge 146 38 Sweden;X-APPLE-RADIUS=500;X-TITLE=Flottiljvägen 56:geo:17.901717405743,59.193432193406
END:VEVENT
BEGIN:VEVENT
DTSTART;TZID=Europe/Stockholm:20261110T180000
DTEND;TZID=Europe/Stockholm:20261110T200000
DTSTAMP:20260419T214947
CREATED:20260413T183550Z
LAST-MODIFIED:20260413T183550Z
UID:10001058-1794333600-1794340800@www.tullingesk.se
SUMMARY:HD17
DESCRIPTION:Intervaller på spåret. \nAnsvarig Simon/Matthew
URL:https://www.tullingesk.se/aktivitet/hd17-34-17/2026-11-10/
LOCATION:TSK-klubbstugan\, Flottiljvägen 56\, Tullinge\, 146 38\, Sweden
GEO:59.193432193406;17.901717405743
X-APPLE-STRUCTURED-LOCATION;VALUE=URI;X-ADDRESS=TSK-klubbstugan Flottiljvägen 56 Tullinge 146 38 Sweden;X-APPLE-RADIUS=500;X-TITLE=Flottiljvägen 56:geo:17.901717405743,59.193432193406
END:VEVENT
BEGIN:VEVENT
DTSTART;TZID=Europe/Stockholm:20261114T080000
DTEND;TZID=Europe/Stockholm:20261114T170000
DTSTAMP:20260419T214947
CREATED:20251127T093141Z
LAST-MODIFIED:20251127T093214Z
UID:10002730-1794643200-1794675600@www.tullingesk.se
SUMMARY:Stugan uthyrd/SOFT
DESCRIPTION:SOFT\, barnträningsutbildning
URL:https://www.tullingesk.se/aktivitet/stugan-uthyrd-soft-2/2026-11-14/
LOCATION:TSK-klubbstugan\, Flottiljvägen 56\, Tullinge\, 146 38\, Sweden
CATEGORIES:Uthyrning klubbstugan
GEO:59.193432193406;17.901717405743
X-APPLE-STRUCTURED-LOCATION;VALUE=URI;X-ADDRESS=TSK-klubbstugan Flottiljvägen 56 Tullinge 146 38 Sweden;X-APPLE-RADIUS=500;X-TITLE=Flottiljvägen 56:geo:17.901717405743,59.193432193406
END:VEVENT
BEGIN:VEVENT
DTSTART;TZID=Europe/Stockholm:20261117T180000
DTEND;TZID=Europe/Stockholm:20261117T191500
DTSTAMP:20260419T214947
CREATED:20260403T091758Z
LAST-MODIFIED:20260403T091758Z
UID:10003193-1794938400-1794942900@www.tullingesk.se
SUMMARY:9-12 träning
DESCRIPTION:Tisdagsträning för 9-12 gruppen \nSamling vid stakethörnet
URL:https://www.tullingesk.se/aktivitet/9-12-traning-4/2026-11-17/
LOCATION:TSK-klubbstugan\, Flottiljvägen 56\, Tullinge\, 146 38\, Sweden
GEO:59.193432193406;17.901717405743
X-APPLE-STRUCTURED-LOCATION;VALUE=URI;X-ADDRESS=TSK-klubbstugan Flottiljvägen 56 Tullinge 146 38 Sweden;X-APPLE-RADIUS=500;X-TITLE=Flottiljvägen 56:geo:17.901717405743,59.193432193406
END:VEVENT
BEGIN:VEVENT
DTSTART;TZID=Europe/Stockholm:20261117T180000
DTEND;TZID=Europe/Stockholm:20261117T200000
DTSTAMP:20260419T214947
CREATED:20260413T183550Z
LAST-MODIFIED:20260413T183550Z
UID:10001059-1794938400-1794945600@www.tullingesk.se
SUMMARY:HD17
DESCRIPTION:Intervaller på spåret. \nAnsvarig Simon/Matthew
URL:https://www.tullingesk.se/aktivitet/hd17-34-17/2026-11-17/
LOCATION:TSK-klubbstugan\, Flottiljvägen 56\, Tullinge\, 146 38\, Sweden
GEO:59.193432193406;17.901717405743
X-APPLE-STRUCTURED-LOCATION;VALUE=URI;X-ADDRESS=TSK-klubbstugan Flottiljvägen 56 Tullinge 146 38 Sweden;X-APPLE-RADIUS=500;X-TITLE=Flottiljvägen 56:geo:17.901717405743,59.193432193406
END:VEVENT
BEGIN:VEVENT
DTSTART;TZID=Europe/Stockholm:20261124T180000
DTEND;TZID=Europe/Stockholm:20261124T190000
DTSTAMP:20260419T214947
CREATED:20260315T172514Z
LAST-MODIFIED:20260315T172514Z
UID:10003056-1795543200-1795546800@www.tullingesk.se
SUMMARY:Grupp4-tisdagsträning
DESCRIPTION:Grupp 4 – tisdagsträning \nGruppen för alla som inte väljer annan grupp  \nAnsvarig denna vecka: \nV12 A-K Ohlsson och Anna Perneby \n  \n  \n  \nFör anvisningar och lista över ansvariga: https://www.tullingesk.se/bredd-motionar/
URL:https://www.tullingesk.se/aktivitet/grupp4-tisdagstraning/2026-11-24/
LOCATION:TSK-klubbstugan\, Flottiljvägen 56\, Tullinge\, 146 38\, Sweden
GEO:59.193432193406;17.901717405743
X-APPLE-STRUCTURED-LOCATION;VALUE=URI;X-ADDRESS=TSK-klubbstugan Flottiljvägen 56 Tullinge 146 38 Sweden;X-APPLE-RADIUS=500;X-TITLE=Flottiljvägen 56:geo:17.901717405743,59.193432193406
END:VEVENT
BEGIN:VEVENT
DTSTART;TZID=Europe/Stockholm:20261124T180000
DTEND;TZID=Europe/Stockholm:20261124T191500
DTSTAMP:20260419T214947
CREATED:20260403T091758Z
LAST-MODIFIED:20260403T091758Z
UID:10003194-1795543200-1795547700@www.tullingesk.se
SUMMARY:9-12 träning
DESCRIPTION:Tisdagsträning för 9-12 gruppen \nSamling vid stakethörnet
URL:https://www.tullingesk.se/aktivitet/9-12-traning-4/2026-11-24/
LOCATION:TSK-klubbstugan\, Flottiljvägen 56\, Tullinge\, 146 38\, Sweden
GEO:59.193432193406;17.901717405743
X-APPLE-STRUCTURED-LOCATION;VALUE=URI;X-ADDRESS=TSK-klubbstugan Flottiljvägen 56 Tullinge 146 38 Sweden;X-APPLE-RADIUS=500;X-TITLE=Flottiljvägen 56:geo:17.901717405743,59.193432193406
END:VEVENT
BEGIN:VEVENT
DTSTART;TZID=Europe/Stockholm:20261124T180000
DTEND;TZID=Europe/Stockholm:20261124T200000
DTSTAMP:20260419T214947
CREATED:20260413T183550Z
LAST-MODIFIED:20260413T183550Z
UID:10000924-1795543200-1795550400@www.tullingesk.se
SUMMARY:HD17
DESCRIPTION:Intervaller på spåret. \nAnsvarig Simon/Matthew
URL:https://www.tullingesk.se/aktivitet/hd17-34-17/2026-11-24/
LOCATION:TSK-klubbstugan\, Flottiljvägen 56\, Tullinge\, 146 38\, Sweden
GEO:59.193432193406;17.901717405743
X-APPLE-STRUCTURED-LOCATION;VALUE=URI;X-ADDRESS=TSK-klubbstugan Flottiljvägen 56 Tullinge 146 38 Sweden;X-APPLE-RADIUS=500;X-TITLE=Flottiljvägen 56:geo:17.901717405743,59.193432193406
END:VEVENT
BEGIN:VEVENT
DTSTART;TZID=Europe/Stockholm:20261201T180000
DTEND;TZID=Europe/Stockholm:20261201T191500
DTSTAMP:20260419T214947
CREATED:20260403T091758Z
LAST-MODIFIED:20260403T091758Z
UID:10003195-1796148000-1796152500@www.tullingesk.se
SUMMARY:9-12 träning
DESCRIPTION:Tisdagsträning för 9-12 gruppen \nSamling vid stakethörnet
URL:https://www.tullingesk.se/aktivitet/9-12-traning-4/2026-12-01/
LOCATION:TSK-klubbstugan\, Flottiljvägen 56\, Tullinge\, 146 38\, Sweden
GEO:59.193432193406;17.901717405743
X-APPLE-STRUCTURED-LOCATION;VALUE=URI;X-ADDRESS=TSK-klubbstugan Flottiljvägen 56 Tullinge 146 38 Sweden;X-APPLE-RADIUS=500;X-TITLE=Flottiljvägen 56:geo:17.901717405743,59.193432193406
END:VEVENT
BEGIN:VEVENT
DTSTART;TZID=Europe/Stockholm:20261201T180000
DTEND;TZID=Europe/Stockholm:20261201T200000
DTSTAMP:20260419T214947
CREATED:20260413T183550Z
LAST-MODIFIED:20260413T183550Z
UID:10001060-1796148000-1796155200@www.tullingesk.se
SUMMARY:HD17
DESCRIPTION:Intervaller på spåret. \nAnsvarig Simon/Matthew
URL:https://www.tullingesk.se/aktivitet/hd17-34-17/2026-12-01/
LOCATION:TSK-klubbstugan\, Flottiljvägen 56\, Tullinge\, 146 38\, Sweden
GEO:59.193432193406;17.901717405743
X-APPLE-STRUCTURED-LOCATION;VALUE=URI;X-ADDRESS=TSK-klubbstugan Flottiljvägen 56 Tullinge 146 38 Sweden;X-APPLE-RADIUS=500;X-TITLE=Flottiljvägen 56:geo:17.901717405743,59.193432193406
END:VEVENT
BEGIN:VEVENT
DTSTART;TZID=Europe/Stockholm:20261208T180000
DTEND;TZID=Europe/Stockholm:20261208T191500
DTSTAMP:20260419T214947
CREATED:20260403T091758Z
LAST-MODIFIED:20260403T091758Z
UID:10003196-1796752800-1796757300@www.tullingesk.se
SUMMARY:9-12 träning
DESCRIPTION:Tisdagsträning för 9-12 gruppen \nSamling vid stakethörnet
URL:https://www.tullingesk.se/aktivitet/9-12-traning-4/2026-12-08/
LOCATION:TSK-klubbstugan\, Flottiljvägen 56\, Tullinge\, 146 38\, Sweden
GEO:59.193432193406;17.901717405743
X-APPLE-STRUCTURED-LOCATION;VALUE=URI;X-ADDRESS=TSK-klubbstugan Flottiljvägen 56 Tullinge 146 38 Sweden;X-APPLE-RADIUS=500;X-TITLE=Flottiljvägen 56:geo:17.901717405743,59.193432193406
END:VEVENT
BEGIN:VEVENT
DTSTART;TZID=Europe/Stockholm:20261208T180000
DTEND;TZID=Europe/Stockholm:20261208T200000
DTSTAMP:20260419T214947
CREATED:20260413T183550Z
LAST-MODIFIED:20260413T183550Z
UID:10001061-1796752800-1796760000@www.tullingesk.se
SUMMARY:HD17
DESCRIPTION:Intervaller på spåret. \nAnsvarig Simon/Matthew
URL:https://www.tullingesk.se/aktivitet/hd17-34-17/2026-12-08/
LOCATION:TSK-klubbstugan\, Flottiljvägen 56\, Tullinge\, 146 38\, Sweden
GEO:59.193432193406;17.901717405743
X-APPLE-STRUCTURED-LOCATION;VALUE=URI;X-ADDRESS=TSK-klubbstugan Flottiljvägen 56 Tullinge 146 38 Sweden;X-APPLE-RADIUS=500;X-TITLE=Flottiljvägen 56:geo:17.901717405743,59.193432193406
END:VEVENT
BEGIN:VEVENT
DTSTART;TZID=Europe/Stockholm:20261215T180000
DTEND;TZID=Europe/Stockholm:20261215T190000
DTSTAMP:20260419T214947
CREATED:20260315T172514Z
LAST-MODIFIED:20260315T172514Z
UID:10003057-1797357600-1797361200@www.tullingesk.se
SUMMARY:Grupp4-tisdagsträning
DESCRIPTION:Grupp 4 – tisdagsträning \nGruppen för alla som inte väljer annan grupp  \nAnsvarig denna vecka: \nV12 A-K Ohlsson och Anna Perneby \n  \n  \n  \nFör anvisningar och lista över ansvariga: https://www.tullingesk.se/bredd-motionar/
URL:https://www.tullingesk.se/aktivitet/grupp4-tisdagstraning/2026-12-15/
LOCATION:TSK-klubbstugan\, Flottiljvägen 56\, Tullinge\, 146 38\, Sweden
GEO:59.193432193406;17.901717405743
X-APPLE-STRUCTURED-LOCATION;VALUE=URI;X-ADDRESS=TSK-klubbstugan Flottiljvägen 56 Tullinge 146 38 Sweden;X-APPLE-RADIUS=500;X-TITLE=Flottiljvägen 56:geo:17.901717405743,59.193432193406
END:VEVENT
BEGIN:VEVENT
DTSTART;TZID=Europe/Stockholm:20261215T180000
DTEND;TZID=Europe/Stockholm:20261215T191500
DTSTAMP:20260419T214947
CREATED:20260403T091758Z
LAST-MODIFIED:20260403T091758Z
UID:10003197-1797357600-1797362100@www.tullingesk.se
SUMMARY:9-12 träning
DESCRIPTION:Tisdagsträning för 9-12 gruppen \nSamling vid stakethörnet
URL:https://www.tullingesk.se/aktivitet/9-12-traning-4/2026-12-15/
LOCATION:TSK-klubbstugan\, Flottiljvägen 56\, Tullinge\, 146 38\, Sweden
GEO:59.193432193406;17.901717405743
X-APPLE-STRUCTURED-LOCATION;VALUE=URI;X-ADDRESS=TSK-klubbstugan Flottiljvägen 56 Tullinge 146 38 Sweden;X-APPLE-RADIUS=500;X-TITLE=Flottiljvägen 56:geo:17.901717405743,59.193432193406
END:VEVENT
BEGIN:VEVENT
DTSTART;TZID=Europe/Stockholm:20261215T180000
DTEND;TZID=Europe/Stockholm:20261215T200000
DTSTAMP:20260419T214947
CREATED:20260413T183550Z
LAST-MODIFIED:20260413T183550Z
UID:10001062-1797357600-1797364800@www.tullingesk.se
SUMMARY:HD17
DESCRIPTION:Intervaller på spåret. \nAnsvarig Simon/Matthew
URL:https://www.tullingesk.se/aktivitet/hd17-34-17/2026-12-15/
LOCATION:TSK-klubbstugan\, Flottiljvägen 56\, Tullinge\, 146 38\, Sweden
GEO:59.193432193406;17.901717405743
X-APPLE-STRUCTURED-LOCATION;VALUE=URI;X-ADDRESS=TSK-klubbstugan Flottiljvägen 56 Tullinge 146 38 Sweden;X-APPLE-RADIUS=500;X-TITLE=Flottiljvägen 56:geo:17.901717405743,59.193432193406
END:VEVENT
BEGIN:VEVENT
DTSTART;TZID=Europe/Stockholm:20261222T180000
DTEND;TZID=Europe/Stockholm:20261222T191500
DTSTAMP:20260419T214947
CREATED:20260403T091758Z
LAST-MODIFIED:20260403T091758Z
UID:10003198-1797962400-1797966900@www.tullingesk.se
SUMMARY:9-12 träning
DESCRIPTION:Tisdagsträning för 9-12 gruppen \nSamling vid stakethörnet
URL:https://www.tullingesk.se/aktivitet/9-12-traning-4/2026-12-22/
LOCATION:TSK-klubbstugan\, Flottiljvägen 56\, Tullinge\, 146 38\, Sweden
GEO:59.193432193406;17.901717405743
X-APPLE-STRUCTURED-LOCATION;VALUE=URI;X-ADDRESS=TSK-klubbstugan Flottiljvägen 56 Tullinge 146 38 Sweden;X-APPLE-RADIUS=500;X-TITLE=Flottiljvägen 56:geo:17.901717405743,59.193432193406
END:VEVENT
BEGIN:VEVENT
DTSTART;TZID=Europe/Stockholm:20261222T180000
DTEND;TZID=Europe/Stockholm:20261222T200000
DTSTAMP:20260419T214947
CREATED:20260413T183550Z
LAST-MODIFIED:20260413T183550Z
UID:10001063-1797962400-1797969600@www.tullingesk.se
SUMMARY:HD17
DESCRIPTION:Intervaller på spåret. \nAnsvarig Simon/Matthew
URL:https://www.tullingesk.se/aktivitet/hd17-34-17/2026-12-22/
LOCATION:TSK-klubbstugan\, Flottiljvägen 56\, Tullinge\, 146 38\, Sweden
GEO:59.193432193406;17.901717405743
X-APPLE-STRUCTURED-LOCATION;VALUE=URI;X-ADDRESS=TSK-klubbstugan Flottiljvägen 56 Tullinge 146 38 Sweden;X-APPLE-RADIUS=500;X-TITLE=Flottiljvägen 56:geo:17.901717405743,59.193432193406
END:VEVENT
BEGIN:VEVENT
DTSTART;TZID=Europe/Stockholm:20261229T180000
DTEND;TZID=Europe/Stockholm:20261229T191500
DTSTAMP:20260419T214947
CREATED:20260403T091758Z
LAST-MODIFIED:20260403T091758Z
UID:10003199-1798567200-1798571700@www.tullingesk.se
SUMMARY:9-12 träning
DESCRIPTION:Tisdagsträning för 9-12 gruppen \nSamling vid stakethörnet
URL:https://www.tullingesk.se/aktivitet/9-12-traning-4/2026-12-29/
LOCATION:TSK-klubbstugan\, Flottiljvägen 56\, Tullinge\, 146 38\, Sweden
GEO:59.193432193406;17.901717405743
X-APPLE-STRUCTURED-LOCATION;VALUE=URI;X-ADDRESS=TSK-klubbstugan Flottiljvägen 56 Tullinge 146 38 Sweden;X-APPLE-RADIUS=500;X-TITLE=Flottiljvägen 56:geo:17.901717405743,59.193432193406
END:VEVENT
BEGIN:VEVENT
DTSTART;TZID=Europe/Stockholm:20261229T180000
DTEND;TZID=Europe/Stockholm:20261229T200000
DTSTAMP:20260419T214947
CREATED:20260413T183550Z
LAST-MODIFIED:20260413T183550Z
UID:10001064-1798567200-1798574400@www.tullingesk.se
SUMMARY:HD17
DESCRIPTION:Intervaller på spåret. \nAnsvarig Simon/Matthew
URL:https://www.tullingesk.se/aktivitet/hd17-34-17/2026-12-29/
LOCATION:TSK-klubbstugan\, Flottiljvägen 56\, Tullinge\, 146 38\, Sweden
GEO:59.193432193406;17.901717405743
X-APPLE-STRUCTURED-LOCATION;VALUE=URI;X-ADDRESS=TSK-klubbstugan Flottiljvägen 56 Tullinge 146 38 Sweden;X-APPLE-RADIUS=500;X-TITLE=Flottiljvägen 56:geo:17.901717405743,59.193432193406
END:VEVENT
BEGIN:VEVENT
DTSTART;TZID=Europe/Stockholm:20270105T180000
DTEND;TZID=Europe/Stockholm:20270105T190000
DTSTAMP:20260419T214947
CREATED:20260315T172514Z
LAST-MODIFIED:20260315T172514Z
UID:10003058-1799172000-1799175600@www.tullingesk.se
SUMMARY:Grupp4-tisdagsträning
DESCRIPTION:Grupp 4 – tisdagsträning \nGruppen för alla som inte väljer annan grupp  \nAnsvarig denna vecka: \nV12 A-K Ohlsson och Anna Perneby \n  \n  \n  \nFör anvisningar och lista över ansvariga: https://www.tullingesk.se/bredd-motionar/
URL:https://www.tullingesk.se/aktivitet/grupp4-tisdagstraning/2027-01-05/
LOCATION:TSK-klubbstugan\, Flottiljvägen 56\, Tullinge\, 146 38\, Sweden
GEO:59.193432193406;17.901717405743
X-APPLE-STRUCTURED-LOCATION;VALUE=URI;X-ADDRESS=TSK-klubbstugan Flottiljvägen 56 Tullinge 146 38 Sweden;X-APPLE-RADIUS=500;X-TITLE=Flottiljvägen 56:geo:17.901717405743,59.193432193406
END:VEVENT
BEGIN:VEVENT
DTSTART;TZID=Europe/Stockholm:20270105T180000
DTEND;TZID=Europe/Stockholm:20270105T191500
DTSTAMP:20260419T214947
CREATED:20260403T091758Z
LAST-MODIFIED:20260403T091758Z
UID:10003200-1799172000-1799176500@www.tullingesk.se
SUMMARY:9-12 träning
DESCRIPTION:Tisdagsträning för 9-12 gruppen \nSamling vid stakethörnet
URL:https://www.tullingesk.se/aktivitet/9-12-traning-4/2027-01-05/
LOCATION:TSK-klubbstugan\, Flottiljvägen 56\, Tullinge\, 146 38\, Sweden
GEO:59.193432193406;17.901717405743
X-APPLE-STRUCTURED-LOCATION;VALUE=URI;X-ADDRESS=TSK-klubbstugan Flottiljvägen 56 Tullinge 146 38 Sweden;X-APPLE-RADIUS=500;X-TITLE=Flottiljvägen 56:geo:17.901717405743,59.193432193406
END:VEVENT
BEGIN:VEVENT
DTSTART;TZID=Europe/Stockholm:20270105T180000
DTEND;TZID=Europe/Stockholm:20270105T200000
DTSTAMP:20260419T214947
CREATED:20260413T183550Z
LAST-MODIFIED:20260413T183550Z
UID:10000925-1799172000-1799179200@www.tullingesk.se
SUMMARY:HD17
DESCRIPTION:Intervaller på spåret. \nAnsvarig Simon/Matthew
URL:https://www.tullingesk.se/aktivitet/hd17-34-17/2027-01-05/
LOCATION:TSK-klubbstugan\, Flottiljvägen 56\, Tullinge\, 146 38\, Sweden
GEO:59.193432193406;17.901717405743
X-APPLE-STRUCTURED-LOCATION;VALUE=URI;X-ADDRESS=TSK-klubbstugan Flottiljvägen 56 Tullinge 146 38 Sweden;X-APPLE-RADIUS=500;X-TITLE=Flottiljvägen 56:geo:17.901717405743,59.193432193406
END:VEVENT
BEGIN:VEVENT
DTSTART;TZID=Europe/Stockholm:20270112T180000
DTEND;TZID=Europe/Stockholm:20270112T191500
DTSTAMP:20260419T214947
CREATED:20260403T091758Z
LAST-MODIFIED:20260403T091758Z
UID:10003201-1799776800-1799781300@www.tullingesk.se
SUMMARY:9-12 träning
DESCRIPTION:Tisdagsträning för 9-12 gruppen \nSamling vid stakethörnet
URL:https://www.tullingesk.se/aktivitet/9-12-traning-4/2027-01-12/
LOCATION:TSK-klubbstugan\, Flottiljvägen 56\, Tullinge\, 146 38\, Sweden
GEO:59.193432193406;17.901717405743
X-APPLE-STRUCTURED-LOCATION;VALUE=URI;X-ADDRESS=TSK-klubbstugan Flottiljvägen 56 Tullinge 146 38 Sweden;X-APPLE-RADIUS=500;X-TITLE=Flottiljvägen 56:geo:17.901717405743,59.193432193406
END:VEVENT
BEGIN:VEVENT
DTSTART;TZID=Europe/Stockholm:20270112T180000
DTEND;TZID=Europe/Stockholm:20270112T200000
DTSTAMP:20260419T214947
CREATED:20260413T183550Z
LAST-MODIFIED:20260413T183550Z
UID:10001065-1799776800-1799784000@www.tullingesk.se
SUMMARY:HD17
DESCRIPTION:Intervaller på spåret. \nAnsvarig Simon/Matthew
URL:https://www.tullingesk.se/aktivitet/hd17-34-17/2027-01-12/
LOCATION:TSK-klubbstugan\, Flottiljvägen 56\, Tullinge\, 146 38\, Sweden
GEO:59.193432193406;17.901717405743
X-APPLE-STRUCTURED-LOCATION;VALUE=URI;X-ADDRESS=TSK-klubbstugan Flottiljvägen 56 Tullinge 146 38 Sweden;X-APPLE-RADIUS=500;X-TITLE=Flottiljvägen 56:geo:17.901717405743,59.193432193406
END:VEVENT
BEGIN:VEVENT
DTSTART;TZID=Europe/Stockholm:20270119T180000
DTEND;TZID=Europe/Stockholm:20270119T191500
DTSTAMP:20260419T214947
CREATED:20260403T091758Z
LAST-MODIFIED:20260403T091758Z
UID:10003202-1800381600-1800386100@www.tullingesk.se
SUMMARY:9-12 träning
DESCRIPTION:Tisdagsträning för 9-12 gruppen \nSamling vid stakethörnet
URL:https://www.tullingesk.se/aktivitet/9-12-traning-4/2027-01-19/
LOCATION:TSK-klubbstugan\, Flottiljvägen 56\, Tullinge\, 146 38\, Sweden
GEO:59.193432193406;17.901717405743
X-APPLE-STRUCTURED-LOCATION;VALUE=URI;X-ADDRESS=TSK-klubbstugan Flottiljvägen 56 Tullinge 146 38 Sweden;X-APPLE-RADIUS=500;X-TITLE=Flottiljvägen 56:geo:17.901717405743,59.193432193406
END:VEVENT
BEGIN:VEVENT
DTSTART;TZID=Europe/Stockholm:20270119T180000
DTEND;TZID=Europe/Stockholm:20270119T200000
DTSTAMP:20260419T214947
CREATED:20260413T183550Z
LAST-MODIFIED:20260413T183550Z
UID:10001066-1800381600-1800388800@www.tullingesk.se
SUMMARY:HD17
DESCRIPTION:Intervaller på spåret. \nAnsvarig Simon/Matthew
URL:https://www.tullingesk.se/aktivitet/hd17-34-17/2027-01-19/
LOCATION:TSK-klubbstugan\, Flottiljvägen 56\, Tullinge\, 146 38\, Sweden
GEO:59.193432193406;17.901717405743
X-APPLE-STRUCTURED-LOCATION;VALUE=URI;X-ADDRESS=TSK-klubbstugan Flottiljvägen 56 Tullinge 146 38 Sweden;X-APPLE-RADIUS=500;X-TITLE=Flottiljvägen 56:geo:17.901717405743,59.193432193406
END:VEVENT
END:VCALENDAR