BEGIN:VCALENDAR
VERSION:2.0
PRODID:-//Tullinge SK - ECPv6.15.20//NONSGML v1.0//EN
CALSCALE:GREGORIAN
METHOD:PUBLISH
X-WR-CALNAME:Tullinge SK
X-ORIGINAL-URL:https://www.tullingesk.se
X-WR-CALDESC:Händelser för Tullinge SK
REFRESH-INTERVAL;VALUE=DURATION:PT1H
X-Robots-Tag:noindex
X-PUBLISHED-TTL:PT1H
BEGIN:VTIMEZONE
TZID:Europe/Stockholm
BEGIN:DAYLIGHT
TZOFFSETFROM:+0100
TZOFFSETTO:+0200
TZNAME:CEST
DTSTART:20230326T010000
END:DAYLIGHT
BEGIN:STANDARD
TZOFFSETFROM:+0200
TZOFFSETTO:+0100
TZNAME:CET
DTSTART:20231029T010000
END:STANDARD
BEGIN:DAYLIGHT
TZOFFSETFROM:+0100
TZOFFSETTO:+0200
TZNAME:CEST
DTSTART:20240331T010000
END:DAYLIGHT
BEGIN:STANDARD
TZOFFSETFROM:+0200
TZOFFSETTO:+0100
TZNAME:CET
DTSTART:20241027T010000
END:STANDARD
BEGIN:DAYLIGHT
TZOFFSETFROM:+0100
TZOFFSETTO:+0200
TZNAME:CEST
DTSTART:20250330T010000
END:DAYLIGHT
BEGIN:STANDARD
TZOFFSETFROM:+0200
TZOFFSETTO:+0100
TZNAME:CET
DTSTART:20251026T010000
END:STANDARD
END:VTIMEZONE
BEGIN:VEVENT
DTSTART;VALUE=DATE:20240525
DTEND;VALUE=DATE:20240526
DTSTAMP:20260419T230105
CREATED:20240202T111508Z
LAST-MODIFIED:20240202T111508Z
UID:10000826-1716595200-1716681599@www.tullingesk.se
SUMMARY:Faxeträffen\, dag 1\, sprint
DESCRIPTION:
URL:https://www.tullingesk.se/aktivitet/faxetraffen-dag-1-sprint/
CATEGORIES:Orienteringstävling
END:VEVENT
BEGIN:VEVENT
DTSTART;VALUE=DATE:20240525
DTEND;VALUE=DATE:20240526
DTSTAMP:20260419T230105
CREATED:20240202T110946Z
LAST-MODIFIED:20240202T110946Z
UID:10000798-1716595200-1716681599@www.tullingesk.se
SUMMARY:Ulf Radlers minne
DESCRIPTION:
URL:https://www.tullingesk.se/aktivitet/ulf-radlers-minne/
CATEGORIES:Orienteringstävling
END:VEVENT
BEGIN:VEVENT
DTSTART;VALUE=DATE:20240525
DTEND;VALUE=DATE:20240526
DTSTAMP:20260419T230105
CREATED:20240202T110354Z
LAST-MODIFIED:20240202T110354Z
UID:10000764-1716595200-1716681599@www.tullingesk.se
SUMMARY:IFK Mora OK
DESCRIPTION:
URL:https://www.tullingesk.se/aktivitet/ifk-mora-ok/
CATEGORIES:Orienteringstävling
END:VEVENT
BEGIN:VEVENT
DTSTART;TZID=Europe/Stockholm:20240524T160000
DTEND;TZID=Europe/Stockholm:20240524T230000
DTSTAMP:20260419T230105
CREATED:20240510T085548Z
LAST-MODIFIED:20240510T085548Z
UID:10001223-1716566400-1716591600@www.tullingesk.se
SUMMARY:Storstugan bokad
DESCRIPTION:Rickard Andersson
URL:https://www.tullingesk.se/aktivitet/storstugan-bokad-17/
CATEGORIES:Uthyrning klubbstugan
END:VEVENT
BEGIN:VEVENT
DTSTART;TZID=Europe/Stockholm:20240523T070000
DTEND;TZID=Europe/Stockholm:20240523T140000
DTSTAMP:20260419T230105
CREATED:20240218T150557Z
LAST-MODIFIED:20240218T150557Z
UID:10000860-1716447600-1716472800@www.tullingesk.se
SUMMARY:Stugan bokad friluftsdag OL Banslätt
DESCRIPTION:
URL:https://www.tullingesk.se/aktivitet/stugan-bokad-friluftsdag-ol-banslatt/
LOCATION:TSK-klubbstugan\, Flottiljvägen 56\, Tullinge\, 146 38\, Sweden
CATEGORIES:Uthyrning klubbstugan
GEO:59.193432193406;17.901717405743
X-APPLE-STRUCTURED-LOCATION;VALUE=URI;X-ADDRESS=TSK-klubbstugan Flottiljvägen 56 Tullinge 146 38 Sweden;X-APPLE-RADIUS=500;X-TITLE=Flottiljvägen 56:geo:17.901717405743,59.193432193406
END:VEVENT
BEGIN:VEVENT
DTSTART;VALUE=DATE:20240523
DTEND;VALUE=DATE:20240524
DTSTAMP:20260419T230105
CREATED:20240202T111308Z
LAST-MODIFIED:20240202T111308Z
UID:10000817-1716422400-1716508799@www.tullingesk.se
SUMMARY:Ungdomsserien\, kretstävling #2
DESCRIPTION:
URL:https://www.tullingesk.se/aktivitet/ungdomsserien-kretstavling-2/
CATEGORIES:Orienteringstävling
END:VEVENT
BEGIN:VEVENT
DTSTART;VALUE=DATE:20240523
DTEND;VALUE=DATE:20240524
DTSTAMP:20260419T230105
CREATED:20240202T110500Z
LAST-MODIFIED:20240202T110500Z
UID:10000782-1716422400-1716508799@www.tullingesk.se
SUMMARY:DM\, sprint\, Uppland
DESCRIPTION:
URL:https://www.tullingesk.se/aktivitet/dm-sprint-uppland/
CATEGORIES:Orienteringstävling
END:VEVENT
BEGIN:VEVENT
DTSTART;TZID=Europe/Stockholm:20240522T180000
DTEND;TZID=Europe/Stockholm:20240522T200000
DTSTAMP:20260419T230105
CREATED:20240429T142223Z
LAST-MODIFIED:20240429T142246Z
UID:10001204-1716400800-1716408000@www.tullingesk.se
SUMMARY:Plockkväll Lida Loop - storstugan
DESCRIPTION:Alla kan hjälpa till!
URL:https://www.tullingesk.se/aktivitet/plockkvall-lida-loop/
LOCATION:TSK-klubbstugan\, Flottiljvägen 56\, Tullinge\, 146 38\, Sweden
GEO:59.193432193406;17.901717405743
X-APPLE-STRUCTURED-LOCATION;VALUE=URI;X-ADDRESS=TSK-klubbstugan Flottiljvägen 56 Tullinge 146 38 Sweden;X-APPLE-RADIUS=500;X-TITLE=Flottiljvägen 56:geo:17.901717405743,59.193432193406
END:VEVENT
BEGIN:VEVENT
DTSTART;TZID=Europe/Stockholm:20240522T180000
DTEND;TZID=Europe/Stockholm:20240522T193000
DTSTAMP:20260419T230105
CREATED:20240425T162009Z
LAST-MODIFIED:20240425T162009Z
UID:10001193-1716400800-1716406200@www.tullingesk.se
SUMMARY:MTB träning
DESCRIPTION:Samling för samtliga grupper 1745 bakom klubbstugan
URL:https://www.tullingesk.se/aktivitet/mtb-traning/2024-05-22/
LOCATION:TSK-klubbstugan\, Flottiljvägen 56\, Tullinge\, 146 38\, Sweden
GEO:59.193432193406;17.901717405743
X-APPLE-STRUCTURED-LOCATION;VALUE=URI;X-ADDRESS=TSK-klubbstugan Flottiljvägen 56 Tullinge 146 38 Sweden;X-APPLE-RADIUS=500;X-TITLE=Flottiljvägen 56:geo:17.901717405743,59.193432193406
END:VEVENT
BEGIN:VEVENT
DTSTART;TZID=Europe/Stockholm:20240522T070000
DTEND;TZID=Europe/Stockholm:20240522T140000
DTSTAMP:20260419T230105
CREATED:20240218T150515Z
LAST-MODIFIED:20240218T150515Z
UID:10000859-1716361200-1716386400@www.tullingesk.se
SUMMARY:Stugan bokad friluftsdag OL Eklid
DESCRIPTION:
URL:https://www.tullingesk.se/aktivitet/stugan-bokad-friluftsdag-ol-eklid-2/
LOCATION:TSK-klubbstugan\, Flottiljvägen 56\, Tullinge\, 146 38\, Sweden
CATEGORIES:Uthyrning klubbstugan
GEO:59.193432193406;17.901717405743
X-APPLE-STRUCTURED-LOCATION;VALUE=URI;X-ADDRESS=TSK-klubbstugan Flottiljvägen 56 Tullinge 146 38 Sweden;X-APPLE-RADIUS=500;X-TITLE=Flottiljvägen 56:geo:17.901717405743,59.193432193406
END:VEVENT
BEGIN:VEVENT
DTSTART;VALUE=DATE:20240522
DTEND;VALUE=DATE:20240523
DTSTAMP:20260419T230105
CREATED:20240202T111108Z
LAST-MODIFIED:20240202T111108Z
UID:10000814-1716336000-1716422399@www.tullingesk.se
SUMMARY:Stockholm City Cup\, #2
DESCRIPTION:
URL:https://www.tullingesk.se/aktivitet/stockholm-city-cup-2/
CATEGORIES:Orienteringstävling
END:VEVENT
BEGIN:VEVENT
DTSTART;TZID=Europe/Stockholm:20240521T193000
DTEND;TZID=Europe/Stockholm:20240521T210000
DTSTAMP:20260419T230105
CREATED:20240515T181554Z
LAST-MODIFIED:20240515T181554Z
UID:10001228-1716319800-1716325200@www.tullingesk.se
SUMMARY:Styrelserummet bokat/ Åsa F ungdomskomm.
DESCRIPTION:
URL:https://www.tullingesk.se/aktivitet/styrelserummet-bokat-asa-f-ungdomskomm/
LOCATION:TSK-klubbstugan\, Flottiljvägen 56\, Tullinge\, 146 38\, Sweden
CATEGORIES:Uthyrning klubbstugan
GEO:59.193432193406;17.901717405743
X-APPLE-STRUCTURED-LOCATION;VALUE=URI;X-ADDRESS=TSK-klubbstugan Flottiljvägen 56 Tullinge 146 38 Sweden;X-APPLE-RADIUS=500;X-TITLE=Flottiljvägen 56:geo:17.901717405743,59.193432193406
END:VEVENT
BEGIN:VEVENT
DTSTART;TZID=Europe/Stockholm:20240521T180000
DTEND;TZID=Europe/Stockholm:20240521T210000
DTSTAMP:20260419T230105
CREATED:20240428T073649Z
LAST-MODIFIED:20240428T073649Z
UID:10001199-1716314400-1716325200@www.tullingesk.se
SUMMARY:Soppa och städa
DESCRIPTION:Soppa: A+F Flodman/F Johansson/C+R Andersson/J Björklund/F Hermander \nStäd Dam: Tilda Andersson och Tuva Nikolausson \nStäd Herr: Arvid Myrberger och Axel Trofast
URL:https://www.tullingesk.se/aktivitet/soppa-och-stada-31/
LOCATION:TSK-klubbstugan\, Flottiljvägen 56\, Tullinge\, 146 38\, Sweden
GEO:59.193432193406;17.901717405743
X-APPLE-STRUCTURED-LOCATION;VALUE=URI;X-ADDRESS=TSK-klubbstugan Flottiljvägen 56 Tullinge 146 38 Sweden;X-APPLE-RADIUS=500;X-TITLE=Flottiljvägen 56:geo:17.901717405743,59.193432193406
END:VEVENT
BEGIN:VEVENT
DTSTART;TZID=Europe/Stockholm:20240521T180000
DTEND;TZID=Europe/Stockholm:20240521T200000
DTSTAMP:20260419T230105
CREATED:20240520T052347Z
LAST-MODIFIED:20240520T052347Z
UID:10001229-1716314400-1716321600@www.tullingesk.se
SUMMARY:HD17: Intervaller 4x (3\,2\,1) vila 60
DESCRIPTION:Intervaller på spåret 4x (3\,2\,1)\, vila 60
URL:https://www.tullingesk.se/aktivitet/hd17-intervaller-4x-321-vila-60/
LOCATION:TSK-klubbstugan\, Flottiljvägen 56\, Tullinge\, 146 38\, Sweden
GEO:59.193432193406;17.901717405743
X-APPLE-STRUCTURED-LOCATION;VALUE=URI;X-ADDRESS=TSK-klubbstugan Flottiljvägen 56 Tullinge 146 38 Sweden;X-APPLE-RADIUS=500;X-TITLE=Flottiljvägen 56:geo:17.901717405743,59.193432193406
END:VEVENT
BEGIN:VEVENT
DTSTART;TZID=Europe/Stockholm:20240521T180000
DTEND;TZID=Europe/Stockholm:20240521T193000
DTSTAMP:20260419T230105
CREATED:20240520T165049Z
LAST-MODIFIED:20240520T165049Z
UID:10001230-1716314400-1716319800@www.tullingesk.se
SUMMARY:13-16: HILLarious
DESCRIPTION:Höjdkurvor\, backe\, kartminne \nOL-skor
URL:https://www.tullingesk.se/aktivitet/13-16-hillarious/
LOCATION:TSK-klubbstugan\, Flottiljvägen 56\, Tullinge\, 146 38\, Sweden
GEO:59.193432193406;17.901717405743
X-APPLE-STRUCTURED-LOCATION;VALUE=URI;X-ADDRESS=TSK-klubbstugan Flottiljvägen 56 Tullinge 146 38 Sweden;X-APPLE-RADIUS=500;X-TITLE=Flottiljvägen 56:geo:17.901717405743,59.193432193406
END:VEVENT
BEGIN:VEVENT
DTSTART;TZID=Europe/Stockholm:20240521T180000
DTEND;TZID=Europe/Stockholm:20240521T190000
DTSTAMP:20260419T230105
CREATED:20240512T060844Z
LAST-MODIFIED:20240512T060845Z
UID:10000407-1716314400-1716318000@www.tullingesk.se
SUMMARY:Grupp 4
DESCRIPTION:v21 Lennart Agén & Tomas Hultqvist
URL:https://www.tullingesk.se/aktivitet/grupp-4-2-34/
LOCATION:TSK-klubbstugan\, Flottiljvägen 56\, Tullinge\, 146 38\, Sweden
GEO:59.193432193406;17.901717405743
X-APPLE-STRUCTURED-LOCATION;VALUE=URI;X-ADDRESS=TSK-klubbstugan Flottiljvägen 56 Tullinge 146 38 Sweden;X-APPLE-RADIUS=500;X-TITLE=Flottiljvägen 56:geo:17.901717405743,59.193432193406
END:VEVENT
BEGIN:VEVENT
DTSTART;TZID=Europe/Stockholm:20240521T070000
DTEND;TZID=Europe/Stockholm:20240521T140000
DTSTAMP:20260419T230105
CREATED:20240218T150437Z
LAST-MODIFIED:20240218T151028Z
UID:10000858-1716274800-1716300000@www.tullingesk.se
SUMMARY:Stugan bokad friluftsdag OL Eklid
DESCRIPTION:
URL:https://www.tullingesk.se/aktivitet/stugan-bokad-friluftsdag-ol-eklid/
LOCATION:TSK-klubbstugan\, Flottiljvägen 56\, Tullinge\, 146 38\, Sweden
CATEGORIES:Uthyrning klubbstugan
GEO:59.193432193406;17.901717405743
X-APPLE-STRUCTURED-LOCATION;VALUE=URI;X-ADDRESS=TSK-klubbstugan Flottiljvägen 56 Tullinge 146 38 Sweden;X-APPLE-RADIUS=500;X-TITLE=Flottiljvägen 56:geo:17.901717405743,59.193432193406
END:VEVENT
BEGIN:VEVENT
DTSTART;TZID=Europe/Stockholm:20240519T100000
DTEND;TZID=Europe/Stockholm:20240519T140000
DTSTAMP:20260419T230105
CREATED:20240421T151408Z
LAST-MODIFIED:20240421T151408Z
UID:10001185-1716112800-1716127200@www.tullingesk.se
SUMMARY:KM Långdistans
DESCRIPTION:KM Långdistans Gömmaren. Samling Parkeringarna vid f.d. Spendrups Bryggeri -Vårby Källa. \nTrivselkommittén fixar grillad korv.
URL:https://www.tullingesk.se/aktivitet/km-langdistans/
LOCATION:Gömmaren\, Sverige
END:VEVENT
BEGIN:VEVENT
DTSTART;VALUE=DATE:20240519
DTEND;VALUE=DATE:20240520
DTSTAMP:20260419T230105
CREATED:20240202T110208Z
LAST-MODIFIED:20240202T110208Z
UID:10000745-1716076800-1716163199@www.tullingesk.se
SUMMARY:Tour de Medelpad\, dag 3\, medel + DM\, medel\, Medelpad
DESCRIPTION:
URL:https://www.tullingesk.se/aktivitet/tour-de-medelpad-dag-3-medel-dm-medel-medelpad/
CATEGORIES:Orienteringstävling
END:VEVENT
BEGIN:VEVENT
DTSTART;VALUE=DATE:20240518
DTEND;VALUE=DATE:20240519
DTSTAMP:20260419T230105
CREATED:20240202T110208Z
LAST-MODIFIED:20240202T110208Z
UID:10000744-1715990400-1716076799@www.tullingesk.se
SUMMARY:Tour de Medelpad\, dag 2\, lång
DESCRIPTION:
URL:https://www.tullingesk.se/aktivitet/tour-de-medelpad-dag-2-lang/
CATEGORIES:Orienteringstävling
END:VEVENT
BEGIN:VEVENT
DTSTART;TZID=Europe/Stockholm:20240517T080000
DTEND;TZID=Europe/Stockholm:20240517T150000
DTSTAMP:20260419T230105
CREATED:20240422T163922Z
LAST-MODIFIED:20240422T163922Z
UID:10001189-1715932800-1715958000@www.tullingesk.se
SUMMARY:Stugan bokad/Björkhaga skola
DESCRIPTION:
URL:https://www.tullingesk.se/aktivitet/stugan-bokad-bjorkhaga-skola/
LOCATION:TSK-klubbstugan\, Flottiljvägen 56\, Tullinge\, 146 38\, Sweden
CATEGORIES:Uthyrning klubbstugan
GEO:59.193432193406;17.901717405743
X-APPLE-STRUCTURED-LOCATION;VALUE=URI;X-ADDRESS=TSK-klubbstugan Flottiljvägen 56 Tullinge 146 38 Sweden;X-APPLE-RADIUS=500;X-TITLE=Flottiljvägen 56:geo:17.901717405743,59.193432193406
END:VEVENT
BEGIN:VEVENT
DTSTART;VALUE=DATE:20240517
DTEND;VALUE=DATE:20240518
DTSTAMP:20260419T230105
CREATED:20240202T110208Z
LAST-MODIFIED:20240202T110208Z
UID:10000743-1715904000-1715990399@www.tullingesk.se
SUMMARY:Tour de Medelpad\, dag 1\, sprint + DM\, sprint\, Medelpad
DESCRIPTION:
URL:https://www.tullingesk.se/aktivitet/tour-de-medelpad-dag-1-sprint-dm-sprint-medelpad/
CATEGORIES:Orienteringstävling
END:VEVENT
BEGIN:VEVENT
DTSTART;TZID=Europe/Stockholm:20240516T190000
DTEND;TZID=Europe/Stockholm:20240516T200000
DTSTAMP:20260419T230105
CREATED:20240501T165836Z
LAST-MODIFIED:20240501T165836Z
UID:10001208-1715886000-1715889600@www.tullingesk.se
SUMMARY:Storstugan bokad/Lida loop banvakter Örjan A
DESCRIPTION:
URL:https://www.tullingesk.se/aktivitet/storstugan-bokad-lida-loop-banvakter-orjan-a/
LOCATION:TSK-klubbstugan\, Flottiljvägen 56\, Tullinge\, 146 38\, Sweden
CATEGORIES:Uthyrning klubbstugan
GEO:59.193432193406;17.901717405743
X-APPLE-STRUCTURED-LOCATION;VALUE=URI;X-ADDRESS=TSK-klubbstugan Flottiljvägen 56 Tullinge 146 38 Sweden;X-APPLE-RADIUS=500;X-TITLE=Flottiljvägen 56:geo:17.901717405743,59.193432193406
END:VEVENT
BEGIN:VEVENT
DTSTART;TZID=Europe/Stockholm:20240516T180000
DTEND;TZID=Europe/Stockholm:20240516T193000
DTSTAMP:20260419T230105
CREATED:20240503T071038Z
LAST-MODIFIED:20240508T111709Z
UID:10001209-1715882400-1715887800@www.tullingesk.se
SUMMARY:Teknikträning Brosjön
DESCRIPTION:Teknikträning vid Brosjön för alla medlemmar \nAnmälan senast onsdag kl 12 via Eventor: https://eventor.orientering.se/Activities/Show/20976 \nSamling: Brotorpsbadet – parkeringen \nBanor/tema: \nOrange – Svart:\nMomentbana i tre avsnitt:\n1.längre sträckor där fokus är bra löp-/teknikflyt\, framåttänk och kompass\n2. kortare sträckor i ett mer detaljerat område där fokus är lägre fart\, riktningsförändringar och In-/ut från kontroller!\n3. brunbild. Kompass & Kurvbild\n\n\nVit – Gul:\n\nFokus: Lita på andra ledstänger som t.ex. branter\, öppna ytor och större sankmarker.\n\nPrel banlängder:\nVit: 2\,3km\nGul: 2\,9km\nOrange: 4\,3km\nViolett/Svart: (möjlighet till avkortning) 6\,5km\n\nVissa banor kommer även finnas upplagda i filarkivet för egen utskrift/träning. \nAnsvariga ledare:\n9-12 Ledare: Pelle\, Anders Närvaro: Elliot\n13-16 Ledare: Peter \nBanläggare:\nBjörn Normark \nInplockning:\nKarin/Jörgen \n 
URL:https://www.tullingesk.se/aktivitet/tekniktraning-brosjon/
END:VEVENT
BEGIN:VEVENT
DTSTART;TZID=Europe/Stockholm:20240516T080000
DTEND;TZID=Europe/Stockholm:20240516T120000
DTSTAMP:20260419T230105
CREATED:20240218T150248Z
LAST-MODIFIED:20240218T150248Z
UID:10000857-1715846400-1715860800@www.tullingesk.se
SUMMARY:Stugan bokad/möte Eklid fritids
DESCRIPTION:
URL:https://www.tullingesk.se/aktivitet/stugan-bokad-mote-eklid-fritids/
LOCATION:TSK-klubbstugan\, Flottiljvägen 56\, Tullinge\, 146 38\, Sweden
CATEGORIES:Uthyrning klubbstugan
GEO:59.193432193406;17.901717405743
X-APPLE-STRUCTURED-LOCATION;VALUE=URI;X-ADDRESS=TSK-klubbstugan Flottiljvägen 56 Tullinge 146 38 Sweden;X-APPLE-RADIUS=500;X-TITLE=Flottiljvägen 56:geo:17.901717405743,59.193432193406
END:VEVENT
BEGIN:VEVENT
DTSTART;TZID=Europe/Stockholm:20240515T180000
DTEND;TZID=Europe/Stockholm:20240515T193000
DTSTAMP:20260419T230105
CREATED:20240425T162009Z
LAST-MODIFIED:20240425T162009Z
UID:10001192-1715796000-1715801400@www.tullingesk.se
SUMMARY:MTB träning
DESCRIPTION:Samling för samtliga grupper 1745 bakom klubbstugan
URL:https://www.tullingesk.se/aktivitet/mtb-traning/2024-05-15/
LOCATION:TSK-klubbstugan\, Flottiljvägen 56\, Tullinge\, 146 38\, Sweden
GEO:59.193432193406;17.901717405743
X-APPLE-STRUCTURED-LOCATION;VALUE=URI;X-ADDRESS=TSK-klubbstugan Flottiljvägen 56 Tullinge 146 38 Sweden;X-APPLE-RADIUS=500;X-TITLE=Flottiljvägen 56:geo:17.901717405743,59.193432193406
END:VEVENT
BEGIN:VEVENT
DTSTART;VALUE=DATE:20240515
DTEND;VALUE=DATE:20240516
DTSTAMP:20260419T230105
CREATED:20240202T111108Z
LAST-MODIFIED:20240202T111108Z
UID:10000813-1715731200-1715817599@www.tullingesk.se
SUMMARY:Stockholm City Cup\, #1
DESCRIPTION:
URL:https://www.tullingesk.se/aktivitet/stockholm-city-cup-1/
CATEGORIES:Orienteringstävling
END:VEVENT
BEGIN:VEVENT
DTSTART;TZID=Europe/Stockholm:20240514T200000
DTEND;TZID=Europe/Stockholm:20240514T210000
DTSTAMP:20260419T230105
CREATED:20240501T165634Z
LAST-MODIFIED:20240501T165634Z
UID:10001207-1715716800-1715720400@www.tullingesk.se
SUMMARY:Inre storstuga Lida loop info/Per S
DESCRIPTION:
URL:https://www.tullingesk.se/aktivitet/inre-storstuga-lida-loop-info-per-s/
LOCATION:TSK-klubbstugan\, Flottiljvägen 56\, Tullinge\, 146 38\, Sweden
CATEGORIES:Uthyrning klubbstugan
GEO:59.193432193406;17.901717405743
X-APPLE-STRUCTURED-LOCATION;VALUE=URI;X-ADDRESS=TSK-klubbstugan Flottiljvägen 56 Tullinge 146 38 Sweden;X-APPLE-RADIUS=500;X-TITLE=Flottiljvägen 56:geo:17.901717405743,59.193432193406
END:VEVENT
BEGIN:VEVENT
DTSTART;TZID=Europe/Stockholm:20240514T193000
DTEND;TZID=Europe/Stockholm:20240514T203000
DTSTAMP:20260419T230105
CREATED:20240506T121825Z
LAST-MODIFIED:20240506T121825Z
UID:10001221-1715715000-1715718600@www.tullingesk.se
SUMMARY:EK-Månadsmöte
DESCRIPTION:Lilla Styrelserummet
URL:https://www.tullingesk.se/aktivitet/ek-manadsmote-2/
LOCATION:TSK-klubbstugan\, Flottiljvägen 56\, Tullinge\, 146 38\, Sweden
CATEGORIES:Elitkommittén
GEO:59.193432193406;17.901717405743
X-APPLE-STRUCTURED-LOCATION;VALUE=URI;X-ADDRESS=TSK-klubbstugan Flottiljvägen 56 Tullinge 146 38 Sweden;X-APPLE-RADIUS=500;X-TITLE=Flottiljvägen 56:geo:17.901717405743,59.193432193406
END:VEVENT
BEGIN:VEVENT
DTSTART;TZID=Europe/Stockholm:20240514T180000
DTEND;TZID=Europe/Stockholm:20240514T210000
DTSTAMP:20260419T230105
CREATED:20240428T073410Z
LAST-MODIFIED:20240429T171246Z
UID:10001198-1715709600-1715720400@www.tullingesk.se
SUMMARY:Soppa och städa
DESCRIPTION:Soppa: P Emanuelsson/I+R Hersén/T Svensson/D Helander \nStäd Dam: Frida Forsberg och Karin Forsberg \nStäd Herr: Henrik Trofast och Henrik Dufberg
URL:https://www.tullingesk.se/aktivitet/soppa-och-stada-30/
LOCATION:TSK-klubbstugan\, Flottiljvägen 56\, Tullinge\, 146 38\, Sweden
GEO:59.193432193406;17.901717405743
X-APPLE-STRUCTURED-LOCATION;VALUE=URI;X-ADDRESS=TSK-klubbstugan Flottiljvägen 56 Tullinge 146 38 Sweden;X-APPLE-RADIUS=500;X-TITLE=Flottiljvägen 56:geo:17.901717405743,59.193432193406
END:VEVENT
END:VCALENDAR