BEGIN:VCALENDAR
VERSION:2.0
PRODID:-//Tullinge SK - ECPv6.15.20//NONSGML v1.0//EN
CALSCALE:GREGORIAN
METHOD:PUBLISH
X-WR-CALNAME:Tullinge SK
X-ORIGINAL-URL:https://www.tullingesk.se
X-WR-CALDESC:Händelser för Tullinge SK
REFRESH-INTERVAL;VALUE=DURATION:PT1H
X-Robots-Tag:noindex
X-PUBLISHED-TTL:PT1H
BEGIN:VTIMEZONE
TZID:Europe/Stockholm
BEGIN:DAYLIGHT
TZOFFSETFROM:+0100
TZOFFSETTO:+0200
TZNAME:CEST
DTSTART:20250330T010000
END:DAYLIGHT
BEGIN:STANDARD
TZOFFSETFROM:+0200
TZOFFSETTO:+0100
TZNAME:CET
DTSTART:20251026T010000
END:STANDARD
BEGIN:DAYLIGHT
TZOFFSETFROM:+0100
TZOFFSETTO:+0200
TZNAME:CEST
DTSTART:20260329T010000
END:DAYLIGHT
BEGIN:STANDARD
TZOFFSETFROM:+0200
TZOFFSETTO:+0100
TZNAME:CET
DTSTART:20261025T010000
END:STANDARD
BEGIN:DAYLIGHT
TZOFFSETFROM:+0100
TZOFFSETTO:+0200
TZNAME:CEST
DTSTART:20270328T010000
END:DAYLIGHT
BEGIN:STANDARD
TZOFFSETFROM:+0200
TZOFFSETTO:+0100
TZNAME:CET
DTSTART:20271031T010000
END:STANDARD
END:VTIMEZONE
BEGIN:VEVENT
DTSTART;TZID=Europe/Stockholm:20260303T180000
DTEND;TZID=Europe/Stockholm:20260303T193000
DTSTAMP:20260421T184720
CREATED:20260302T081731Z
LAST-MODIFIED:20260302T081731Z
UID:10003021-1772560800-1772566200@www.tullingesk.se
SUMMARY:1316: Korta intervaller väg (reflexväst)
DESCRIPTION:Springskytte mm. \nLöparskor och reflexväst \n/Johan & Lin
URL:https://www.tullingesk.se/aktivitet/1316-korta-intervaller-vag-reflexvast/
LOCATION:TSK-klubbstugan\, Flottiljvägen 56\, Tullinge\, 146 38\, Sweden
GEO:59.193432193406;17.901717405743
X-APPLE-STRUCTURED-LOCATION;VALUE=URI;X-ADDRESS=TSK-klubbstugan Flottiljvägen 56 Tullinge 146 38 Sweden;X-APPLE-RADIUS=500;X-TITLE=Flottiljvägen 56:geo:17.901717405743,59.193432193406
END:VEVENT
BEGIN:VEVENT
DTSTART;TZID=Europe/Stockholm:20260303T180000
DTEND;TZID=Europe/Stockholm:20260303T190000
DTSTAMP:20260421T184720
CREATED:20260227T030027Z
LAST-MODIFIED:20260227T030028Z
UID:10002801-1772560800-1772564400@www.tullingesk.se
SUMMARY:Grupp 4 - tisdagsträning
DESCRIPTION:Grupp 4 – tisdagsträning \nGruppen för alla som inte väljer annan grupp 🙂 \nAnsvarig denna vecka: \n  \nv10Barbro Lönnkvist & Lars Lönnkvist \n\n  \n  \nFör anvisningar och lista över ansvariga: https://www.tullingesk.se/bredd-motionar/
URL:https://www.tullingesk.se/aktivitet/grupp-4-tisdagstraning-9/
LOCATION:TSK-klubbstugan\, Flottiljvägen 56\, Tullinge\, 146 38\, Sweden
CATEGORIES:Tullinge SK
GEO:59.193432193406;17.901717405743
X-APPLE-STRUCTURED-LOCATION;VALUE=URI;X-ADDRESS=TSK-klubbstugan Flottiljvägen 56 Tullinge 146 38 Sweden;X-APPLE-RADIUS=500;X-TITLE=Flottiljvägen 56:geo:17.901717405743,59.193432193406
END:VEVENT
BEGIN:VEVENT
DTSTART;TZID=Europe/Stockholm:20260302T190000
DTEND;TZID=Europe/Stockholm:20260302T200000
DTSTAMP:20260421T184720
CREATED:20251003T073124Z
LAST-MODIFIED:20260330T145355Z
UID:10002622-1772478000-1772481600@www.tullingesk.se
SUMMARY:Styrkegympa -för alla!
DESCRIPTION:Tid: Måndagar kl 19-20\nPlats: Parkhemsskolans gympahall\nVem: TSK-medlemmar\nTa med: Inneskor & vattenflaska\nFörkunskaper: INGA! Alla kan vara med på sin nivå!\nVad: Styrka för hela kroppen. Enkla övningar\, oftast med egna kroppen som vikt men ibland även med gummiband (finns på plats). \n  \n  \n 
URL:https://www.tullingesk.se/aktivitet/tsk-gympa/2026-03-02/
LOCATION:Parkhemsskolans gympahall
END:VEVENT
BEGIN:VEVENT
DTSTART;TZID=Europe/Stockholm:20260301T100000
DTEND;TZID=Europe/Stockholm:20260301T130000
DTSTAMP:20260421T184720
CREATED:20260102T162234Z
LAST-MODIFIED:20260227T070212Z
UID:10002772-1772359200-1772370000@www.tullingesk.se
SUMMARY:Långpass från Brantan
DESCRIPTION:Vi har lagt tre banor från Brantan på 7\, 10 och 15 km med gemensam uppvärmning till startpunkten som ligger ca 1 km bort. \nDet är mestadels stig och väglöpning  med olika vägval till kontroller som sitter i skogen i södersluttningar med lite mindre snö. \nVätska finns. Kartskalan är 1:10.000 för den korta banan\, 1:11.000 för mellanbanan och 1:15.000 för den långa. \n  \n  \nAnsvarig:  Erik Berggren och Piero Sanicolò
URL:https://www.tullingesk.se/aktivitet/langpass-fran-brantan-6/
LOCATION:TSK-klubbstugan\, Flottiljvägen 56\, Tullinge\, 146 38\, Sweden
GEO:59.193432193406;17.901717405743
X-APPLE-STRUCTURED-LOCATION;VALUE=URI;X-ADDRESS=TSK-klubbstugan Flottiljvägen 56 Tullinge 146 38 Sweden;X-APPLE-RADIUS=500;X-TITLE=Flottiljvägen 56:geo:17.901717405743,59.193432193406
END:VEVENT
BEGIN:VEVENT
DTSTART;TZID=Europe/Stockholm:20260301T090000
DTEND;TZID=Europe/Stockholm:20260301T140000
DTSTAMP:20260421T184720
CREATED:20250915T150509Z
LAST-MODIFIED:20250915T150509Z
UID:10002326-1772355600-1772373600@www.tullingesk.se
SUMMARY:Tipspromenad från TSK-stugan\, Brantbrinks IP
DESCRIPTION:Tipspromenad med barn och vuxenfrågor.\nMotionsbingo\nStart kl10-12\nFikaservering kl.10-13\nLotterier\nVälkomna!\nSupporterklubben
URL:https://www.tullingesk.se/aktivitet/tipspromenad-fran-tsk-stugan-brantbrinks-ip-29/
LOCATION:TSK-klubbstugan\, Flottiljvägen 56\, Tullinge\, 146 38\, Sweden
GEO:59.193432193406;17.901717405743
X-APPLE-STRUCTURED-LOCATION;VALUE=URI;X-ADDRESS=TSK-klubbstugan Flottiljvägen 56 Tullinge 146 38 Sweden;X-APPLE-RADIUS=500;X-TITLE=Flottiljvägen 56:geo:17.901717405743,59.193432193406
END:VEVENT
BEGIN:VEVENT
DTSTART;TZID=Europe/Stockholm:20260228T100000
DTEND;TZID=Europe/Stockholm:20260228T120000
DTSTAMP:20260421T184720
CREATED:20260102T171947Z
LAST-MODIFIED:20260224T210043Z
UID:10002788-1772272800-1772280000@www.tullingesk.se
SUMMARY:Teknikträning från Brosjöbadet
DESCRIPTION:Samling kl.10.00 \nGafflade banor: Långa 7\,5 km : Korta 5\,5 km \nGemensam start ca. kl. 10.15 \nObs: anmälan i eventor \n 
URL:https://www.tullingesk.se/aktivitet/ol-teknik-6/
LOCATION:TSK-klubbstugan\, Flottiljvägen 56\, Tullinge\, 146 38\, Sweden
GEO:59.193432193406;17.901717405743
X-APPLE-STRUCTURED-LOCATION;VALUE=URI;X-ADDRESS=TSK-klubbstugan Flottiljvägen 56 Tullinge 146 38 Sweden;X-APPLE-RADIUS=500;X-TITLE=Flottiljvägen 56:geo:17.901717405743,59.193432193406
END:VEVENT
BEGIN:VEVENT
DTSTART;TZID=Europe/Stockholm:20260227T173000
DTEND;TZID=Europe/Stockholm:20260227T183000
DTSTAMP:20260421T184720
CREATED:20260127T134453Z
LAST-MODIFIED:20260302T083101Z
UID:10002942-1772213400-1772217000@www.tullingesk.se
SUMMARY:Skidträning Träsktrollen
DESCRIPTION:Ansvarig: Henrik
URL:https://www.tullingesk.se/aktivitet/skidtraning-trasktrollen/2026-02-27/
LOCATION:Lida Frilufsgård\, Lidavägen 1\, Tullinge\, 14633\, Sverige
CATEGORIES:Skidor
GEO:59.163433851931;17.88166904719
X-APPLE-STRUCTURED-LOCATION;VALUE=URI;X-ADDRESS=Lida Frilufsgård Lidavägen 1 Tullinge 14633 Sverige;X-APPLE-RADIUS=500;X-TITLE=Lidavägen 1:geo:17.88166904719,59.163433851931
END:VEVENT
BEGIN:VEVENT
DTSTART;TZID=Europe/Stockholm:20260227T170000
DTEND;TZID=Europe/Stockholm:20260227T170000
DTSTAMP:20260421T184720
CREATED:20260122T082923Z
LAST-MODIFIED:20260302T083013Z
UID:10002882-1772211600-1772211600@www.tullingesk.se
SUMMARY:Skidträning 912 & 1316
DESCRIPTION:Ansvarig: Pelle
URL:https://www.tullingesk.se/aktivitet/skidtraning-912-1316-2/2026-02-27/
LOCATION:Lida Frilufsgård\, Lidavägen 1\, Tullinge\, 14633\, Sverige
CATEGORIES:Skidor
GEO:59.163433851931;17.88166904719
X-APPLE-STRUCTURED-LOCATION;VALUE=URI;X-ADDRESS=Lida Frilufsgård Lidavägen 1 Tullinge 14633 Sverige;X-APPLE-RADIUS=500;X-TITLE=Lidavägen 1:geo:17.88166904719,59.163433851931
END:VEVENT
BEGIN:VEVENT
DTSTART;TZID=Europe/Stockholm:20260224T180000
DTEND;TZID=Europe/Stockholm:20260224T200000
DTSTAMP:20260421T184720
CREATED:20260222T200939Z
LAST-MODIFIED:20260222T200940Z
UID:10001027-1771956000-1771963200@www.tullingesk.se
SUMMARY:HD17
DESCRIPTION:Intervaller 4 x 7 min. Tullinge strand. Ansvarig: Simon \nReflexväst
URL:https://www.tullingesk.se/aktivitet/hd17-34-12/
LOCATION:TSK-klubbstugan\, Flottiljvägen 56\, Tullinge\, 146 38\, Sweden
GEO:59.193432193406;17.901717405743
X-APPLE-STRUCTURED-LOCATION;VALUE=URI;X-ADDRESS=TSK-klubbstugan Flottiljvägen 56 Tullinge 146 38 Sweden;X-APPLE-RADIUS=500;X-TITLE=Flottiljvägen 56:geo:17.901717405743,59.193432193406
END:VEVENT
BEGIN:VEVENT
DTSTART;TZID=Europe/Stockholm:20260224T180000
DTEND;TZID=Europe/Stockholm:20260224T190000
DTSTAMP:20260421T184720
CREATED:20260130T184739Z
LAST-MODIFIED:20260130T184739Z
UID:10002800-1771956000-1771959600@www.tullingesk.se
SUMMARY:Grupp 4 - tisdagsträning
DESCRIPTION:Grupp 4 – tisdagsträning \nGruppen för alla som inte väljer annan grupp 🙂 \nAnsvarig denna vecka: \n  \nV9 Lennart Agén & Ingemar Larsson \nFör anvisningar och lista över ansvariga: https://www.tullingesk.se/bredd-motionar/
URL:https://www.tullingesk.se/aktivitet/grupp-4-tisdagstraning-8/
LOCATION:TSK-klubbstugan\, Flottiljvägen 56\, Tullinge\, 146 38\, Sweden
CATEGORIES:Tullinge SK
GEO:59.193432193406;17.901717405743
X-APPLE-STRUCTURED-LOCATION;VALUE=URI;X-ADDRESS=TSK-klubbstugan Flottiljvägen 56 Tullinge 146 38 Sweden;X-APPLE-RADIUS=500;X-TITLE=Flottiljvägen 56:geo:17.901717405743,59.193432193406
END:VEVENT
BEGIN:VEVENT
DTSTART;TZID=Europe/Stockholm:20260223T190000
DTEND;TZID=Europe/Stockholm:20260223T200000
DTSTAMP:20260421T184720
CREATED:20251003T073124Z
LAST-MODIFIED:20260330T145355Z
UID:10002621-1771873200-1771876800@www.tullingesk.se
SUMMARY:Styrkegympa -för alla!
DESCRIPTION:Tid: Måndagar kl 19-20\nPlats: Parkhemsskolans gympahall\nVem: TSK-medlemmar\nTa med: Inneskor & vattenflaska\nFörkunskaper: INGA! Alla kan vara med på sin nivå!\nVad: Styrka för hela kroppen. Enkla övningar\, oftast med egna kroppen som vikt men ibland även med gummiband (finns på plats). \n  \n  \n 
URL:https://www.tullingesk.se/aktivitet/tsk-gympa/2026-02-23/
LOCATION:Parkhemsskolans gympahall
END:VEVENT
BEGIN:VEVENT
DTSTART;TZID=Europe/Stockholm:20260222T100000
DTEND;TZID=Europe/Stockholm:20260222T130000
DTSTAMP:20260421T184720
CREATED:20260102T162050Z
LAST-MODIFIED:20260218T193940Z
UID:10002771-1771754400-1771765200@www.tullingesk.se
SUMMARY:Långpass  med SNO Mörkö/Oaxen färjeläger
DESCRIPTION:Här kommer info om söndagens långpass med SNO \n\n\n\nSamling/Parkering kl 10:00 vid Mörkö/Oaxen färjeläger:\n\n\n\nhttps://maps.app.goo.gl/Uvm8zEvJEppHJvsK7 \n\n\n\nBana 15.7 km med många möjligheter att gena. Ingen vätska.\nhttps://www.livelox.com/Events/Show/176870/Morko-Sodra\n\n\n\n\nGår att ladda ned banan till GPS-klocka för automatisk registrering vid kontrollpunkterna.\nhttps://www.o-range.no/index.php/shared-livelox-event?event_id=176870\n\n\n\nHälsningar \n\n\nfrån SNO
URL:https://www.tullingesk.se/aktivitet/langpass-med-sno-2/
LOCATION:TSK-klubbstugan\, Flottiljvägen 56\, Tullinge\, 146 38\, Sweden
GEO:59.193432193406;17.901717405743
X-APPLE-STRUCTURED-LOCATION;VALUE=URI;X-ADDRESS=TSK-klubbstugan Flottiljvägen 56 Tullinge 146 38 Sweden;X-APPLE-RADIUS=500;X-TITLE=Flottiljvägen 56:geo:17.901717405743,59.193432193406
END:VEVENT
BEGIN:VEVENT
DTSTART;TZID=Europe/Stockholm:20260222T090000
DTEND;TZID=Europe/Stockholm:20260222T140000
DTSTAMP:20260421T184720
CREATED:20250915T150448Z
LAST-MODIFIED:20250915T150448Z
UID:10002325-1771750800-1771768800@www.tullingesk.se
SUMMARY:Tipspromenad från TSK-stugan\, Brantbrinks IP
DESCRIPTION:Tipspromenad med barn och vuxenfrågor.\nMotionsbingo\nStart kl10-12\nFikaservering kl.10-13\nLotterier\nVälkomna!\nSupporterklubben
URL:https://www.tullingesk.se/aktivitet/tipspromenad-fran-tsk-stugan-brantbrinks-ip-28/
LOCATION:TSK-klubbstugan\, Flottiljvägen 56\, Tullinge\, 146 38\, Sweden
GEO:59.193432193406;17.901717405743
X-APPLE-STRUCTURED-LOCATION;VALUE=URI;X-ADDRESS=TSK-klubbstugan Flottiljvägen 56 Tullinge 146 38 Sweden;X-APPLE-RADIUS=500;X-TITLE=Flottiljvägen 56:geo:17.901717405743,59.193432193406
END:VEVENT
BEGIN:VEVENT
DTSTART;TZID=Europe/Stockholm:20260221T130000
DTEND;TZID=Europe/Stockholm:20260222T083000
DTSTAMP:20260421T184720
CREATED:20250903T170449Z
LAST-MODIFIED:20250903T170449Z
UID:10002042-1771678800-1771749000@www.tullingesk.se
SUMMARY:Stugan uthyrd/Andreas Hultqvist
DESCRIPTION:
URL:https://www.tullingesk.se/aktivitet/stugan-uthyrd-andreas-hultqvist/
LOCATION:TSK-klubbstugan\, Flottiljvägen 56\, Tullinge\, 146 38\, Sweden
CATEGORIES:Uthyrning klubbstugan
GEO:59.193432193406;17.901717405743
X-APPLE-STRUCTURED-LOCATION;VALUE=URI;X-ADDRESS=TSK-klubbstugan Flottiljvägen 56 Tullinge 146 38 Sweden;X-APPLE-RADIUS=500;X-TITLE=Flottiljvägen 56:geo:17.901717405743,59.193432193406
END:VEVENT
BEGIN:VEVENT
DTSTART;TZID=Europe/Stockholm:20260221T100000
DTEND;TZID=Europe/Stockholm:20260221T120000
DTSTAMP:20260421T184720
CREATED:20260102T171911Z
LAST-MODIFIED:20260102T171911Z
UID:10002787-1771668000-1771675200@www.tullingesk.se
SUMMARY:Lördagsträning
DESCRIPTION:Ansvarig: Victor och Andreas
URL:https://www.tullingesk.se/aktivitet/lordagstraning-3/
LOCATION:TSK-klubbstugan\, Flottiljvägen 56\, Tullinge\, 146 38\, Sweden
GEO:59.193432193406;17.901717405743
X-APPLE-STRUCTURED-LOCATION;VALUE=URI;X-ADDRESS=TSK-klubbstugan Flottiljvägen 56 Tullinge 146 38 Sweden;X-APPLE-RADIUS=500;X-TITLE=Flottiljvägen 56:geo:17.901717405743,59.193432193406
END:VEVENT
BEGIN:VEVENT
DTSTART;TZID=Europe/Stockholm:20260220T173000
DTEND;TZID=Europe/Stockholm:20260220T183000
DTSTAMP:20260421T184720
CREATED:20260127T134453Z
LAST-MODIFIED:20260302T083101Z
UID:10002941-1771608600-1771612200@www.tullingesk.se
SUMMARY:Skidträning Träsktrollen
DESCRIPTION:Ansvarig: Henrik
URL:https://www.tullingesk.se/aktivitet/skidtraning-trasktrollen/2026-02-20/
LOCATION:Lida Frilufsgård\, Lidavägen 1\, Tullinge\, 14633\, Sverige
CATEGORIES:Skidor
GEO:59.163433851931;17.88166904719
X-APPLE-STRUCTURED-LOCATION;VALUE=URI;X-ADDRESS=Lida Frilufsgård Lidavägen 1 Tullinge 14633 Sverige;X-APPLE-RADIUS=500;X-TITLE=Lidavägen 1:geo:17.88166904719,59.163433851931
END:VEVENT
BEGIN:VEVENT
DTSTART;TZID=Europe/Stockholm:20260218T183000
DTEND;TZID=Europe/Stockholm:20260218T203000
DTSTAMP:20260421T184720
CREATED:20260102T171817Z
LAST-MODIFIED:20260102T171817Z
UID:10002786-1771439400-1771446600@www.tullingesk.se
SUMMARY:Nattugglan #3
DESCRIPTION:
URL:https://www.tullingesk.se/aktivitet/nattugglan-3-4/
LOCATION:TSK-klubbstugan\, Flottiljvägen 56\, Tullinge\, 146 38\, Sweden
GEO:59.193432193406;17.901717405743
X-APPLE-STRUCTURED-LOCATION;VALUE=URI;X-ADDRESS=TSK-klubbstugan Flottiljvägen 56 Tullinge 146 38 Sweden;X-APPLE-RADIUS=500;X-TITLE=Flottiljvägen 56:geo:17.901717405743,59.193432193406
END:VEVENT
BEGIN:VEVENT
DTSTART;TZID=Europe/Stockholm:20260217T200000
DTEND;TZID=Europe/Stockholm:20260217T213000
DTSTAMP:20260421T184720
CREATED:20251210T142813Z
LAST-MODIFIED:20251210T142813Z
UID:10002753-1771358400-1771363800@www.tullingesk.se
SUMMARY:TSK Årsmöte
DESCRIPTION:
URL:https://www.tullingesk.se/aktivitet/tsk-arsmote/
LOCATION:TSK-klubbstugan\, Flottiljvägen 56\, Tullinge\, 146 38\, Sweden
GEO:59.193432193406;17.901717405743
X-APPLE-STRUCTURED-LOCATION;VALUE=URI;X-ADDRESS=TSK-klubbstugan Flottiljvägen 56 Tullinge 146 38 Sweden;X-APPLE-RADIUS=500;X-TITLE=Flottiljvägen 56:geo:17.901717405743,59.193432193406
END:VEVENT
BEGIN:VEVENT
DTSTART;TZID=Europe/Stockholm:20260217T180000
DTEND;TZID=Europe/Stockholm:20260217T210000
DTSTAMP:20260421T184720
CREATED:20260214T084444Z
LAST-MODIFIED:20260214T084444Z
UID:10003000-1771351200-1771362000@www.tullingesk.se
SUMMARY:Soppa och städa
DESCRIPTION:Soppa: A Kärrström/F+K+P-A Forsberg/F Nellros \nStäd Dam: Lina Matthews och Maria Ehn \nStäd Herr: Arvid Myrberger
URL:https://www.tullingesk.se/aktivitet/soppa-och-stada-94/
LOCATION:TSK-klubbstugan\, Flottiljvägen 56\, Tullinge\, 146 38\, Sweden
CATEGORIES:Städvecka / tisdagssoppa
GEO:59.193432193406;17.901717405743
X-APPLE-STRUCTURED-LOCATION;VALUE=URI;X-ADDRESS=TSK-klubbstugan Flottiljvägen 56 Tullinge 146 38 Sweden;X-APPLE-RADIUS=500;X-TITLE=Flottiljvägen 56:geo:17.901717405743,59.193432193406
END:VEVENT
BEGIN:VEVENT
DTSTART;TZID=Europe/Stockholm:20260217T180000
DTEND;TZID=Europe/Stockholm:20260217T200000
DTSTAMP:20260421T184720
CREATED:20260215T194417Z
LAST-MODIFIED:20260215T194418Z
UID:10001026-1771351200-1771358400@www.tullingesk.se
SUMMARY:HD17
DESCRIPTION:4×10 mins\, 90s vila. \n  \nAnsvar: Matthew
URL:https://www.tullingesk.se/aktivitet/hd17-34-11/
LOCATION:TSK-klubbstugan\, Flottiljvägen 56\, Tullinge\, 146 38\, Sweden
GEO:59.193432193406;17.901717405743
X-APPLE-STRUCTURED-LOCATION;VALUE=URI;X-ADDRESS=TSK-klubbstugan Flottiljvägen 56 Tullinge 146 38 Sweden;X-APPLE-RADIUS=500;X-TITLE=Flottiljvägen 56:geo:17.901717405743,59.193432193406
END:VEVENT
BEGIN:VEVENT
DTSTART;TZID=Europe/Stockholm:20260217T180000
DTEND;TZID=Europe/Stockholm:20260217T191500
DTSTAMP:20260421T184720
CREATED:20260216T181423Z
LAST-MODIFIED:20260216T181423Z
UID:10003002-1771351200-1771355700@www.tullingesk.se
SUMMARY:1316-gruppen: backe (löparskor+reflexväst)
DESCRIPTION:
URL:https://www.tullingesk.se/aktivitet/1316-gruppen-backe-loparskorreflexvast/
LOCATION:TSK-klubbstugan\, Flottiljvägen 56\, Tullinge\, 146 38\, Sweden
GEO:59.193432193406;17.901717405743
X-APPLE-STRUCTURED-LOCATION;VALUE=URI;X-ADDRESS=TSK-klubbstugan Flottiljvägen 56 Tullinge 146 38 Sweden;X-APPLE-RADIUS=500;X-TITLE=Flottiljvägen 56:geo:17.901717405743,59.193432193406
END:VEVENT
BEGIN:VEVENT
DTSTART;TZID=Europe/Stockholm:20260217T180000
DTEND;TZID=Europe/Stockholm:20260217T190000
DTSTAMP:20260421T184720
CREATED:20260130T184450Z
LAST-MODIFIED:20260216T142542Z
UID:10002799-1771351200-1771354800@www.tullingesk.se
SUMMARY:Grupp 4 - tisdagsträning
DESCRIPTION:Grupp 4 – tisdagsträning \nGruppen för alla som inte väljer annan grupp 🙂 \nFortfarande en hel del snö i skogen så vi kör reflexslingan med gemensam jogging fram till Tornberget. \nVi delar sedan in oss i mindre grupper för olika tempo och distans. Ju längre bak desto lättare.. 🙂 \nTa på er varmt om fötterna och OL-skor rekommenderas. \nVäl mött! \n  \nAnsvarig denna vecka: \nV8 Piero Sannicolò och Åsa Rimsjö Sand \nFör anvisningar och lista över ansvariga: https://www.tullingesk.se/bredd-motionar/
URL:https://www.tullingesk.se/aktivitet/grupp-4-tisdagstraning-7/
LOCATION:TSK-klubbstugan\, Flottiljvägen 56\, Tullinge\, 146 38\, Sweden
CATEGORIES:Tullinge SK
GEO:59.193432193406;17.901717405743
X-APPLE-STRUCTURED-LOCATION;VALUE=URI;X-ADDRESS=TSK-klubbstugan Flottiljvägen 56 Tullinge 146 38 Sweden;X-APPLE-RADIUS=500;X-TITLE=Flottiljvägen 56:geo:17.901717405743,59.193432193406
END:VEVENT
BEGIN:VEVENT
DTSTART;TZID=Europe/Stockholm:20260216T190000
DTEND;TZID=Europe/Stockholm:20260216T200000
DTSTAMP:20260421T184720
CREATED:20251003T073124Z
LAST-MODIFIED:20260330T145355Z
UID:10002620-1771268400-1771272000@www.tullingesk.se
SUMMARY:Styrkegympa -för alla!
DESCRIPTION:Tid: Måndagar kl 19-20\nPlats: Parkhemsskolans gympahall\nVem: TSK-medlemmar\nTa med: Inneskor & vattenflaska\nFörkunskaper: INGA! Alla kan vara med på sin nivå!\nVad: Styrka för hela kroppen. Enkla övningar\, oftast med egna kroppen som vikt men ibland även med gummiband (finns på plats). \n  \n  \n 
URL:https://www.tullingesk.se/aktivitet/tsk-gympa/2026-02-16/
LOCATION:Parkhemsskolans gympahall
END:VEVENT
BEGIN:VEVENT
DTSTART;TZID=Europe/Stockholm:20260216T180000
DTEND;TZID=Europe/Stockholm:20260216T210000
DTSTAMP:20260421T184720
CREATED:20251214T122933Z
LAST-MODIFIED:20260123T171655Z
UID:10002757-1771264800-1771275600@www.tullingesk.se
SUMMARY:Klubbstugan uthyrd/TSS\, Lars Berggren
DESCRIPTION:Styrelsemöte\, Tullinge Seglarsällskap
URL:https://www.tullingesk.se/aktivitet/storstugan-styrelserummet-uthyrt-tss-lars-berggren/2026-02-16/
LOCATION:TSK-klubbstugan\, Flottiljvägen 56\, Tullinge\, 146 38\, Sweden
ORGANIZER;CN="Stugkommitt%C3%A9n":MAILTO:uthyrning@tullingesk.se
GEO:59.193432193406;17.901717405743
X-APPLE-STRUCTURED-LOCATION;VALUE=URI;X-ADDRESS=TSK-klubbstugan Flottiljvägen 56 Tullinge 146 38 Sweden;X-APPLE-RADIUS=500;X-TITLE=Flottiljvägen 56:geo:17.901717405743,59.193432193406
END:VEVENT
BEGIN:VEVENT
DTSTART;TZID=Europe/Stockholm:20260216T180000
DTEND;TZID=Europe/Stockholm:20260216T190000
DTSTAMP:20260421T184720
CREATED:20251209T120757Z
LAST-MODIFIED:20251209T120757Z
UID:10002748-1771264800-1771268400@www.tullingesk.se
SUMMARY:Träsktrollen - inomhusträning
DESCRIPTION:Barn födda 2017-2018 \nLekar och inomhusorientering.
URL:https://www.tullingesk.se/aktivitet/trasktrollen-inomhustraning-2/2026-02-16/
LOCATION:Parkhemsskolans gympahall
END:VEVENT
BEGIN:VEVENT
DTSTART;TZID=Europe/Stockholm:20260215T100000
DTEND;TZID=Europe/Stockholm:20260215T130000
DTSTAMP:20260421T184720
CREATED:20260102T165707Z
LAST-MODIFIED:20260213T104945Z
UID:10002776-1771149600-1771160400@www.tullingesk.se
SUMMARY:Långpass från Brosjön
DESCRIPTION:Samling 10:00 parkeringen vid Brotorpsbadet.\nHela banan är 13\,3 km\, avkortningar på många sätt bl.a för 9 km\nFinns även en kort-variant i skala 1:7500 på 6\,3 km som även den kan kortas av.\nUtsatt vätska\nLite väglöpning på vintriga villagator men går mestadels i skog (med möjlighet till stor andel på stig om man vill) \nAnsvarig: Rickard och Ida Andersson
URL:https://www.tullingesk.se/aktivitet/langpass-fran-brosjon/
END:VEVENT
BEGIN:VEVENT
DTSTART;TZID=Europe/Stockholm:20260215T090000
DTEND;TZID=Europe/Stockholm:20260215T140000
DTSTAMP:20260421T184720
CREATED:20250915T150436Z
LAST-MODIFIED:20250915T150436Z
UID:10002324-1771146000-1771164000@www.tullingesk.se
SUMMARY:Tipspromenad från TSK-stugan\, Brantbrinks IP
DESCRIPTION:Tipspromenad med barn och vuxenfrågor.\nMotionsbingo\nStart kl10-12\nFikaservering kl.10-13\nLotterier\nVälkomna!\nSupporterklubben
URL:https://www.tullingesk.se/aktivitet/tipspromenad-fran-tsk-stugan-brantbrinks-ip-27/
LOCATION:TSK-klubbstugan\, Flottiljvägen 56\, Tullinge\, 146 38\, Sweden
GEO:59.193432193406;17.901717405743
X-APPLE-STRUCTURED-LOCATION;VALUE=URI;X-ADDRESS=TSK-klubbstugan Flottiljvägen 56 Tullinge 146 38 Sweden;X-APPLE-RADIUS=500;X-TITLE=Flottiljvägen 56:geo:17.901717405743,59.193432193406
END:VEVENT
BEGIN:VEVENT
DTSTART;TZID=Europe/Stockholm:20260214T120000
DTEND;TZID=Europe/Stockholm:20260214T133000
DTSTAMP:20260421T184720
CREATED:20260102T171656Z
LAST-MODIFIED:20260212T075251Z
UID:10002785-1771070400-1771075800@www.tullingesk.se
SUMMARY:Inomhus intervaller
DESCRIPTION:Med Snättringe på Storängshallen kl. 12. \n  \nAnsvar: Matthew
URL:https://www.tullingesk.se/aktivitet/ol-teknik-tullinge-ansvarig/
LOCATION:Storängshallen
END:VEVENT
BEGIN:VEVENT
DTSTART;TZID=Europe/Stockholm:20260213T173000
DTEND;TZID=Europe/Stockholm:20260213T183000
DTSTAMP:20260421T184720
CREATED:20260127T134453Z
LAST-MODIFIED:20260302T083101Z
UID:10002940-1771003800-1771007400@www.tullingesk.se
SUMMARY:Skidträning Träsktrollen
DESCRIPTION:Ansvarig: Henrik
URL:https://www.tullingesk.se/aktivitet/skidtraning-trasktrollen/2026-02-13/
LOCATION:Lida Frilufsgård\, Lidavägen 1\, Tullinge\, 14633\, Sverige
CATEGORIES:Skidor
GEO:59.163433851931;17.88166904719
X-APPLE-STRUCTURED-LOCATION;VALUE=URI;X-ADDRESS=Lida Frilufsgård Lidavägen 1 Tullinge 14633 Sverige;X-APPLE-RADIUS=500;X-TITLE=Lidavägen 1:geo:17.88166904719,59.163433851931
END:VEVENT
BEGIN:VEVENT
DTSTART;TZID=Europe/Stockholm:20260213T170000
DTEND;TZID=Europe/Stockholm:20260213T170000
DTSTAMP:20260421T184720
CREATED:20260122T082923Z
LAST-MODIFIED:20260302T083013Z
UID:10002880-1771002000-1771002000@www.tullingesk.se
SUMMARY:Skidträning 912 & 1316
DESCRIPTION:Ansvarig: Pelle
URL:https://www.tullingesk.se/aktivitet/skidtraning-912-1316-2/2026-02-13/
LOCATION:Lida Frilufsgård\, Lidavägen 1\, Tullinge\, 14633\, Sverige
CATEGORIES:Skidor
GEO:59.163433851931;17.88166904719
X-APPLE-STRUCTURED-LOCATION;VALUE=URI;X-ADDRESS=Lida Frilufsgård Lidavägen 1 Tullinge 14633 Sverige;X-APPLE-RADIUS=500;X-TITLE=Lidavägen 1:geo:17.88166904719,59.163433851931
END:VEVENT
END:VCALENDAR