BEGIN:VCALENDAR
VERSION:2.0
PRODID:-//Tullinge SK - ECPv6.15.20//NONSGML v1.0//EN
CALSCALE:GREGORIAN
METHOD:PUBLISH
X-ORIGINAL-URL:https://www.tullingesk.se
X-WR-CALDESC:Händelser för Tullinge SK
REFRESH-INTERVAL;VALUE=DURATION:PT1H
X-Robots-Tag:noindex
X-PUBLISHED-TTL:PT1H
BEGIN:VTIMEZONE
TZID:Europe/Stockholm
BEGIN:DAYLIGHT
TZOFFSETFROM:+0100
TZOFFSETTO:+0200
TZNAME:CEST
DTSTART:20240331T010000
END:DAYLIGHT
BEGIN:STANDARD
TZOFFSETFROM:+0200
TZOFFSETTO:+0100
TZNAME:CET
DTSTART:20241027T010000
END:STANDARD
BEGIN:DAYLIGHT
TZOFFSETFROM:+0100
TZOFFSETTO:+0200
TZNAME:CEST
DTSTART:20250330T010000
END:DAYLIGHT
BEGIN:STANDARD
TZOFFSETFROM:+0200
TZOFFSETTO:+0100
TZNAME:CET
DTSTART:20251026T010000
END:STANDARD
BEGIN:DAYLIGHT
TZOFFSETFROM:+0100
TZOFFSETTO:+0200
TZNAME:CEST
DTSTART:20260329T010000
END:DAYLIGHT
BEGIN:STANDARD
TZOFFSETFROM:+0200
TZOFFSETTO:+0100
TZNAME:CET
DTSTART:20261025T010000
END:STANDARD
END:VTIMEZONE
BEGIN:VEVENT
DTSTART;TZID=Europe/Stockholm:20250819T180000
DTEND;TZID=Europe/Stockholm:20250819T190000
DTSTAMP:20260421T235459
CREATED:20250811T174956Z
LAST-MODIFIED:20250818T183100Z
UID:10001599-1755626400-1755630000@www.tullingesk.se
SUMMARY:Grupp 4 tisdagar
DESCRIPTION:Grupp 4 – gruppen för alla! \nFör instruktioner och lista över alla ansvariga:  https://www.tullingesk.se/bredd-motionar/ \nV34. Mia Bratt \nUppvärmning 1\,5 km\, sedan 7 korta OL slingor som bör passa som tempoträning m karta eller orienteringsträning! Välkomna!
URL:https://www.tullingesk.se/aktivitet/grupp-4-tisdagar-34/
LOCATION:TSK-klubbstugan\, Flottiljvägen 56\, Tullinge\, 146 38\, Sweden
GEO:59.193432193406;17.901717405743
X-APPLE-STRUCTURED-LOCATION;VALUE=URI;X-ADDRESS=TSK-klubbstugan Flottiljvägen 56 Tullinge 146 38 Sweden;X-APPLE-RADIUS=500;X-TITLE=Flottiljvägen 56:geo:17.901717405743,59.193432193406
END:VEVENT
BEGIN:VEVENT
DTSTART;TZID=Europe/Stockholm:20250819T180000
DTEND;TZID=Europe/Stockholm:20250819T191500
DTSTAMP:20260421T235459
CREATED:20250819T052243Z
LAST-MODIFIED:20250819T052243Z
UID:10001960-1755626400-1755630900@www.tullingesk.se
SUMMARY:1316-gruppen: Full speed - no mistakes
DESCRIPTION:Ol-skor o kompass
URL:https://www.tullingesk.se/aktivitet/1316-gruppen-full-speed-no-mistakes/
LOCATION:TSK-klubbstugan\, Flottiljvägen 56\, Tullinge\, 146 38\, Sweden
GEO:59.193432193406;17.901717405743
X-APPLE-STRUCTURED-LOCATION;VALUE=URI;X-ADDRESS=TSK-klubbstugan Flottiljvägen 56 Tullinge 146 38 Sweden;X-APPLE-RADIUS=500;X-TITLE=Flottiljvägen 56:geo:17.901717405743,59.193432193406
END:VEVENT
BEGIN:VEVENT
DTSTART;TZID=Europe/Stockholm:20250819T180000
DTEND;TZID=Europe/Stockholm:20250819T200000
DTSTAMP:20260421T235459
CREATED:20250708T181705Z
LAST-MODIFIED:20250819T075422Z
UID:10000913-1755626400-1755633600@www.tullingesk.se
SUMMARY:HD17
DESCRIPTION:6 x 4′\, vila 1:30. Vi springer på spåret. \nAnsvarig: Simon
URL:https://www.tullingesk.se/aktivitet/hd17-88/
LOCATION:TSK-klubbstugan\, Flottiljvägen 56\, Tullinge\, 146 38\, Sweden
GEO:59.193432193406;17.901717405743
X-APPLE-STRUCTURED-LOCATION;VALUE=URI;X-ADDRESS=TSK-klubbstugan Flottiljvägen 56 Tullinge 146 38 Sweden;X-APPLE-RADIUS=500;X-TITLE=Flottiljvägen 56:geo:17.901717405743,59.193432193406
END:VEVENT
BEGIN:VEVENT
DTSTART;TZID=Europe/Stockholm:20250819T180000
DTEND;TZID=Europe/Stockholm:20250819T210000
DTSTAMP:20260421T235459
CREATED:20250810T123317Z
LAST-MODIFIED:20250810T123317Z
UID:10001928-1755626400-1755637200@www.tullingesk.se
SUMMARY:Soppa och städa
DESCRIPTION:Soppa: K+P Bergh/Å Hansson/H Trofast/U Hanning \nStäd Dam: Carin Mattila och Johanna Dyberg \nStäd Herr: Ingemar Larsson och Anders Karlsson
URL:https://www.tullingesk.se/aktivitet/soppa-och-stada-76/
LOCATION:TSK-klubbstugan\, Flottiljvägen 56\, Tullinge\, 146 38\, Sweden
CATEGORIES:Städvecka / tisdagssoppa
GEO:59.193432193406;17.901717405743
X-APPLE-STRUCTURED-LOCATION;VALUE=URI;X-ADDRESS=TSK-klubbstugan Flottiljvägen 56 Tullinge 146 38 Sweden;X-APPLE-RADIUS=500;X-TITLE=Flottiljvägen 56:geo:17.901717405743,59.193432193406
END:VEVENT
BEGIN:VEVENT
DTSTART;TZID=Europe/Stockholm:20250819T193000
DTEND;TZID=Europe/Stockholm:20250819T210000
DTSTAMP:20260421T235459
CREATED:20250812T112745Z
LAST-MODIFIED:20250812T112745Z
UID:10001952-1755631800-1755637200@www.tullingesk.se
SUMMARY:Mötesrummet vid entrén bokat / Ungkom
DESCRIPTION:
URL:https://www.tullingesk.se/aktivitet/motesrummet-vid-entren-bokat-ungkom/
LOCATION:TSK-klubbstugan\, Flottiljvägen 56\, Tullinge\, 146 38\, Sweden
CATEGORIES:Uthyrning klubbstugan
GEO:59.193432193406;17.901717405743
X-APPLE-STRUCTURED-LOCATION;VALUE=URI;X-ADDRESS=TSK-klubbstugan Flottiljvägen 56 Tullinge 146 38 Sweden;X-APPLE-RADIUS=500;X-TITLE=Flottiljvägen 56:geo:17.901717405743,59.193432193406
END:VEVENT
BEGIN:VEVENT
DTSTART;TZID=Europe/Stockholm:20250819T193000
DTEND;TZID=Europe/Stockholm:20250819T210000
DTSTAMP:20260421T235459
CREATED:20250814T080012Z
LAST-MODIFIED:20250814T092506Z
UID:10001954-1755631800-1755637200@www.tullingesk.se
SUMMARY:EK-möte
DESCRIPTION:Månatliga mötet.
URL:https://www.tullingesk.se/aktivitet/ek-mote-i-lilla-rummet-vid-entren-8/
LOCATION:TSK-klubbstugan\, Flottiljvägen 56\, Tullinge\, 146 38\, Sweden
CATEGORIES:Elitkommittén
GEO:59.193432193406;17.901717405743
X-APPLE-STRUCTURED-LOCATION;VALUE=URI;X-ADDRESS=TSK-klubbstugan Flottiljvägen 56 Tullinge 146 38 Sweden;X-APPLE-RADIUS=500;X-TITLE=Flottiljvägen 56:geo:17.901717405743,59.193432193406
END:VEVENT
BEGIN:VEVENT
DTSTART;TZID=Europe/Stockholm:20250819T193000
DTEND;TZID=Europe/Stockholm:20250819T213000
DTSTAMP:20260421T235459
CREATED:20250610T191057Z
LAST-MODIFIED:20250610T191057Z
UID:10001912-1755631800-1755639000@www.tullingesk.se
SUMMARY:Styrelserummet bokat /Styrelsen
DESCRIPTION:
URL:https://www.tullingesk.se/aktivitet/styrelserummet-bokat-styrelsen-3/
LOCATION:TSK-klubbstugan\, Flottiljvägen 56\, Tullinge\, 146 38\, Sweden
GEO:59.193432193406;17.901717405743
X-APPLE-STRUCTURED-LOCATION;VALUE=URI;X-ADDRESS=TSK-klubbstugan Flottiljvägen 56 Tullinge 146 38 Sweden;X-APPLE-RADIUS=500;X-TITLE=Flottiljvägen 56:geo:17.901717405743,59.193432193406
END:VEVENT
BEGIN:VEVENT
DTSTART;TZID=Europe/Stockholm:20250820T173000
DTEND;TZID=Europe/Stockholm:20250820T200000
DTSTAMP:20260421T235459
CREATED:20250811T183017Z
LAST-MODIFIED:20250820T071127Z
UID:10001947-1755711000-1755720000@www.tullingesk.se
SUMMARY:Medel KM - Ektorp
DESCRIPTION:Medel -KM för Tullinge och Snättringe med after-run efter vårens tävlingar. Grillning med samkväm efter loppet. \n 
URL:https://www.tullingesk.se/aktivitet/medel-km-ektorp/
CATEGORIES:Orienteringstävling
END:VEVENT
BEGIN:VEVENT
DTSTART;TZID=Europe/Stockholm:20250821T180000
DTEND;TZID=Europe/Stockholm:20250821T193000
DTSTAMP:20260421T235459
CREATED:20250817T143905Z
LAST-MODIFIED:20250817T144827Z
UID:10001957-1755799200-1755804600@www.tullingesk.se
SUMMARY:Teknikträning Lida
DESCRIPTION:Teknikträning öppen för alla medlemmar. Vi kör denna vecka de banor som vi Tullinge SK även erbjuder inom Sydsamarbetet. \nAnmälan senast onsdag kl 12 via Eventor:Länk till anmälan \nSamling:\nParkeringen vid Lida \nBanor/tema:\nVanliga banor\nFinns endast orange och svart bana – ej vit och ej gul \nBanlängder:\nOrange 3\,4 km\nSvart 3\,7\, 5\,1 och 7\,7 km \nAnsvariga ledare:\n13-16 Ledare: Rickard \nBanläggare:\nLugo \nUtskrift: Rickard \nInplockning: Erik B \nMedtag gärna plastficka A4 (utom Svart Lång 10000 som har A3) \nLivelox finns: https://www.livelox.com/Events/Show/165172/Sydsam-vecka-34-2025
URL:https://www.tullingesk.se/aktivitet/tekniktraning-lida-3/
END:VEVENT
BEGIN:VEVENT
DTSTART;TZID=Europe/Stockholm:20250822T180000
DTEND;TZID=Europe/Stockholm:20250824T130000
DTSTAMP:20260421T235459
CREATED:20250818T134018Z
LAST-MODIFIED:20250818T134018Z
UID:10001959-1755885600-1756040400@www.tullingesk.se
SUMMARY:13-20 läger Gnesta
DESCRIPTION:
URL:https://www.tullingesk.se/aktivitet/13-20-lager-gnesta/
CATEGORIES:Ungdomskommittén
END:VEVENT
BEGIN:VEVENT
DTSTART;TZID=Europe/Stockholm:20250823T130000
DTEND;TZID=Europe/Stockholm:20250824T100000
DTSTAMP:20260421T235459
CREATED:20250603T171535Z
LAST-MODIFIED:20250603T171535Z
UID:10001907-1755954000-1756029600@www.tullingesk.se
SUMMARY:Stugan uthyrd/Monika Marmvik Eriksen
DESCRIPTION:
URL:https://www.tullingesk.se/aktivitet/stugan-uthyrd-monika-marmvik-eriksen/
LOCATION:TSK-klubbstugan\, Flottiljvägen 56\, Tullinge\, 146 38\, Sweden
CATEGORIES:Uthyrning klubbstugan
GEO:59.193432193406;17.901717405743
X-APPLE-STRUCTURED-LOCATION;VALUE=URI;X-ADDRESS=TSK-klubbstugan Flottiljvägen 56 Tullinge 146 38 Sweden;X-APPLE-RADIUS=500;X-TITLE=Flottiljvägen 56:geo:17.901717405743,59.193432193406
END:VEVENT
BEGIN:VEVENT
DTSTART;TZID=Europe/Stockholm:20250826T180000
DTEND;TZID=Europe/Stockholm:20250826T190000
DTSTAMP:20260421T235459
CREATED:20250808T071037Z
LAST-MODIFIED:20250808T071037Z
UID:10001926-1756231200-1756234800@www.tullingesk.se
SUMMARY:13-16 - vi kör Terräng-KM
DESCRIPTION:
URL:https://www.tullingesk.se/aktivitet/13-16-vi-kor-terrang-km/
LOCATION:TSK-klubbstugan\, Flottiljvägen 56\, Tullinge\, 146 38\, Sweden
GEO:59.193432193406;17.901717405743
X-APPLE-STRUCTURED-LOCATION;VALUE=URI;X-ADDRESS=TSK-klubbstugan Flottiljvägen 56 Tullinge 146 38 Sweden;X-APPLE-RADIUS=500;X-TITLE=Flottiljvägen 56:geo:17.901717405743,59.193432193406
END:VEVENT
BEGIN:VEVENT
DTSTART;TZID=Europe/Stockholm:20250826T180000
DTEND;TZID=Europe/Stockholm:20250826T190000
DTSTAMP:20260421T235459
CREATED:20250811T175130Z
LAST-MODIFIED:20250811T175131Z
UID:10001600-1756231200-1756234800@www.tullingesk.se
SUMMARY:Grupp 4 tisdagar
DESCRIPTION:Grupp 4 – gruppen för alla! \nFör instruktioner och lista över alla ansvariga:  https://www.tullingesk.se/bredd-motionar/ \nV35 Vi kör terräng-KM
URL:https://www.tullingesk.se/aktivitet/grupp-4-tisdagar-35/
LOCATION:TSK-klubbstugan\, Flottiljvägen 56\, Tullinge\, 146 38\, Sweden
GEO:59.193432193406;17.901717405743
X-APPLE-STRUCTURED-LOCATION;VALUE=URI;X-ADDRESS=TSK-klubbstugan Flottiljvägen 56 Tullinge 146 38 Sweden;X-APPLE-RADIUS=500;X-TITLE=Flottiljvägen 56:geo:17.901717405743,59.193432193406
END:VEVENT
BEGIN:VEVENT
DTSTART;TZID=Europe/Stockholm:20250826T180000
DTEND;TZID=Europe/Stockholm:20250826T190000
DTSTAMP:20260421T235459
CREATED:20250819T182424Z
LAST-MODIFIED:20251020T095021Z
UID:10001969-1756231200-1756234800@www.tullingesk.se
SUMMARY:Träsktrollen
DESCRIPTION:Barn födda 2017-2018 \n 
URL:https://www.tullingesk.se/aktivitet/trasktrollen-6/2025-08-26/
LOCATION:TSK-klubbstugan\, Flottiljvägen 56\, Tullinge\, 146 38\, Sweden
CATEGORIES:Ungdomskommittén
GEO:59.193432193406;17.901717405743
X-APPLE-STRUCTURED-LOCATION;VALUE=URI;X-ADDRESS=TSK-klubbstugan Flottiljvägen 56 Tullinge 146 38 Sweden;X-APPLE-RADIUS=500;X-TITLE=Flottiljvägen 56:geo:17.901717405743,59.193432193406
END:VEVENT
BEGIN:VEVENT
DTSTART;TZID=Europe/Stockholm:20250826T180000
DTEND;TZID=Europe/Stockholm:20250826T193000
DTSTAMP:20260421T235459
CREATED:20250815T064820Z
LAST-MODIFIED:20250815T064820Z
UID:10001956-1756231200-1756236600@www.tullingesk.se
SUMMARY:Terräng-KM
DESCRIPTION:För alla!\nSe nyhet för information och anmälan.
URL:https://www.tullingesk.se/aktivitet/terrang-km/
LOCATION:TSK-klubbstugan\, Flottiljvägen 56\, Tullinge\, 146 38\, Sweden
GEO:59.193432193406;17.901717405743
X-APPLE-STRUCTURED-LOCATION;VALUE=URI;X-ADDRESS=TSK-klubbstugan Flottiljvägen 56 Tullinge 146 38 Sweden;X-APPLE-RADIUS=500;X-TITLE=Flottiljvägen 56:geo:17.901717405743,59.193432193406
END:VEVENT
BEGIN:VEVENT
DTSTART;TZID=Europe/Stockholm:20250826T180000
DTEND;TZID=Europe/Stockholm:20250826T200000
DTSTAMP:20260421T235459
CREATED:20250708T181709Z
LAST-MODIFIED:20250826T074411Z
UID:10001005-1756231200-1756238400@www.tullingesk.se
SUMMARY:HD17
DESCRIPTION:Vi springer Terräng-KM
URL:https://www.tullingesk.se/aktivitet/hd17-89/
LOCATION:TSK-klubbstugan\, Flottiljvägen 56\, Tullinge\, 146 38\, Sweden
GEO:59.193432193406;17.901717405743
X-APPLE-STRUCTURED-LOCATION;VALUE=URI;X-ADDRESS=TSK-klubbstugan Flottiljvägen 56 Tullinge 146 38 Sweden;X-APPLE-RADIUS=500;X-TITLE=Flottiljvägen 56:geo:17.901717405743,59.193432193406
END:VEVENT
BEGIN:VEVENT
DTSTART;TZID=Europe/Stockholm:20250826T180000
DTEND;TZID=Europe/Stockholm:20250826T210000
DTSTAMP:20260421T235459
CREATED:20250810T123806Z
LAST-MODIFIED:20250810T123806Z
UID:10001929-1756231200-1756242000@www.tullingesk.se
SUMMARY:Soppa och städa
DESCRIPTION:Soppa: L+P Leickt/L Evjen/D Nygren/P Lidströmer/E Hedin Villarroel \nStäd Dam: Carolina Andersson och Sara Pousette \nStäd Herr: Anders Ställberg och P-O Melinder
URL:https://www.tullingesk.se/aktivitet/soppa-och-stada-77/
LOCATION:TSK-klubbstugan\, Flottiljvägen 56\, Tullinge\, 146 38\, Sweden
GEO:59.193432193406;17.901717405743
X-APPLE-STRUCTURED-LOCATION;VALUE=URI;X-ADDRESS=TSK-klubbstugan Flottiljvägen 56 Tullinge 146 38 Sweden;X-APPLE-RADIUS=500;X-TITLE=Flottiljvägen 56:geo:17.901717405743,59.193432193406
END:VEVENT
BEGIN:VEVENT
DTSTART;TZID=Europe/Stockholm:20250826T193000
DTEND;TZID=Europe/Stockholm:20250826T210000
DTSTAMP:20260421T235459
CREATED:20250814T121805Z
LAST-MODIFIED:20250814T121805Z
UID:10001955-1756236600-1756242000@www.tullingesk.se
SUMMARY:Styrelserummet bokat/Alma-kommittén
DESCRIPTION:
URL:https://www.tullingesk.se/aktivitet/styrelserummet-bokat-alma-kommitten/
LOCATION:TSK-klubbstugan\, Flottiljvägen 56\, Tullinge\, 146 38\, Sweden
GEO:59.193432193406;17.901717405743
X-APPLE-STRUCTURED-LOCATION;VALUE=URI;X-ADDRESS=TSK-klubbstugan Flottiljvägen 56 Tullinge 146 38 Sweden;X-APPLE-RADIUS=500;X-TITLE=Flottiljvägen 56:geo:17.901717405743,59.193432193406
END:VEVENT
BEGIN:VEVENT
DTSTART;TZID=Europe/Stockholm:20250827T180000
DTEND;TZID=Europe/Stockholm:20250827T200000
DTSTAMP:20260421T235459
CREATED:20250808T071344Z
LAST-MODIFIED:20250817T151013Z
UID:10001927-1756317600-1756324800@www.tullingesk.se
SUMMARY:Ungdomsserien
DESCRIPTION:https://eventor.orientering.se/Events/Show/51707
URL:https://www.tullingesk.se/aktivitet/ungdomsserien-4/
LOCATION:TSK-klubbstugan\, Flottiljvägen 56\, Tullinge\, 146 38\, Sweden
GEO:59.193432193406;17.901717405743
X-APPLE-STRUCTURED-LOCATION;VALUE=URI;X-ADDRESS=TSK-klubbstugan Flottiljvägen 56 Tullinge 146 38 Sweden;X-APPLE-RADIUS=500;X-TITLE=Flottiljvägen 56:geo:17.901717405743,59.193432193406
END:VEVENT
BEGIN:VEVENT
DTSTART;TZID=Europe/Stockholm:20250828T080000
DTEND;TZID=Europe/Stockholm:20250828T120000
DTSTAMP:20260421T235459
CREATED:20250824T121348Z
LAST-MODIFIED:20250824T121348Z
UID:10002033-1756368000-1756382400@www.tullingesk.se
SUMMARY:Stugan bokad/Eklid fritids
DESCRIPTION:
URL:https://www.tullingesk.se/aktivitet/stugan-bokad-eklid-fritids-3/
LOCATION:TSK-klubbstugan\, Flottiljvägen 56\, Tullinge\, 146 38\, Sweden
CATEGORIES:Uthyrning klubbstugan
GEO:59.193432193406;17.901717405743
X-APPLE-STRUCTURED-LOCATION;VALUE=URI;X-ADDRESS=TSK-klubbstugan Flottiljvägen 56 Tullinge 146 38 Sweden;X-APPLE-RADIUS=500;X-TITLE=Flottiljvägen 56:geo:17.901717405743,59.193432193406
END:VEVENT
BEGIN:VEVENT
DTSTART;TZID=Europe/Stockholm:20250828T180000
DTEND;TZID=Europe/Stockholm:20250828T191500
DTSTAMP:20260421T235459
CREATED:20250817T150225Z
LAST-MODIFIED:20250827T142151Z
UID:10001958-1756404000-1756408500@www.tullingesk.se
SUMMARY:Teknikträning Bovallen
DESCRIPTION:Teknikträning öppen för alla medlemmar. Vi kör denna vecka sydsamrbetets träning som Tumba ha lagt. \nAnmälan senast onsdag kl 12 via Eventor: https://eventor.orientering.se/Activities/Show/24320 \nSamling:\nBovallen parkeringen https://maps.app.goo.gl/HXymbcQ1defRo96L9\nÄr parkeringen full har vi tillstånd att stå på vändplanen uppe vid Hydet MC \nBanor/tema:\nFör svart och orange långdistanskaraktär med fokus kontrolltagning. Vit och gul vanlig bana. \nBanlängder: \nSvart 10.3km\, 7.7km\, 5.3km\, 3.3km\, Orange 3.2km Gul 2.3km och Vit 2.1km \nAnsvariga ledare:\n13-16 Ledare: Lin\n9-12 Ledare: Jörgen \nBanläggare:\nSydsam \nUtskrift: Rickard \nInplockning: Sydsam \nMedtag gärna plastficka A4 (utom för 5\,3 7500 som har A3) \nLivelox finns: länk kommer
URL:https://www.tullingesk.se/aktivitet/tekniktraning-bovallen-2/
END:VEVENT
BEGIN:VEVENT
DTSTART;TZID=Europe/Stockholm:20250830T120000
DTEND;TZID=Europe/Stockholm:20250831T100000
DTSTAMP:20260421T235459
CREATED:20250610T191052Z
LAST-MODIFIED:20250611T170916Z
UID:10001913-1756555200-1756634400@www.tullingesk.se
SUMMARY:Stugan uthyrd/Therese Carlsson
DESCRIPTION:
URL:https://www.tullingesk.se/aktivitet/stugan-uthyrd-therese-carlsson-2/
LOCATION:TSK-klubbstugan\, Flottiljvägen 56\, Tullinge\, 146 38\, Sweden
CATEGORIES:Uthyrning klubbstugan
GEO:59.193432193406;17.901717405743
X-APPLE-STRUCTURED-LOCATION;VALUE=URI;X-ADDRESS=TSK-klubbstugan Flottiljvägen 56 Tullinge 146 38 Sweden;X-APPLE-RADIUS=500;X-TITLE=Flottiljvägen 56:geo:17.901717405743,59.193432193406
END:VEVENT
BEGIN:VEVENT
DTSTART;TZID=Europe/Stockholm:20250902T180000
DTEND;TZID=Europe/Stockholm:20250902T190000
DTSTAMP:20260421T235459
CREATED:20250811T175340Z
LAST-MODIFIED:20250811T175340Z
UID:10001601-1756836000-1756839600@www.tullingesk.se
SUMMARY:Grupp 4 tisdagar
DESCRIPTION:Grupp 4 – gruppen för alla! \nFör instruktioner och lista över alla ansvariga:  https://www.tullingesk.se/bredd-motionar/ \nv36: Robert Lidström & P-O Melinder
URL:https://www.tullingesk.se/aktivitet/grupp-4-tisdagar-36/
LOCATION:TSK-klubbstugan\, Flottiljvägen 56\, Tullinge\, 146 38\, Sweden
GEO:59.193432193406;17.901717405743
X-APPLE-STRUCTURED-LOCATION;VALUE=URI;X-ADDRESS=TSK-klubbstugan Flottiljvägen 56 Tullinge 146 38 Sweden;X-APPLE-RADIUS=500;X-TITLE=Flottiljvägen 56:geo:17.901717405743,59.193432193406
END:VEVENT
BEGIN:VEVENT
DTSTART;TZID=Europe/Stockholm:20250902T180000
DTEND;TZID=Europe/Stockholm:20250902T190000
DTSTAMP:20260421T235459
CREATED:20250819T182424Z
LAST-MODIFIED:20251020T095021Z
UID:10001970-1756836000-1756839600@www.tullingesk.se
SUMMARY:Träsktrollen
DESCRIPTION:Barn födda 2017-2018 \n 
URL:https://www.tullingesk.se/aktivitet/trasktrollen-6/2025-09-02/
LOCATION:TSK-klubbstugan\, Flottiljvägen 56\, Tullinge\, 146 38\, Sweden
CATEGORIES:Ungdomskommittén
GEO:59.193432193406;17.901717405743
X-APPLE-STRUCTURED-LOCATION;VALUE=URI;X-ADDRESS=TSK-klubbstugan Flottiljvägen 56 Tullinge 146 38 Sweden;X-APPLE-RADIUS=500;X-TITLE=Flottiljvägen 56:geo:17.901717405743,59.193432193406
END:VEVENT
BEGIN:VEVENT
DTSTART;TZID=Europe/Stockholm:20250902T180000
DTEND;TZID=Europe/Stockholm:20250902T191500
DTSTAMP:20260421T235459
CREATED:20250819T182133Z
LAST-MODIFIED:20250819T182133Z
UID:10001961-1756836000-1756840500@www.tullingesk.se
SUMMARY:9-12 träning
DESCRIPTION:
URL:https://www.tullingesk.se/aktivitet/9-12-traning-3/2025-09-02/
LOCATION:TSK-klubbstugan\, Flottiljvägen 56\, Tullinge\, 146 38\, Sweden
CATEGORIES:Ungdomskommittén
GEO:59.193432193406;17.901717405743
X-APPLE-STRUCTURED-LOCATION;VALUE=URI;X-ADDRESS=TSK-klubbstugan Flottiljvägen 56 Tullinge 146 38 Sweden;X-APPLE-RADIUS=500;X-TITLE=Flottiljvägen 56:geo:17.901717405743,59.193432193406
END:VEVENT
BEGIN:VEVENT
DTSTART;TZID=Europe/Stockholm:20250902T180000
DTEND;TZID=Europe/Stockholm:20250902T193000
DTSTAMP:20260421T235459
CREATED:20250901T105033Z
LAST-MODIFIED:20250901T105033Z
UID:10002041-1756836000-1756841400@www.tullingesk.se
SUMMARY:1316-gruppen: kartminne och skogsintervaller
DESCRIPTION:OL-skor och kompass \n/Johan\, Lin och Calle
URL:https://www.tullingesk.se/aktivitet/1316-gruppen-kartminne-och-skogsintervaller-2/
LOCATION:TSK-klubbstugan\, Flottiljvägen 56\, Tullinge\, 146 38\, Sweden
GEO:59.193432193406;17.901717405743
X-APPLE-STRUCTURED-LOCATION;VALUE=URI;X-ADDRESS=TSK-klubbstugan Flottiljvägen 56 Tullinge 146 38 Sweden;X-APPLE-RADIUS=500;X-TITLE=Flottiljvägen 56:geo:17.901717405743,59.193432193406
END:VEVENT
BEGIN:VEVENT
DTSTART;TZID=Europe/Stockholm:20250902T180000
DTEND;TZID=Europe/Stockholm:20250902T200000
DTSTAMP:20260421T235459
CREATED:20250708T181714Z
LAST-MODIFIED:20250831T154718Z
UID:10001006-1756836000-1756843200@www.tullingesk.se
SUMMARY:HD17
DESCRIPTION:Tornetintervaller. 6 x ca 5 min på stig. \nAnsvarig: Simon
URL:https://www.tullingesk.se/aktivitet/hd17-90/
LOCATION:TSK-klubbstugan\, Flottiljvägen 56\, Tullinge\, 146 38\, Sweden
GEO:59.193432193406;17.901717405743
X-APPLE-STRUCTURED-LOCATION;VALUE=URI;X-ADDRESS=TSK-klubbstugan Flottiljvägen 56 Tullinge 146 38 Sweden;X-APPLE-RADIUS=500;X-TITLE=Flottiljvägen 56:geo:17.901717405743,59.193432193406
END:VEVENT
BEGIN:VEVENT
DTSTART;TZID=Europe/Stockholm:20250902T180000
DTEND;TZID=Europe/Stockholm:20250902T210000
DTSTAMP:20260421T235459
CREATED:20250810T124027Z
LAST-MODIFIED:20250810T124027Z
UID:10001930-1756836000-1756846800@www.tullingesk.se
SUMMARY:Soppa och städa
DESCRIPTION:Soppa: L+B Normark/H Bladh/J Ohlin/K Lundberg \nStäd Dam: Sofia Lönnkvist och Pauline Levinson \nStäd Herr: Hasse Sundqvist och Mikael Sundqvist
URL:https://www.tullingesk.se/aktivitet/soppa-och-stada-78/
LOCATION:TSK-klubbstugan\, Flottiljvägen 56\, Tullinge\, 146 38\, Sweden
CATEGORIES:Städvecka / tisdagssoppa
GEO:59.193432193406;17.901717405743
X-APPLE-STRUCTURED-LOCATION;VALUE=URI;X-ADDRESS=TSK-klubbstugan Flottiljvägen 56 Tullinge 146 38 Sweden;X-APPLE-RADIUS=500;X-TITLE=Flottiljvägen 56:geo:17.901717405743,59.193432193406
END:VEVENT
BEGIN:VEVENT
DTSTART;TZID=Europe/Stockholm:20250904T181500
DTEND;TZID=Europe/Stockholm:20250904T193000
DTSTAMP:20260421T235459
CREATED:20250825T132716Z
LAST-MODIFIED:20250828T194455Z
UID:10002037-1757009700-1757014200@www.tullingesk.se
SUMMARY:Sprint-KM för ungdom och sprintträning med sportident för övriga
DESCRIPTION:Sprint i Salem. Öppet för alla medlemmar och fungerar som KM för ungdomar. https://eventor.orientering.se/Events/Show/55670 \nFör icke ungdomar finns två öppna banor med sportident att köra Ö Medel och Ö Längre. När man kört sin öppna bana finns ytterligare en träningsbana om man vill springa mer. Anmälan senast tisdag men några enstaka extra kartor finns för anmälan på plats. \nFör den som inte vill köra sprint så kommer det att finnas en bana i Visättra för nedladdning och egen utskrift i filarkivet.
URL:https://www.tullingesk.se/aktivitet/sprint-km-for-ungdom-och-sprinttraning-med-sportident-for-ovriga/
CATEGORIES:Orienteringstävling,Ungdomskommittén
END:VEVENT
BEGIN:VEVENT
DTSTART;TZID=Europe/Stockholm:20250906T130000
DTEND;TZID=Europe/Stockholm:20250907T233000
DTSTAMP:20260421T235459
CREATED:20250804T165400Z
LAST-MODIFIED:20250827T163847Z
UID:10001923-1757163600-1757287800@www.tullingesk.se
SUMMARY:Stugan uthyrd/Patrik Westerberg
DESCRIPTION:
URL:https://www.tullingesk.se/aktivitet/stugan-uthyrd-patrik-westerberg/
LOCATION:TSK-klubbstugan\, Flottiljvägen 56\, Tullinge\, 146 38\, Sweden
CATEGORIES:Uthyrning klubbstugan
GEO:59.193432193406;17.901717405743
X-APPLE-STRUCTURED-LOCATION;VALUE=URI;X-ADDRESS=TSK-klubbstugan Flottiljvägen 56 Tullinge 146 38 Sweden;X-APPLE-RADIUS=500;X-TITLE=Flottiljvägen 56:geo:17.901717405743,59.193432193406
END:VEVENT
END:VCALENDAR