BEGIN:VCALENDAR
VERSION:2.0
PRODID:-//Tullinge SK - ECPv6.15.20//NONSGML v1.0//EN
CALSCALE:GREGORIAN
METHOD:PUBLISH
X-ORIGINAL-URL:https://www.tullingesk.se
X-WR-CALDESC:Händelser för Tullinge SK
REFRESH-INTERVAL;VALUE=DURATION:PT1H
X-Robots-Tag:noindex
X-PUBLISHED-TTL:PT1H
BEGIN:VTIMEZONE
TZID:Europe/Stockholm
BEGIN:DAYLIGHT
TZOFFSETFROM:+0100
TZOFFSETTO:+0200
TZNAME:CEST
DTSTART:20240331T010000
END:DAYLIGHT
BEGIN:STANDARD
TZOFFSETFROM:+0200
TZOFFSETTO:+0100
TZNAME:CET
DTSTART:20241027T010000
END:STANDARD
BEGIN:DAYLIGHT
TZOFFSETFROM:+0100
TZOFFSETTO:+0200
TZNAME:CEST
DTSTART:20250330T010000
END:DAYLIGHT
BEGIN:STANDARD
TZOFFSETFROM:+0200
TZOFFSETTO:+0100
TZNAME:CET
DTSTART:20251026T010000
END:STANDARD
BEGIN:DAYLIGHT
TZOFFSETFROM:+0100
TZOFFSETTO:+0200
TZNAME:CEST
DTSTART:20260329T010000
END:DAYLIGHT
BEGIN:STANDARD
TZOFFSETFROM:+0200
TZOFFSETTO:+0100
TZNAME:CET
DTSTART:20261025T010000
END:STANDARD
END:VTIMEZONE
BEGIN:VEVENT
DTSTART;TZID=Europe/Stockholm:20250614T130000
DTEND;TZID=Europe/Stockholm:20250615T100000
DTSTAMP:20260419T142219
CREATED:20250220T183312Z
LAST-MODIFIED:20250220T183312Z
UID:10001714-1749906000-1749981600@www.tullingesk.se
SUMMARY:Stugan uthyrd/Susanne Jansson
DESCRIPTION:
URL:https://www.tullingesk.se/aktivitet/stugan-uthyrd-susanne-jansson/
LOCATION:TSK-klubbstugan\, Flottiljvägen 56\, Tullinge\, 146 38\, Sweden
CATEGORIES:Uthyrning klubbstugan
GEO:59.193432193406;17.901717405743
X-APPLE-STRUCTURED-LOCATION;VALUE=URI;X-ADDRESS=TSK-klubbstugan Flottiljvägen 56 Tullinge 146 38 Sweden;X-APPLE-RADIUS=500;X-TITLE=Flottiljvägen 56:geo:17.901717405743,59.193432193406
END:VEVENT
BEGIN:VEVENT
DTSTART;TZID=Europe/Stockholm:20250617T180000
DTEND;TZID=Europe/Stockholm:20250617T190000
DTSTAMP:20260419T142219
CREATED:20250528T213512Z
LAST-MODIFIED:20250528T213512Z
UID:10001590-1750183200-1750186800@www.tullingesk.se
SUMMARY:Grupp 4 tisdagar
DESCRIPTION:Grupp 4 – gruppen för alla! \nFör instruktioner och lista över alla ansvariga:  https://www.tullingesk.se/bredd-motionar/ \nV24 Tina & Johnny Junegaard
URL:https://www.tullingesk.se/aktivitet/grupp-4-tisdagar-25/
LOCATION:TSK-klubbstugan\, Flottiljvägen 56\, Tullinge\, 146 38\, Sweden
GEO:59.193432193406;17.901717405743
X-APPLE-STRUCTURED-LOCATION;VALUE=URI;X-ADDRESS=TSK-klubbstugan Flottiljvägen 56 Tullinge 146 38 Sweden;X-APPLE-RADIUS=500;X-TITLE=Flottiljvägen 56:geo:17.901717405743,59.193432193406
END:VEVENT
BEGIN:VEVENT
DTSTART;TZID=Europe/Stockholm:20250617T180000
DTEND;TZID=Europe/Stockholm:20250617T190000
DTSTAMP:20260419T142219
CREATED:20250610T195701Z
LAST-MODIFIED:20250610T195701Z
UID:10001917-1750183200-1750186800@www.tullingesk.se
SUMMARY:13-16
DESCRIPTION:Samling bakom klubbstugan
URL:https://www.tullingesk.se/aktivitet/13-16-2/
LOCATION:TSK-klubbstugan\, Flottiljvägen 56\, Tullinge\, 146 38\, Sweden
GEO:59.193432193406;17.901717405743
X-APPLE-STRUCTURED-LOCATION;VALUE=URI;X-ADDRESS=TSK-klubbstugan Flottiljvägen 56 Tullinge 146 38 Sweden;X-APPLE-RADIUS=500;X-TITLE=Flottiljvägen 56:geo:17.901717405743,59.193432193406
END:VEVENT
BEGIN:VEVENT
DTSTART;TZID=Europe/Stockholm:20250617T193000
DTEND;TZID=Europe/Stockholm:20250617T210000
DTSTAMP:20260419T142219
CREATED:20250523T112802Z
LAST-MODIFIED:20250523T112802Z
UID:10001903-1750188600-1750194000@www.tullingesk.se
SUMMARY:EK-möte i lilla rummet vid entrén
DESCRIPTION:EK månadsmöte.
URL:https://www.tullingesk.se/aktivitet/ek-mote-i-lilla-rummet-vid-entren-7/
LOCATION:TSK-klubbstugan\, Flottiljvägen 56\, Tullinge\, 146 38\, Sweden
CATEGORIES:Elitkommittén
GEO:59.193432193406;17.901717405743
X-APPLE-STRUCTURED-LOCATION;VALUE=URI;X-ADDRESS=TSK-klubbstugan Flottiljvägen 56 Tullinge 146 38 Sweden;X-APPLE-RADIUS=500;X-TITLE=Flottiljvägen 56:geo:17.901717405743,59.193432193406
END:VEVENT
BEGIN:VEVENT
DTSTART;TZID=Europe/Stockholm:20250626T183000
DTEND;TZID=Europe/Stockholm:20250626T200000
DTSTAMP:20260419T142219
CREATED:20250622T161707Z
LAST-MODIFIED:20250622T161707Z
UID:10001919-1750962600-1750968000@www.tullingesk.se
SUMMARY:Sommaträning vid Lida
DESCRIPTION:Se nyhet för mer information: https://www.tullingesk.se/nyheter/sommartraning-vid-lida/
URL:https://www.tullingesk.se/aktivitet/sommatraning-vid-lida/
LOCATION:Lida Frilufsgård\, Lidavägen 1\, Tullinge\, 14633\, Sverige
GEO:59.163433851931;17.88166904719
X-APPLE-STRUCTURED-LOCATION;VALUE=URI;X-ADDRESS=Lida Frilufsgård Lidavägen 1 Tullinge 14633 Sverige;X-APPLE-RADIUS=500;X-TITLE=Lidavägen 1:geo:17.88166904719,59.163433851931
END:VEVENT
BEGIN:VEVENT
DTSTART;TZID=Europe/Stockholm:20250805T180000
DTEND;TZID=Europe/Stockholm:20250805T190000
DTSTAMP:20260419T142219
CREATED:20250714T060745Z
LAST-MODIFIED:20250714T060746Z
UID:10001597-1754416800-1754420400@www.tullingesk.se
SUMMARY:Grupp 4 tisdagar
DESCRIPTION:Grupp 4 – gruppen för alla! \nFör instruktioner och lista över alla ansvariga:  https://www.tullingesk.se/bredd-motionar/ \nSommarlov – ingen organiserad träning!
URL:https://www.tullingesk.se/aktivitet/grupp-4-tisdagar-32/
LOCATION:TSK-klubbstugan\, Flottiljvägen 56\, Tullinge\, 146 38\, Sweden
GEO:59.193432193406;17.901717405743
X-APPLE-STRUCTURED-LOCATION;VALUE=URI;X-ADDRESS=TSK-klubbstugan Flottiljvägen 56 Tullinge 146 38 Sweden;X-APPLE-RADIUS=500;X-TITLE=Flottiljvägen 56:geo:17.901717405743,59.193432193406
END:VEVENT
BEGIN:VEVENT
DTSTART;TZID=Europe/Stockholm:20250809T120000
DTEND;TZID=Europe/Stockholm:20250809T160000
DTSTAMP:20260419T142219
CREATED:20250802T153315Z
LAST-MODIFIED:20250802T153315Z
UID:10001921-1754740800-1754755200@www.tullingesk.se
SUMMARY:Stugan uthyrd/Kattis Tonring
DESCRIPTION:
URL:https://www.tullingesk.se/aktivitet/stugan-uthyrd-kattis-tonring/
LOCATION:TSK-klubbstugan\, Flottiljvägen 56\, Tullinge\, 146 38\, Sweden
CATEGORIES:Uthyrning klubbstugan
GEO:59.193432193406;17.901717405743
X-APPLE-STRUCTURED-LOCATION;VALUE=URI;X-ADDRESS=TSK-klubbstugan Flottiljvägen 56 Tullinge 146 38 Sweden;X-APPLE-RADIUS=500;X-TITLE=Flottiljvägen 56:geo:17.901717405743,59.193432193406
END:VEVENT
BEGIN:VEVENT
DTSTART;TZID=Europe/Stockholm:20250810T090000
DTEND;TZID=Europe/Stockholm:20250810T140000
DTSTAMP:20260419T142219
CREATED:20250807T090457Z
LAST-MODIFIED:20250807T090457Z
UID:10001924-1754816400-1754834400@www.tullingesk.se
SUMMARY:Lång-KM
DESCRIPTION:Lång-KM\, se separat nyhet för info och eventorslänk
URL:https://www.tullingesk.se/aktivitet/lang-km/
END:VEVENT
BEGIN:VEVENT
DTSTART;TZID=Europe/Stockholm:20250812T080000
DTEND;TZID=Europe/Stockholm:20250812T160000
DTSTAMP:20260419T142219
CREATED:20250812T063826Z
LAST-MODIFIED:20250812T112814Z
UID:10001948-1754985600-1755014400@www.tullingesk.se
SUMMARY:Stugan bokad för Skattjakten/Checkpoint
DESCRIPTION:
URL:https://www.tullingesk.se/aktivitet/stugan-bokad-for-skattjakten-checkpoint/2025-08-12/
LOCATION:TSK-klubbstugan\, Flottiljvägen 56\, Tullinge\, 146 38\, Sweden
CATEGORIES:Uthyrning klubbstugan
GEO:59.193432193406;17.901717405743
X-APPLE-STRUCTURED-LOCATION;VALUE=URI;X-ADDRESS=TSK-klubbstugan Flottiljvägen 56 Tullinge 146 38 Sweden;X-APPLE-RADIUS=500;X-TITLE=Flottiljvägen 56:geo:17.901717405743,59.193432193406
END:VEVENT
BEGIN:VEVENT
DTSTART;TZID=Europe/Stockholm:20250812T180000
DTEND;TZID=Europe/Stockholm:20250812T190000
DTSTAMP:20260419T142219
CREATED:20250811T070723Z
LAST-MODIFIED:20250811T070723Z
UID:10001946-1755021600-1755025200@www.tullingesk.se
SUMMARY:1316-gruppen: Intervaller på spåret
DESCRIPTION:Löparskor
URL:https://www.tullingesk.se/aktivitet/1316-gruppen-intervaller-pa-sparet-3/
LOCATION:TSK-klubbstugan\, Flottiljvägen 56\, Tullinge\, 146 38\, Sweden
CATEGORIES:Ungdomskommittén
GEO:59.193432193406;17.901717405743
X-APPLE-STRUCTURED-LOCATION;VALUE=URI;X-ADDRESS=TSK-klubbstugan Flottiljvägen 56 Tullinge 146 38 Sweden;X-APPLE-RADIUS=500;X-TITLE=Flottiljvägen 56:geo:17.901717405743,59.193432193406
END:VEVENT
BEGIN:VEVENT
DTSTART;TZID=Europe/Stockholm:20250812T180000
DTEND;TZID=Europe/Stockholm:20250812T190000
DTSTAMP:20260419T142219
CREATED:20250811T173848Z
LAST-MODIFIED:20250811T173849Z
UID:10001598-1755021600-1755025200@www.tullingesk.se
SUMMARY:Grupp 4 tisdagar
DESCRIPTION:Grupp 4 – gruppen för alla! \n  \nSommarlov – ingen organiserad träning! \nFör instruktioner och lista över alla ansvariga:  https://www.tullingesk.se/bredd-motionar/
URL:https://www.tullingesk.se/aktivitet/grupp-4-tisdagar-33/
LOCATION:TSK-klubbstugan\, Flottiljvägen 56\, Tullinge\, 146 38\, Sweden
GEO:59.193432193406;17.901717405743
X-APPLE-STRUCTURED-LOCATION;VALUE=URI;X-ADDRESS=TSK-klubbstugan Flottiljvägen 56 Tullinge 146 38 Sweden;X-APPLE-RADIUS=500;X-TITLE=Flottiljvägen 56:geo:17.901717405743,59.193432193406
END:VEVENT
BEGIN:VEVENT
DTSTART;TZID=Europe/Stockholm:20250813T080000
DTEND;TZID=Europe/Stockholm:20250813T160000
DTSTAMP:20260419T142219
CREATED:20250812T063826Z
LAST-MODIFIED:20250812T112814Z
UID:10001949-1755072000-1755100800@www.tullingesk.se
SUMMARY:Stugan bokad för Skattjakten/Checkpoint
DESCRIPTION:
URL:https://www.tullingesk.se/aktivitet/stugan-bokad-for-skattjakten-checkpoint/2025-08-13/
LOCATION:TSK-klubbstugan\, Flottiljvägen 56\, Tullinge\, 146 38\, Sweden
CATEGORIES:Uthyrning klubbstugan
GEO:59.193432193406;17.901717405743
X-APPLE-STRUCTURED-LOCATION;VALUE=URI;X-ADDRESS=TSK-klubbstugan Flottiljvägen 56 Tullinge 146 38 Sweden;X-APPLE-RADIUS=500;X-TITLE=Flottiljvägen 56:geo:17.901717405743,59.193432193406
END:VEVENT
BEGIN:VEVENT
DTSTART;TZID=Europe/Stockholm:20250814T080000
DTEND;TZID=Europe/Stockholm:20250814T160000
DTSTAMP:20260419T142219
CREATED:20250812T063826Z
LAST-MODIFIED:20250812T112814Z
UID:10001950-1755158400-1755187200@www.tullingesk.se
SUMMARY:Stugan bokad för Skattjakten/Checkpoint
DESCRIPTION:
URL:https://www.tullingesk.se/aktivitet/stugan-bokad-for-skattjakten-checkpoint/2025-08-14/
LOCATION:TSK-klubbstugan\, Flottiljvägen 56\, Tullinge\, 146 38\, Sweden
CATEGORIES:Uthyrning klubbstugan
GEO:59.193432193406;17.901717405743
X-APPLE-STRUCTURED-LOCATION;VALUE=URI;X-ADDRESS=TSK-klubbstugan Flottiljvägen 56 Tullinge 146 38 Sweden;X-APPLE-RADIUS=500;X-TITLE=Flottiljvägen 56:geo:17.901717405743,59.193432193406
END:VEVENT
BEGIN:VEVENT
DTSTART;TZID=Europe/Stockholm:20250814T180000
DTEND;TZID=Europe/Stockholm:20250814T193000
DTSTAMP:20260419T142219
CREATED:20250808T064359Z
LAST-MODIFIED:20250808T070553Z
UID:10001925-1755194400-1755199800@www.tullingesk.se
SUMMARY:Teknikträning Svartviksskogen (endast orange + svart)
DESCRIPTION:Teknikträning öppen för alla medlemmar \nAnmälan senast onsdag kl 12 via Eventor: https://eventor.orientering.se/Activities/Show/24173 \nSamling:\nParkeringen vid OK Södertörns klubbstuga på Farstanäset utmed\nOrienterarvägen\, Farstanäset https://maps.app.goo.gl/vkqmncLPoX9u81788 \nBanor/tema:\nBrunbild för både orange och svart\nFinns endast orange och svart bana – ej vit och ej gul \nBanlängder:\nOrange 3\,3 km\nSvart 3\,5-7\,7 km (avkortningsbar) \nAnsvariga ledare:\n13-16 Ledare: Rickard \nBanläggare:\nSydsam \nUtskrift: Rickard \nInplockning: Sydsam \nMedtag gärna plastficka A4
URL:https://www.tullingesk.se/aktivitet/tekniktraning-svartviksskogen-endast-orange-svart/
END:VEVENT
BEGIN:VEVENT
DTSTART;VALUE=DATE:20250815
DTEND;VALUE=DATE:20250818
DTSTAMP:20260419T142219
CREATED:20250802T154443Z
LAST-MODIFIED:20250802T154443Z
UID:10001922-1755216000-1755475199@www.tullingesk.se
SUMMARY:Ingen uthyrning av stugan
DESCRIPTION:
URL:https://www.tullingesk.se/aktivitet/ingen-uthyrning-av-stugan/
LOCATION:TSK-klubbstugan\, Flottiljvägen 56\, Tullinge\, 146 38\, Sweden
CATEGORIES:Uthyrning klubbstugan
GEO:59.193432193406;17.901717405743
X-APPLE-STRUCTURED-LOCATION;VALUE=URI;X-ADDRESS=TSK-klubbstugan Flottiljvägen 56 Tullinge 146 38 Sweden;X-APPLE-RADIUS=500;X-TITLE=Flottiljvägen 56:geo:17.901717405743,59.193432193406
END:VEVENT
BEGIN:VEVENT
DTSTART;TZID=Europe/Stockholm:20250815T080000
DTEND;TZID=Europe/Stockholm:20250815T160000
DTSTAMP:20260419T142219
CREATED:20250812T063826Z
LAST-MODIFIED:20250812T112814Z
UID:10001951-1755244800-1755273600@www.tullingesk.se
SUMMARY:Stugan bokad för Skattjakten/Checkpoint
DESCRIPTION:
URL:https://www.tullingesk.se/aktivitet/stugan-bokad-for-skattjakten-checkpoint/2025-08-15/
LOCATION:TSK-klubbstugan\, Flottiljvägen 56\, Tullinge\, 146 38\, Sweden
CATEGORIES:Uthyrning klubbstugan
GEO:59.193432193406;17.901717405743
X-APPLE-STRUCTURED-LOCATION;VALUE=URI;X-ADDRESS=TSK-klubbstugan Flottiljvägen 56 Tullinge 146 38 Sweden;X-APPLE-RADIUS=500;X-TITLE=Flottiljvägen 56:geo:17.901717405743,59.193432193406
END:VEVENT
BEGIN:VEVENT
DTSTART;TZID=Europe/Stockholm:20250819T180000
DTEND;TZID=Europe/Stockholm:20250819T190000
DTSTAMP:20260419T142219
CREATED:20250811T174956Z
LAST-MODIFIED:20250818T183100Z
UID:10001599-1755626400-1755630000@www.tullingesk.se
SUMMARY:Grupp 4 tisdagar
DESCRIPTION:Grupp 4 – gruppen för alla! \nFör instruktioner och lista över alla ansvariga:  https://www.tullingesk.se/bredd-motionar/ \nV34. Mia Bratt \nUppvärmning 1\,5 km\, sedan 7 korta OL slingor som bör passa som tempoträning m karta eller orienteringsträning! Välkomna!
URL:https://www.tullingesk.se/aktivitet/grupp-4-tisdagar-34/
LOCATION:TSK-klubbstugan\, Flottiljvägen 56\, Tullinge\, 146 38\, Sweden
GEO:59.193432193406;17.901717405743
X-APPLE-STRUCTURED-LOCATION;VALUE=URI;X-ADDRESS=TSK-klubbstugan Flottiljvägen 56 Tullinge 146 38 Sweden;X-APPLE-RADIUS=500;X-TITLE=Flottiljvägen 56:geo:17.901717405743,59.193432193406
END:VEVENT
BEGIN:VEVENT
DTSTART;TZID=Europe/Stockholm:20250819T180000
DTEND;TZID=Europe/Stockholm:20250819T191500
DTSTAMP:20260419T142219
CREATED:20250819T052243Z
LAST-MODIFIED:20250819T052243Z
UID:10001960-1755626400-1755630900@www.tullingesk.se
SUMMARY:1316-gruppen: Full speed - no mistakes
DESCRIPTION:Ol-skor o kompass
URL:https://www.tullingesk.se/aktivitet/1316-gruppen-full-speed-no-mistakes/
LOCATION:TSK-klubbstugan\, Flottiljvägen 56\, Tullinge\, 146 38\, Sweden
GEO:59.193432193406;17.901717405743
X-APPLE-STRUCTURED-LOCATION;VALUE=URI;X-ADDRESS=TSK-klubbstugan Flottiljvägen 56 Tullinge 146 38 Sweden;X-APPLE-RADIUS=500;X-TITLE=Flottiljvägen 56:geo:17.901717405743,59.193432193406
END:VEVENT
BEGIN:VEVENT
DTSTART;TZID=Europe/Stockholm:20250819T180000
DTEND;TZID=Europe/Stockholm:20250819T200000
DTSTAMP:20260419T142219
CREATED:20250708T181705Z
LAST-MODIFIED:20250819T075422Z
UID:10000913-1755626400-1755633600@www.tullingesk.se
SUMMARY:HD17
DESCRIPTION:6 x 4′\, vila 1:30. Vi springer på spåret. \nAnsvarig: Simon
URL:https://www.tullingesk.se/aktivitet/hd17-88/
LOCATION:TSK-klubbstugan\, Flottiljvägen 56\, Tullinge\, 146 38\, Sweden
GEO:59.193432193406;17.901717405743
X-APPLE-STRUCTURED-LOCATION;VALUE=URI;X-ADDRESS=TSK-klubbstugan Flottiljvägen 56 Tullinge 146 38 Sweden;X-APPLE-RADIUS=500;X-TITLE=Flottiljvägen 56:geo:17.901717405743,59.193432193406
END:VEVENT
BEGIN:VEVENT
DTSTART;TZID=Europe/Stockholm:20250819T180000
DTEND;TZID=Europe/Stockholm:20250819T210000
DTSTAMP:20260419T142219
CREATED:20250810T123317Z
LAST-MODIFIED:20250810T123317Z
UID:10001928-1755626400-1755637200@www.tullingesk.se
SUMMARY:Soppa och städa
DESCRIPTION:Soppa: K+P Bergh/Å Hansson/H Trofast/U Hanning \nStäd Dam: Carin Mattila och Johanna Dyberg \nStäd Herr: Ingemar Larsson och Anders Karlsson
URL:https://www.tullingesk.se/aktivitet/soppa-och-stada-76/
LOCATION:TSK-klubbstugan\, Flottiljvägen 56\, Tullinge\, 146 38\, Sweden
CATEGORIES:Städvecka / tisdagssoppa
GEO:59.193432193406;17.901717405743
X-APPLE-STRUCTURED-LOCATION;VALUE=URI;X-ADDRESS=TSK-klubbstugan Flottiljvägen 56 Tullinge 146 38 Sweden;X-APPLE-RADIUS=500;X-TITLE=Flottiljvägen 56:geo:17.901717405743,59.193432193406
END:VEVENT
BEGIN:VEVENT
DTSTART;TZID=Europe/Stockholm:20250819T193000
DTEND;TZID=Europe/Stockholm:20250819T210000
DTSTAMP:20260419T142219
CREATED:20250812T112745Z
LAST-MODIFIED:20250812T112745Z
UID:10001952-1755631800-1755637200@www.tullingesk.se
SUMMARY:Mötesrummet vid entrén bokat / Ungkom
DESCRIPTION:
URL:https://www.tullingesk.se/aktivitet/motesrummet-vid-entren-bokat-ungkom/
LOCATION:TSK-klubbstugan\, Flottiljvägen 56\, Tullinge\, 146 38\, Sweden
CATEGORIES:Uthyrning klubbstugan
GEO:59.193432193406;17.901717405743
X-APPLE-STRUCTURED-LOCATION;VALUE=URI;X-ADDRESS=TSK-klubbstugan Flottiljvägen 56 Tullinge 146 38 Sweden;X-APPLE-RADIUS=500;X-TITLE=Flottiljvägen 56:geo:17.901717405743,59.193432193406
END:VEVENT
BEGIN:VEVENT
DTSTART;TZID=Europe/Stockholm:20250819T193000
DTEND;TZID=Europe/Stockholm:20250819T210000
DTSTAMP:20260419T142219
CREATED:20250814T080012Z
LAST-MODIFIED:20250814T092506Z
UID:10001954-1755631800-1755637200@www.tullingesk.se
SUMMARY:EK-möte
DESCRIPTION:Månatliga mötet.
URL:https://www.tullingesk.se/aktivitet/ek-mote-i-lilla-rummet-vid-entren-8/
LOCATION:TSK-klubbstugan\, Flottiljvägen 56\, Tullinge\, 146 38\, Sweden
CATEGORIES:Elitkommittén
GEO:59.193432193406;17.901717405743
X-APPLE-STRUCTURED-LOCATION;VALUE=URI;X-ADDRESS=TSK-klubbstugan Flottiljvägen 56 Tullinge 146 38 Sweden;X-APPLE-RADIUS=500;X-TITLE=Flottiljvägen 56:geo:17.901717405743,59.193432193406
END:VEVENT
BEGIN:VEVENT
DTSTART;TZID=Europe/Stockholm:20250819T193000
DTEND;TZID=Europe/Stockholm:20250819T213000
DTSTAMP:20260419T142219
CREATED:20250610T191057Z
LAST-MODIFIED:20250610T191057Z
UID:10001912-1755631800-1755639000@www.tullingesk.se
SUMMARY:Styrelserummet bokat /Styrelsen
DESCRIPTION:
URL:https://www.tullingesk.se/aktivitet/styrelserummet-bokat-styrelsen-3/
LOCATION:TSK-klubbstugan\, Flottiljvägen 56\, Tullinge\, 146 38\, Sweden
GEO:59.193432193406;17.901717405743
X-APPLE-STRUCTURED-LOCATION;VALUE=URI;X-ADDRESS=TSK-klubbstugan Flottiljvägen 56 Tullinge 146 38 Sweden;X-APPLE-RADIUS=500;X-TITLE=Flottiljvägen 56:geo:17.901717405743,59.193432193406
END:VEVENT
BEGIN:VEVENT
DTSTART;TZID=Europe/Stockholm:20250820T173000
DTEND;TZID=Europe/Stockholm:20250820T200000
DTSTAMP:20260419T142219
CREATED:20250811T183017Z
LAST-MODIFIED:20250820T071127Z
UID:10001947-1755711000-1755720000@www.tullingesk.se
SUMMARY:Medel KM - Ektorp
DESCRIPTION:Medel -KM för Tullinge och Snättringe med after-run efter vårens tävlingar. Grillning med samkväm efter loppet. \n 
URL:https://www.tullingesk.se/aktivitet/medel-km-ektorp/
CATEGORIES:Orienteringstävling
END:VEVENT
BEGIN:VEVENT
DTSTART;TZID=Europe/Stockholm:20250821T180000
DTEND;TZID=Europe/Stockholm:20250821T193000
DTSTAMP:20260419T142219
CREATED:20250817T143905Z
LAST-MODIFIED:20250817T144827Z
UID:10001957-1755799200-1755804600@www.tullingesk.se
SUMMARY:Teknikträning Lida
DESCRIPTION:Teknikträning öppen för alla medlemmar. Vi kör denna vecka de banor som vi Tullinge SK även erbjuder inom Sydsamarbetet. \nAnmälan senast onsdag kl 12 via Eventor:Länk till anmälan \nSamling:\nParkeringen vid Lida \nBanor/tema:\nVanliga banor\nFinns endast orange och svart bana – ej vit och ej gul \nBanlängder:\nOrange 3\,4 km\nSvart 3\,7\, 5\,1 och 7\,7 km \nAnsvariga ledare:\n13-16 Ledare: Rickard \nBanläggare:\nLugo \nUtskrift: Rickard \nInplockning: Erik B \nMedtag gärna plastficka A4 (utom Svart Lång 10000 som har A3) \nLivelox finns: https://www.livelox.com/Events/Show/165172/Sydsam-vecka-34-2025
URL:https://www.tullingesk.se/aktivitet/tekniktraning-lida-3/
END:VEVENT
BEGIN:VEVENT
DTSTART;TZID=Europe/Stockholm:20250822T180000
DTEND;TZID=Europe/Stockholm:20250824T130000
DTSTAMP:20260419T142219
CREATED:20250818T134018Z
LAST-MODIFIED:20250818T134018Z
UID:10001959-1755885600-1756040400@www.tullingesk.se
SUMMARY:13-20 läger Gnesta
DESCRIPTION:
URL:https://www.tullingesk.se/aktivitet/13-20-lager-gnesta/
CATEGORIES:Ungdomskommittén
END:VEVENT
BEGIN:VEVENT
DTSTART;TZID=Europe/Stockholm:20250823T130000
DTEND;TZID=Europe/Stockholm:20250824T100000
DTSTAMP:20260419T142219
CREATED:20250603T171535Z
LAST-MODIFIED:20250603T171535Z
UID:10001907-1755954000-1756029600@www.tullingesk.se
SUMMARY:Stugan uthyrd/Monika Marmvik Eriksen
DESCRIPTION:
URL:https://www.tullingesk.se/aktivitet/stugan-uthyrd-monika-marmvik-eriksen/
LOCATION:TSK-klubbstugan\, Flottiljvägen 56\, Tullinge\, 146 38\, Sweden
CATEGORIES:Uthyrning klubbstugan
GEO:59.193432193406;17.901717405743
X-APPLE-STRUCTURED-LOCATION;VALUE=URI;X-ADDRESS=TSK-klubbstugan Flottiljvägen 56 Tullinge 146 38 Sweden;X-APPLE-RADIUS=500;X-TITLE=Flottiljvägen 56:geo:17.901717405743,59.193432193406
END:VEVENT
BEGIN:VEVENT
DTSTART;TZID=Europe/Stockholm:20250826T180000
DTEND;TZID=Europe/Stockholm:20250826T190000
DTSTAMP:20260419T142219
CREATED:20250808T071037Z
LAST-MODIFIED:20250808T071037Z
UID:10001926-1756231200-1756234800@www.tullingesk.se
SUMMARY:13-16 - vi kör Terräng-KM
DESCRIPTION:
URL:https://www.tullingesk.se/aktivitet/13-16-vi-kor-terrang-km/
LOCATION:TSK-klubbstugan\, Flottiljvägen 56\, Tullinge\, 146 38\, Sweden
GEO:59.193432193406;17.901717405743
X-APPLE-STRUCTURED-LOCATION;VALUE=URI;X-ADDRESS=TSK-klubbstugan Flottiljvägen 56 Tullinge 146 38 Sweden;X-APPLE-RADIUS=500;X-TITLE=Flottiljvägen 56:geo:17.901717405743,59.193432193406
END:VEVENT
BEGIN:VEVENT
DTSTART;TZID=Europe/Stockholm:20250826T180000
DTEND;TZID=Europe/Stockholm:20250826T190000
DTSTAMP:20260419T142219
CREATED:20250811T175130Z
LAST-MODIFIED:20250811T175131Z
UID:10001600-1756231200-1756234800@www.tullingesk.se
SUMMARY:Grupp 4 tisdagar
DESCRIPTION:Grupp 4 – gruppen för alla! \nFör instruktioner och lista över alla ansvariga:  https://www.tullingesk.se/bredd-motionar/ \nV35 Vi kör terräng-KM
URL:https://www.tullingesk.se/aktivitet/grupp-4-tisdagar-35/
LOCATION:TSK-klubbstugan\, Flottiljvägen 56\, Tullinge\, 146 38\, Sweden
GEO:59.193432193406;17.901717405743
X-APPLE-STRUCTURED-LOCATION;VALUE=URI;X-ADDRESS=TSK-klubbstugan Flottiljvägen 56 Tullinge 146 38 Sweden;X-APPLE-RADIUS=500;X-TITLE=Flottiljvägen 56:geo:17.901717405743,59.193432193406
END:VEVENT
BEGIN:VEVENT
DTSTART;TZID=Europe/Stockholm:20250826T180000
DTEND;TZID=Europe/Stockholm:20250826T190000
DTSTAMP:20260419T142219
CREATED:20250819T182424Z
LAST-MODIFIED:20251020T095021Z
UID:10001969-1756231200-1756234800@www.tullingesk.se
SUMMARY:Träsktrollen
DESCRIPTION:Barn födda 2017-2018 \n 
URL:https://www.tullingesk.se/aktivitet/trasktrollen-6/2025-08-26/
LOCATION:TSK-klubbstugan\, Flottiljvägen 56\, Tullinge\, 146 38\, Sweden
CATEGORIES:Ungdomskommittén
GEO:59.193432193406;17.901717405743
X-APPLE-STRUCTURED-LOCATION;VALUE=URI;X-ADDRESS=TSK-klubbstugan Flottiljvägen 56 Tullinge 146 38 Sweden;X-APPLE-RADIUS=500;X-TITLE=Flottiljvägen 56:geo:17.901717405743,59.193432193406
END:VEVENT
END:VCALENDAR