BEGIN:VCALENDAR
VERSION:2.0
PRODID:-//Tullinge SK - ECPv6.15.20//NONSGML v1.0//EN
CALSCALE:GREGORIAN
METHOD:PUBLISH
X-WR-CALNAME:Tullinge SK
X-ORIGINAL-URL:https://www.tullingesk.se
X-WR-CALDESC:Händelser för Tullinge SK
REFRESH-INTERVAL;VALUE=DURATION:PT1H
X-Robots-Tag:noindex
X-PUBLISHED-TTL:PT1H
BEGIN:VTIMEZONE
TZID:Europe/Stockholm
BEGIN:DAYLIGHT
TZOFFSETFROM:+0100
TZOFFSETTO:+0200
TZNAME:CEST
DTSTART:20240331T010000
END:DAYLIGHT
BEGIN:STANDARD
TZOFFSETFROM:+0200
TZOFFSETTO:+0100
TZNAME:CET
DTSTART:20241027T010000
END:STANDARD
BEGIN:DAYLIGHT
TZOFFSETFROM:+0100
TZOFFSETTO:+0200
TZNAME:CEST
DTSTART:20250330T010000
END:DAYLIGHT
BEGIN:STANDARD
TZOFFSETFROM:+0200
TZOFFSETTO:+0100
TZNAME:CET
DTSTART:20251026T010000
END:STANDARD
BEGIN:DAYLIGHT
TZOFFSETFROM:+0100
TZOFFSETTO:+0200
TZNAME:CEST
DTSTART:20260329T010000
END:DAYLIGHT
BEGIN:STANDARD
TZOFFSETFROM:+0200
TZOFFSETTO:+0100
TZNAME:CET
DTSTART:20261025T010000
END:STANDARD
END:VTIMEZONE
BEGIN:VEVENT
DTSTART;TZID=Europe/Stockholm:20250209T100000
DTEND;TZID=Europe/Stockholm:20250209T120000
DTSTAMP:20260419T220925
CREATED:20250126T084727Z
LAST-MODIFIED:20250206T164025Z
UID:10001664-1739095200-1739102400@www.tullingesk.se
SUMMARY:Långpass Brantan (klicka in för banlängder mm info)
DESCRIPTION:Ansvarig: Rikard och Kerstin \nSNO och Tumba gästar oss. \nVåffla efter träningen till alla löpare! \nBanlängder 7\,8 km\, 12\,8 km(kan kortas)\, 15\,8 km\, 17\,8 km. \nVätska 1 st på kortaste\, 2 ggr på de övriga tre. \nSkogsskor rekommenderas\, även om stig o grusvägsväg också förekommer. \nTrad. banläggning (ej kontrollplock).
URL:https://www.tullingesk.se/aktivitet/langpass-brantan/
LOCATION:TSK-klubbstugan\, Flottiljvägen 56\, Tullinge\, 146 38\, Sweden
GEO:59.193432193406;17.901717405743
X-APPLE-STRUCTURED-LOCATION;VALUE=URI;X-ADDRESS=TSK-klubbstugan Flottiljvägen 56 Tullinge 146 38 Sweden;X-APPLE-RADIUS=500;X-TITLE=Flottiljvägen 56:geo:17.901717405743,59.193432193406
END:VEVENT
BEGIN:VEVENT
DTSTART;TZID=Europe/Stockholm:20250209T090000
DTEND;TZID=Europe/Stockholm:20250209T140000
DTSTAMP:20260419T220925
CREATED:20240930T174859Z
LAST-MODIFIED:20240930T174859Z
UID:10001410-1739091600-1739109600@www.tullingesk.se
SUMMARY:Tipspromenad från TSK-stugan\, Brantbrink IP
DESCRIPTION:Tipspromenad med barn och vuxenfrågor.\nMotionsbingo\nStart kl10-12\nFikaservering kl.10-13. Lotterier\nVälkomna!\nSupporterklubben
URL:https://www.tullingesk.se/aktivitet/tipspromenad-fran-tsk-stugan-brantbrink-ip-4/2025-02-09/
LOCATION:TSK-klubbstugan\, Flottiljvägen 56\, Tullinge\, 146 38\, Sweden
CATEGORIES:Supporterklubben
GEO:59.193432193406;17.901717405743
X-APPLE-STRUCTURED-LOCATION;VALUE=URI;X-ADDRESS=TSK-klubbstugan Flottiljvägen 56 Tullinge 146 38 Sweden;X-APPLE-RADIUS=500;X-TITLE=Flottiljvägen 56:geo:17.901717405743,59.193432193406
END:VEVENT
BEGIN:VEVENT
DTSTART;TZID=Europe/Stockholm:20250208T080000
DTEND;TZID=Europe/Stockholm:20250208T120000
DTSTAMP:20260419T220925
CREATED:20250126T084615Z
LAST-MODIFIED:20250207T181244Z
UID:10001663-1739001600-1739016000@www.tullingesk.se
SUMMARY:Lördagsbacke
DESCRIPTION:Testbana från klubbstugan. \n  \nAnsvarig: Matthew
URL:https://www.tullingesk.se/aktivitet/lordagsbacke-5/
LOCATION:TSK-klubbstugan\, Flottiljvägen 56\, Tullinge\, 146 38\, Sweden
GEO:59.193432193406;17.901717405743
X-APPLE-STRUCTURED-LOCATION;VALUE=URI;X-ADDRESS=TSK-klubbstugan Flottiljvägen 56 Tullinge 146 38 Sweden;X-APPLE-RADIUS=500;X-TITLE=Flottiljvägen 56:geo:17.901717405743,59.193432193406
END:VEVENT
BEGIN:VEVENT
DTSTART;TZID=Europe/Stockholm:20250207T170000
DTEND;TZID=Europe/Stockholm:20250207T181500
DTSTAMP:20260419T220925
CREATED:20250207T070701Z
LAST-MODIFIED:20250207T070701Z
UID:10001690-1738947600-1738952100@www.tullingesk.se
SUMMARY:Skidträning 9-12 & 13-16
DESCRIPTION:
URL:https://www.tullingesk.se/aktivitet/skidtraning-9-12-13-16-2/
LOCATION:Lida Frilufsgård\, Lidavägen 1\, Tullinge\, 14633\, Sverige
GEO:59.163433851931;17.88166904719
X-APPLE-STRUCTURED-LOCATION;VALUE=URI;X-ADDRESS=Lida Frilufsgård Lidavägen 1 Tullinge 14633 Sverige;X-APPLE-RADIUS=500;X-TITLE=Lidavägen 1:geo:17.88166904719,59.163433851931
END:VEVENT
BEGIN:VEVENT
DTSTART;TZID=Europe/Stockholm:20250205T183000
DTEND;TZID=Europe/Stockholm:20250205T203000
DTSTAMP:20260419T220925
CREATED:20250126T085404Z
LAST-MODIFIED:20250126T085404Z
UID:10001666-1738780200-1738787400@www.tullingesk.se
SUMMARY:Nattugglan #5
DESCRIPTION:
URL:https://www.tullingesk.se/aktivitet/nattugglan-5-2/
LOCATION:TSK-klubbstugan\, Flottiljvägen 56\, Tullinge\, 146 38\, Sweden
GEO:59.193432193406;17.901717405743
X-APPLE-STRUCTURED-LOCATION;VALUE=URI;X-ADDRESS=TSK-klubbstugan Flottiljvägen 56 Tullinge 146 38 Sweden;X-APPLE-RADIUS=500;X-TITLE=Flottiljvägen 56:geo:17.901717405743,59.193432193406
END:VEVENT
BEGIN:VEVENT
DTSTART;TZID=Europe/Stockholm:20250204T193000
DTEND;TZID=Europe/Stockholm:20250204T220000
DTSTAMP:20260419T220925
CREATED:20250128T161634Z
LAST-MODIFIED:20250128T162109Z
UID:10001687-1738697400-1738706400@www.tullingesk.se
SUMMARY:Årsmöte supporterklubben
DESCRIPTION:Supporterklubbens årsmöte – lilla mötesrummet\nMötesrummet vid entrén bokat
URL:https://www.tullingesk.se/aktivitet/arsmote-supporterklubben-2/
LOCATION:TSK-klubbstugan\, Flottiljvägen 56\, Tullinge\, 146 38\, Sweden
CATEGORIES:Supporterklubben
GEO:59.193432193406;17.901717405743
X-APPLE-STRUCTURED-LOCATION;VALUE=URI;X-ADDRESS=TSK-klubbstugan Flottiljvägen 56 Tullinge 146 38 Sweden;X-APPLE-RADIUS=500;X-TITLE=Flottiljvägen 56:geo:17.901717405743,59.193432193406
END:VEVENT
BEGIN:VEVENT
DTSTART;TZID=Europe/Stockholm:20250204T193000
DTEND;TZID=Europe/Stockholm:20250204T210000
DTSTAMP:20260419T220925
CREATED:20250125T113256Z
LAST-MODIFIED:20250125T113256Z
UID:10001655-1738697400-1738702800@www.tullingesk.se
SUMMARY:Styrelserummet bokat/Styrelsen
DESCRIPTION:
URL:https://www.tullingesk.se/aktivitet/styrelserummet-bokat-styrelsen/
LOCATION:TSK-klubbstugan\, Flottiljvägen 56\, Tullinge\, 146 38\, Sweden
CATEGORIES:Uthyrning klubbstugan
GEO:59.193432193406;17.901717405743
X-APPLE-STRUCTURED-LOCATION;VALUE=URI;X-ADDRESS=TSK-klubbstugan Flottiljvägen 56 Tullinge 146 38 Sweden;X-APPLE-RADIUS=500;X-TITLE=Flottiljvägen 56:geo:17.901717405743,59.193432193406
END:VEVENT
BEGIN:VEVENT
DTSTART;TZID=Europe/Stockholm:20250204T180000
DTEND;TZID=Europe/Stockholm:20250204T210000
DTSTAMP:20260419T220925
CREATED:20250101T141111Z
LAST-MODIFIED:20250128T181827Z
UID:10001621-1738692000-1738702800@www.tullingesk.se
SUMMARY:Soppa och städa
DESCRIPTION:Soppa: C Barker/J+K Illergård/H Larbo/F Kalderen \nStäd Dam: Madara Brice och Kerstin Imark \nStäd Herr: Thomas Sundberg och David Nygren
URL:https://www.tullingesk.se/aktivitet/soppa-och-stada-57/
LOCATION:TSK-klubbstugan\, Flottiljvägen 56\, Tullinge\, 146 38\, Sweden
CATEGORIES:Städvecka / tisdagssoppa
GEO:59.193432193406;17.901717405743
X-APPLE-STRUCTURED-LOCATION;VALUE=URI;X-ADDRESS=TSK-klubbstugan Flottiljvägen 56 Tullinge 146 38 Sweden;X-APPLE-RADIUS=500;X-TITLE=Flottiljvägen 56:geo:17.901717405743,59.193432193406
END:VEVENT
BEGIN:VEVENT
DTSTART;TZID=Europe/Stockholm:20250204T180000
DTEND;TZID=Europe/Stockholm:20250204T200000
DTSTAMP:20260419T220925
CREATED:20241227T144645Z
LAST-MODIFIED:20250203T191044Z
UID:10000981-1738692000-1738699200@www.tullingesk.se
SUMMARY:HD17
DESCRIPTION:4 x 8’\, vila 90’’. Vi kör på elljusspåret.
URL:https://www.tullingesk.se/aktivitet/hd17-68/
LOCATION:TSK-klubbstugan\, Flottiljvägen 56\, Tullinge\, 146 38\, Sweden
GEO:59.193432193406;17.901717405743
X-APPLE-STRUCTURED-LOCATION;VALUE=URI;X-ADDRESS=TSK-klubbstugan Flottiljvägen 56 Tullinge 146 38 Sweden;X-APPLE-RADIUS=500;X-TITLE=Flottiljvägen 56:geo:17.901717405743,59.193432193406
END:VEVENT
BEGIN:VEVENT
DTSTART;TZID=Europe/Stockholm:20250204T180000
DTEND;TZID=Europe/Stockholm:20250204T193000
DTSTAMP:20260419T220925
CREATED:20250203T100652Z
LAST-MODIFIED:20250203T100652Z
UID:10001689-1738692000-1738697400@www.tullingesk.se
SUMMARY:1316: Upp&Ner backe (lampa & OL-skor)
DESCRIPTION:Full fart upp och full fart ner \n/Johan\, Calle & Rickard
URL:https://www.tullingesk.se/aktivitet/1316-uppner-backe-lampa-ol-skor/
LOCATION:TSK-klubbstugan\, Flottiljvägen 56\, Tullinge\, 146 38\, Sweden
GEO:59.193432193406;17.901717405743
X-APPLE-STRUCTURED-LOCATION;VALUE=URI;X-ADDRESS=TSK-klubbstugan Flottiljvägen 56 Tullinge 146 38 Sweden;X-APPLE-RADIUS=500;X-TITLE=Flottiljvägen 56:geo:17.901717405743,59.193432193406
END:VEVENT
BEGIN:VEVENT
DTSTART;TZID=Europe/Stockholm:20250204T180000
DTEND;TZID=Europe/Stockholm:20250204T190000
DTSTAMP:20260419T220925
CREATED:20250204T044245Z
LAST-MODIFIED:20250204T044245Z
UID:10001571-1738692000-1738695600@www.tullingesk.se
SUMMARY:Grupp 4 tisdagar
DESCRIPTION:Grupp 4 – gruppen för alla! \nFör instruktioner och lista över alla ansvariga:  https://www.tullingesk.se/bredd-motionar/ \nV6 Tina & Johnny Junegaard
URL:https://www.tullingesk.se/aktivitet/grupp-4-tisdagar-6/
LOCATION:TSK-klubbstugan\, Flottiljvägen 56\, Tullinge\, 146 38\, Sweden
GEO:59.193432193406;17.901717405743
X-APPLE-STRUCTURED-LOCATION;VALUE=URI;X-ADDRESS=TSK-klubbstugan Flottiljvägen 56 Tullinge 146 38 Sweden;X-APPLE-RADIUS=500;X-TITLE=Flottiljvägen 56:geo:17.901717405743,59.193432193406
END:VEVENT
BEGIN:VEVENT
DTSTART;TZID=Europe/Stockholm:20250203T190000
DTEND;TZID=Europe/Stockholm:20250203T200000
DTSTAMP:20260419T220925
CREATED:20250120T112835Z
LAST-MODIFIED:20250120T112835Z
UID:10001323-1738609200-1738612800@www.tullingesk.se
SUMMARY:TSK Styrkegympa
DESCRIPTION:Tid: 19-20\nPlats: Parkhemsskolans gympahall\nVem: TSK-medlemmar\nFörkunskaper: INGA! Alla kan vara med på sin nivå!\nVad: Styrka för hela kroppen. Enkla övningar\, oftast med egna kroppen som vikt men ibland även med gummiband (finns på plats).\n\nIngen föranmälan\, bara kom!\nVÄLKOMMEN //Kristin
URL:https://www.tullingesk.se/aktivitet/tsk-styrkegympa-7/2025-02-03/
LOCATION:Parkhemsskolans gympahall
END:VEVENT
BEGIN:VEVENT
DTSTART;TZID=Europe/Stockholm:20250202T100000
DTEND;TZID=Europe/Stockholm:20250202T120000
DTSTAMP:20260419T220925
CREATED:20250126T092724Z
LAST-MODIFIED:20250201T095559Z
UID:10001684-1738490400-1738497600@www.tullingesk.se
SUMMARY:Långpass Södra Getarn
DESCRIPTION:Samling parkeringen\, Lida\, kl. 10.00 \nBanor\, 6\,5-16 km \nVätska! \nAnsvarig: Lugo
URL:https://www.tullingesk.se/aktivitet/langpass-sodra-getarn/
LOCATION:TSK-klubbstugan\, Flottiljvägen 56\, Tullinge\, 146 38\, Sweden
GEO:59.193432193406;17.901717405743
X-APPLE-STRUCTURED-LOCATION;VALUE=URI;X-ADDRESS=TSK-klubbstugan Flottiljvägen 56 Tullinge 146 38 Sweden;X-APPLE-RADIUS=500;X-TITLE=Flottiljvägen 56:geo:17.901717405743,59.193432193406
END:VEVENT
BEGIN:VEVENT
DTSTART;TZID=Europe/Stockholm:20250202T090000
DTEND;TZID=Europe/Stockholm:20250202T140000
DTSTAMP:20260419T220925
CREATED:20240930T174859Z
LAST-MODIFIED:20240930T174859Z
UID:10001409-1738486800-1738504800@www.tullingesk.se
SUMMARY:Tipspromenad från TSK-stugan\, Brantbrink IP
DESCRIPTION:Tipspromenad med barn och vuxenfrågor.\nMotionsbingo\nStart kl10-12\nFikaservering kl.10-13. Lotterier\nVälkomna!\nSupporterklubben
URL:https://www.tullingesk.se/aktivitet/tipspromenad-fran-tsk-stugan-brantbrink-ip-4/2025-02-02/
LOCATION:TSK-klubbstugan\, Flottiljvägen 56\, Tullinge\, 146 38\, Sweden
CATEGORIES:Supporterklubben
GEO:59.193432193406;17.901717405743
X-APPLE-STRUCTURED-LOCATION;VALUE=URI;X-ADDRESS=TSK-klubbstugan Flottiljvägen 56 Tullinge 146 38 Sweden;X-APPLE-RADIUS=500;X-TITLE=Flottiljvägen 56:geo:17.901717405743,59.193432193406
END:VEVENT
BEGIN:VEVENT
DTSTART;TZID=Europe/Stockholm:20250201T100000
DTEND;TZID=Europe/Stockholm:20250201T150000
DTSTAMP:20260419T220925
CREATED:20250125T113714Z
LAST-MODIFIED:20250125T113714Z
UID:10001658-1738404000-1738422000@www.tullingesk.se
SUMMARY:Stugan bokad av grupp 9-12/ Anders Ställberg
DESCRIPTION:
URL:https://www.tullingesk.se/aktivitet/stugan-bokad-av-grupp-9-12-anders-stallberg/
LOCATION:TSK-klubbstugan\, Flottiljvägen 56\, Tullinge\, 146 38\, Sweden
CATEGORIES:Uthyrning klubbstugan
GEO:59.193432193406;17.901717405743
X-APPLE-STRUCTURED-LOCATION;VALUE=URI;X-ADDRESS=TSK-klubbstugan Flottiljvägen 56 Tullinge 146 38 Sweden;X-APPLE-RADIUS=500;X-TITLE=Flottiljvägen 56:geo:17.901717405743,59.193432193406
END:VEVENT
BEGIN:VEVENT
DTSTART;TZID=Europe/Stockholm:20250201T100000
DTEND;TZID=Europe/Stockholm:20250201T120000
DTSTAMP:20260419T220925
CREATED:20250126T083505Z
LAST-MODIFIED:20250126T083505Z
UID:10001661-1738404000-1738411200@www.tullingesk.se
SUMMARY:Tornetrundan
DESCRIPTION:Ansvarig:
URL:https://www.tullingesk.se/aktivitet/tornetrundan/
LOCATION:TSK-klubbstugan\, Flottiljvägen 56\, Tullinge\, 146 38\, Sweden
GEO:59.193432193406;17.901717405743
X-APPLE-STRUCTURED-LOCATION;VALUE=URI;X-ADDRESS=TSK-klubbstugan Flottiljvägen 56 Tullinge 146 38 Sweden;X-APPLE-RADIUS=500;X-TITLE=Flottiljvägen 56:geo:17.901717405743,59.193432193406
END:VEVENT
BEGIN:VEVENT
DTSTART;TZID=Europe/Stockholm:20250131T170000
DTEND;TZID=Europe/Stockholm:20250131T181500
DTSTAMP:20260419T220925
CREATED:20250131T091114Z
LAST-MODIFIED:20250131T091114Z
UID:10001688-1738342800-1738347300@www.tullingesk.se
SUMMARY:Skidträning 912 & 1316
DESCRIPTION:
URL:https://www.tullingesk.se/aktivitet/skidtraning-912-1316/
LOCATION:Lida Frilufsgård\, Lidavägen 1\, Tullinge\, 14633\, Sverige
GEO:59.163433851931;17.88166904719
X-APPLE-STRUCTURED-LOCATION;VALUE=URI;X-ADDRESS=Lida Frilufsgård Lidavägen 1 Tullinge 14633 Sverige;X-APPLE-RADIUS=500;X-TITLE=Lidavägen 1:geo:17.88166904719,59.163433851931
END:VEVENT
BEGIN:VEVENT
DTSTART;TZID=Europe/Stockholm:20250129T180000
DTEND;TZID=Europe/Stockholm:20250129T210000
DTSTAMP:20260419T220925
CREATED:20241227T145626Z
LAST-MODIFIED:20241227T145626Z
UID:10001516-1738173600-1738184400@www.tullingesk.se
SUMMARY:Nattugglan #3
DESCRIPTION:
URL:https://www.tullingesk.se/aktivitet/nattugglan-3-3/
LOCATION:TSK-klubbstugan\, Flottiljvägen 56\, Tullinge\, 146 38\, Sweden
GEO:59.193432193406;17.901717405743
X-APPLE-STRUCTURED-LOCATION;VALUE=URI;X-ADDRESS=TSK-klubbstugan Flottiljvägen 56 Tullinge 146 38 Sweden;X-APPLE-RADIUS=500;X-TITLE=Flottiljvägen 56:geo:17.901717405743,59.193432193406
END:VEVENT
BEGIN:VEVENT
DTSTART;TZID=Europe/Stockholm:20250128T193000
DTEND;TZID=Europe/Stockholm:20250128T203000
DTSTAMP:20260419T220925
CREATED:20250115T065858Z
LAST-MODIFIED:20250115T065858Z
UID:10001637-1738092600-1738096200@www.tullingesk.se
SUMMARY:Träsktrollsplanering - lilla mötesrummet vid entrén
DESCRIPTION:
URL:https://www.tullingesk.se/aktivitet/trasktrollsplanering-lilla-motesrummet-vid-entren/
LOCATION:TSK-klubbstugan\, Flottiljvägen 56\, Tullinge\, 146 38\, Sweden
CATEGORIES:Ungdomskommittén
GEO:59.193432193406;17.901717405743
X-APPLE-STRUCTURED-LOCATION;VALUE=URI;X-ADDRESS=TSK-klubbstugan Flottiljvägen 56 Tullinge 146 38 Sweden;X-APPLE-RADIUS=500;X-TITLE=Flottiljvägen 56:geo:17.901717405743,59.193432193406
END:VEVENT
BEGIN:VEVENT
DTSTART;TZID=Europe/Stockholm:20250128T180000
DTEND;TZID=Europe/Stockholm:20250128T210000
DTSTAMP:20260419T220925
CREATED:20250125T112832Z
LAST-MODIFIED:20250125T112832Z
UID:10001652-1738087200-1738098000@www.tullingesk.se
SUMMARY:Styrelserummet bokar/Lovisa H (kassör)
DESCRIPTION:
URL:https://www.tullingesk.se/aktivitet/styrelserummet-bokar-lovisa-h-kassor/
LOCATION:TSK-klubbstugan\, Flottiljvägen 56\, Tullinge\, 146 38\, Sweden
CATEGORIES:Uthyrning klubbstugan
GEO:59.193432193406;17.901717405743
X-APPLE-STRUCTURED-LOCATION;VALUE=URI;X-ADDRESS=TSK-klubbstugan Flottiljvägen 56 Tullinge 146 38 Sweden;X-APPLE-RADIUS=500;X-TITLE=Flottiljvägen 56:geo:17.901717405743,59.193432193406
END:VEVENT
BEGIN:VEVENT
DTSTART;TZID=Europe/Stockholm:20250128T180000
DTEND;TZID=Europe/Stockholm:20250128T210000
DTSTAMP:20260419T220925
CREATED:20250101T140835Z
LAST-MODIFIED:20250101T140835Z
UID:10001620-1738087200-1738098000@www.tullingesk.se
SUMMARY:Soppa och städa
DESCRIPTION:Soppa: L+B Normark/H Bladh/J Ohlin/K Lundberg \nStäd Dam: Pia-Lena Putkonen och Marie Heinrup \nStäd Herr: Fredrik Forsberg och Per Arne Forsberg
URL:https://www.tullingesk.se/aktivitet/soppa-och-stada-56/
LOCATION:TSK-klubbstugan\, Flottiljvägen 56\, Tullinge\, 146 38\, Sweden
CATEGORIES:Städvecka / tisdagssoppa
GEO:59.193432193406;17.901717405743
X-APPLE-STRUCTURED-LOCATION;VALUE=URI;X-ADDRESS=TSK-klubbstugan Flottiljvägen 56 Tullinge 146 38 Sweden;X-APPLE-RADIUS=500;X-TITLE=Flottiljvägen 56:geo:17.901717405743,59.193432193406
END:VEVENT
BEGIN:VEVENT
DTSTART;TZID=Europe/Stockholm:20250128T180000
DTEND;TZID=Europe/Stockholm:20250128T200000
DTSTAMP:20260419T220925
CREATED:20241227T144642Z
LAST-MODIFIED:20250127T060306Z
UID:10000980-1738087200-1738094400@www.tullingesk.se
SUMMARY:HD17 2x 6 min + 4x 4 min\, vila 90 OBS\, reflexväst behövs!
DESCRIPTION:Intervaller på vägar\, 2x 6 min + 4x 4 min \nOBS\, reflexväst behövs!
URL:https://www.tullingesk.se/aktivitet/hd17-67/
LOCATION:TSK-klubbstugan\, Flottiljvägen 56\, Tullinge\, 146 38\, Sweden
GEO:59.193432193406;17.901717405743
X-APPLE-STRUCTURED-LOCATION;VALUE=URI;X-ADDRESS=TSK-klubbstugan Flottiljvägen 56 Tullinge 146 38 Sweden;X-APPLE-RADIUS=500;X-TITLE=Flottiljvägen 56:geo:17.901717405743,59.193432193406
END:VEVENT
BEGIN:VEVENT
DTSTART;TZID=Europe/Stockholm:20250128T180000
DTEND;TZID=Europe/Stockholm:20250128T190000
DTSTAMP:20260419T220925
CREATED:20250127T162014Z
LAST-MODIFIED:20250127T170439Z
UID:10001685-1738087200-1738090800@www.tullingesk.se
SUMMARY:1316-gruppen: korta intervaller (lampa och ol/trail-skor)
DESCRIPTION:
URL:https://www.tullingesk.se/aktivitet/1316-gruppen-korta-intervaller-lampa-och-ol-skor/
LOCATION:TSK-klubbstugan\, Flottiljvägen 56\, Tullinge\, 146 38\, Sweden
GEO:59.193432193406;17.901717405743
X-APPLE-STRUCTURED-LOCATION;VALUE=URI;X-ADDRESS=TSK-klubbstugan Flottiljvägen 56 Tullinge 146 38 Sweden;X-APPLE-RADIUS=500;X-TITLE=Flottiljvägen 56:geo:17.901717405743,59.193432193406
END:VEVENT
BEGIN:VEVENT
DTSTART;TZID=Europe/Stockholm:20250128T180000
DTEND;TZID=Europe/Stockholm:20250128T190000
DTSTAMP:20260419T220925
CREATED:20241229T145011Z
LAST-MODIFIED:20241229T145011Z
UID:10001570-1738087200-1738090800@www.tullingesk.se
SUMMARY:Grupp 4 tisdagar
DESCRIPTION:Grupp 4 – gruppen för alla! \nFör instruktioner och lista över alla ansvariga:  https://www.tullingesk.se/bredd-motionar/ \n  \nV5 Lena & Hasse Sundquist
URL:https://www.tullingesk.se/aktivitet/grupp-4-tisdagar-5/
LOCATION:TSK-klubbstugan\, Flottiljvägen 56\, Tullinge\, 146 38\, Sweden
GEO:59.193432193406;17.901717405743
X-APPLE-STRUCTURED-LOCATION;VALUE=URI;X-ADDRESS=TSK-klubbstugan Flottiljvägen 56 Tullinge 146 38 Sweden;X-APPLE-RADIUS=500;X-TITLE=Flottiljvägen 56:geo:17.901717405743,59.193432193406
END:VEVENT
BEGIN:VEVENT
DTSTART;TZID=Europe/Stockholm:20250127T190000
DTEND;TZID=Europe/Stockholm:20250127T200000
DTSTAMP:20260419T220925
CREATED:20250120T112835Z
LAST-MODIFIED:20250120T112835Z
UID:10001322-1738004400-1738008000@www.tullingesk.se
SUMMARY:TSK Styrkegympa
DESCRIPTION:Tid: 19-20\nPlats: Parkhemsskolans gympahall\nVem: TSK-medlemmar\nFörkunskaper: INGA! Alla kan vara med på sin nivå!\nVad: Styrka för hela kroppen. Enkla övningar\, oftast med egna kroppen som vikt men ibland även med gummiband (finns på plats).\n\nIngen föranmälan\, bara kom!\nVÄLKOMMEN //Kristin
URL:https://www.tullingesk.se/aktivitet/tsk-styrkegympa-7/2025-01-27/
LOCATION:Parkhemsskolans gympahall
END:VEVENT
BEGIN:VEVENT
DTSTART;TZID=Europe/Stockholm:20250126T100000
DTEND;TZID=Europe/Stockholm:20250126T160000
DTSTAMP:20260419T220925
CREATED:20241211T070559Z
LAST-MODIFIED:20250123T083636Z
UID:10001499-1737885600-1737907200@www.tullingesk.se
SUMMARY:Långpass (Harbro) + Föreläsning med Patrik Tjärdal
DESCRIPTION:Välkomna till långpasta från Harbrostugan söndag 26 januari. \nLångpass\, dusch\, bastu\, pasta. \nOBS : ingen utsatt vätska. Ta med egen! \nObs anmälan på denna länk : Långpasta 26 jan \nEfter träningen (kl.13:30 i Harborstugan)\, för intresserade\, föreläsning med Spårvägens och RIG Friidrottgymnasiet (Rudbeck) tränare Patrik Tjärdal. Patrik har gedigen tränarutbildning och egna erfarenheter från triathlon och löpning. Han tränar flera av Sveriges bästa medel- och långdistanslöpare. \n 
URL:https://www.tullingesk.se/aktivitet/elit-o-juniorsamling/
LOCATION:TSK-klubbstugan\, Flottiljvägen 56\, Tullinge\, 146 38\, Sweden
GEO:59.193432193406;17.901717405743
X-APPLE-STRUCTURED-LOCATION;VALUE=URI;X-ADDRESS=TSK-klubbstugan Flottiljvägen 56 Tullinge 146 38 Sweden;X-APPLE-RADIUS=500;X-TITLE=Flottiljvägen 56:geo:17.901717405743,59.193432193406
END:VEVENT
BEGIN:VEVENT
DTSTART;TZID=Europe/Stockholm:20250126T090000
DTEND;TZID=Europe/Stockholm:20250126T140000
DTSTAMP:20260419T220925
CREATED:20240930T174859Z
LAST-MODIFIED:20240930T174859Z
UID:10001408-1737882000-1737900000@www.tullingesk.se
SUMMARY:Tipspromenad från TSK-stugan\, Brantbrink IP
DESCRIPTION:Tipspromenad med barn och vuxenfrågor.\nMotionsbingo\nStart kl10-12\nFikaservering kl.10-13. Lotterier\nVälkomna!\nSupporterklubben
URL:https://www.tullingesk.se/aktivitet/tipspromenad-fran-tsk-stugan-brantbrink-ip-4/2025-01-26/
LOCATION:TSK-klubbstugan\, Flottiljvägen 56\, Tullinge\, 146 38\, Sweden
CATEGORIES:Supporterklubben
GEO:59.193432193406;17.901717405743
X-APPLE-STRUCTURED-LOCATION;VALUE=URI;X-ADDRESS=TSK-klubbstugan Flottiljvägen 56 Tullinge 146 38 Sweden;X-APPLE-RADIUS=500;X-TITLE=Flottiljvägen 56:geo:17.901717405743,59.193432193406
END:VEVENT
BEGIN:VEVENT
DTSTART;TZID=Europe/Stockholm:20250125T100000
DTEND;TZID=Europe/Stockholm:20250125T170000
DTSTAMP:20260419T220925
CREATED:20241227T145514Z
LAST-MODIFIED:20250121T092234Z
UID:10001515-1737799200-1737824400@www.tullingesk.se
SUMMARY:Löparsamling träningar + lunch + snack
DESCRIPTION:10:00  OL-intervaller vid stora grusgropen. \nCa 12:15 lunch \nI samband med lunchen så blir det info om vårens stafetter\, teknikssnack\, träningsbarometern samt avstämning om hur läget är för TSK:s stafettlöpare. \nca 15:00 Medeldistans – prolog + final. Pannlampa behövs. \nSimon ansvarar för OL-träningarna. \nAnmälan till träningar respektive lunch https://eventor.orientering.se/Activities/Show/22586 \nVälkomna!! \n  \n 
URL:https://www.tullingesk.se/aktivitet/loparsamling-inkl-traningar-lunch/
LOCATION:TSK-klubbstugan\, Flottiljvägen 56\, Tullinge\, 146 38\, Sweden
GEO:59.193432193406;17.901717405743
X-APPLE-STRUCTURED-LOCATION;VALUE=URI;X-ADDRESS=TSK-klubbstugan Flottiljvägen 56 Tullinge 146 38 Sweden;X-APPLE-RADIUS=500;X-TITLE=Flottiljvägen 56:geo:17.901717405743,59.193432193406
END:VEVENT
BEGIN:VEVENT
DTSTART;TZID=Europe/Stockholm:20250125T100000
DTEND;TZID=Europe/Stockholm:20250125T160000
DTSTAMP:20260419T220925
CREATED:20250112T164726Z
LAST-MODIFIED:20250112T164726Z
UID:10001636-1737799200-1737820800@www.tullingesk.se
SUMMARY:13-16 Träningsdag Bosön
DESCRIPTION:Mer info och anmälan: https://eventor.orientering.se/Activities/Show/22547
URL:https://www.tullingesk.se/aktivitet/13-16-traningsdag-boson/
LOCATION:Bosön
END:VEVENT
BEGIN:VEVENT
DTSTART;TZID=Europe/Stockholm:20250124T170000
DTEND;TZID=Europe/Stockholm:20250124T181500
DTSTAMP:20260419T220925
CREATED:20250123T094248Z
LAST-MODIFIED:20250123T094248Z
UID:10001651-1737738000-1737742500@www.tullingesk.se
SUMMARY:Skidträning 9-12 & 13-16
DESCRIPTION:Pelle mfl
URL:https://www.tullingesk.se/aktivitet/skidtraning-9-12-13-16/
LOCATION:Lida Frilufsgård\, Lidavägen 1\, Tullinge\, 14633\, Sverige
GEO:59.163433851931;17.88166904719
X-APPLE-STRUCTURED-LOCATION;VALUE=URI;X-ADDRESS=Lida Frilufsgård Lidavägen 1 Tullinge 14633 Sverige;X-APPLE-RADIUS=500;X-TITLE=Lidavägen 1:geo:17.88166904719,59.163433851931
END:VEVENT
END:VCALENDAR