BEGIN:VCALENDAR
VERSION:2.0
PRODID:-//Tullinge SK - ECPv6.15.20//NONSGML v1.0//EN
CALSCALE:GREGORIAN
METHOD:PUBLISH
X-WR-CALNAME:Tullinge SK
X-ORIGINAL-URL:https://www.tullingesk.se
X-WR-CALDESC:Händelser för Tullinge SK
REFRESH-INTERVAL;VALUE=DURATION:PT1H
X-Robots-Tag:noindex
X-PUBLISHED-TTL:PT1H
BEGIN:VTIMEZONE
TZID:Europe/Stockholm
BEGIN:DAYLIGHT
TZOFFSETFROM:+0100
TZOFFSETTO:+0200
TZNAME:CEST
DTSTART:20230326T010000
END:DAYLIGHT
BEGIN:STANDARD
TZOFFSETFROM:+0200
TZOFFSETTO:+0100
TZNAME:CET
DTSTART:20231029T010000
END:STANDARD
BEGIN:DAYLIGHT
TZOFFSETFROM:+0100
TZOFFSETTO:+0200
TZNAME:CEST
DTSTART:20240331T010000
END:DAYLIGHT
BEGIN:STANDARD
TZOFFSETFROM:+0200
TZOFFSETTO:+0100
TZNAME:CET
DTSTART:20241027T010000
END:STANDARD
BEGIN:DAYLIGHT
TZOFFSETFROM:+0100
TZOFFSETTO:+0200
TZNAME:CEST
DTSTART:20250330T010000
END:DAYLIGHT
BEGIN:STANDARD
TZOFFSETFROM:+0200
TZOFFSETTO:+0100
TZNAME:CET
DTSTART:20251026T010000
END:STANDARD
END:VTIMEZONE
BEGIN:VEVENT
DTSTART;VALUE=DATE:20240609
DTEND;VALUE=DATE:20240610
DTSTAMP:20260419T194413
CREATED:20240202T110309Z
LAST-MODIFIED:20240202T110309Z
UID:10000761-1717891200-1717977599@www.tullingesk.se
SUMMARY:Ösaträffen\, dag 4\, lång
DESCRIPTION:
URL:https://www.tullingesk.se/aktivitet/osatraffen-dag-4-lang/
CATEGORIES:Orienteringstävling
END:VEVENT
BEGIN:VEVENT
DTSTART;VALUE=DATE:20240609
DTEND;VALUE=DATE:20240610
DTSTAMP:20260419T194413
CREATED:20240202T110254Z
LAST-MODIFIED:20240202T110254Z
UID:10000754-1717891200-1717977599@www.tullingesk.se
SUMMARY:Västerbottens 3-dagars\, etapp 3\, medel
DESCRIPTION:
URL:https://www.tullingesk.se/aktivitet/vasterbottens-3-dagars-etapp-3-medel/
CATEGORIES:Orienteringstävling
END:VEVENT
BEGIN:VEVENT
DTSTART;VALUE=DATE:20240608
DTEND;VALUE=DATE:20240609
DTSTAMP:20260419T194413
CREATED:20240202T111555Z
LAST-MODIFIED:20240202T111555Z
UID:10000830-1717804800-1717891199@www.tullingesk.se
SUMMARY:MTBO\, Svenska cupen\, #4\, sprint
DESCRIPTION:
URL:https://www.tullingesk.se/aktivitet/mtbo-svenska-cupen-4-sprint/
CATEGORIES:Orienteringstävling
END:VEVENT
BEGIN:VEVENT
DTSTART;VALUE=DATE:20240608
DTEND;VALUE=DATE:20240609
DTSTAMP:20260419T194413
CREATED:20240202T110309Z
LAST-MODIFIED:20240202T110309Z
UID:10000759-1717804800-1717891199@www.tullingesk.se
SUMMARY:Ösaträffen\, dag 3\, medel
DESCRIPTION:
URL:https://www.tullingesk.se/aktivitet/osatraffen-dag-3-medel/
CATEGORIES:Orienteringstävling
END:VEVENT
BEGIN:VEVENT
DTSTART;VALUE=DATE:20240608
DTEND;VALUE=DATE:20240609
DTSTAMP:20260419T194413
CREATED:20240202T110254Z
LAST-MODIFIED:20240202T110254Z
UID:10000753-1717804800-1717891199@www.tullingesk.se
SUMMARY:Västerbottens 3-dagars\, etapp 2\, lång
DESCRIPTION:
URL:https://www.tullingesk.se/aktivitet/vasterbottens-3-dagars-etapp-2-lang/
CATEGORIES:Orienteringstävling
END:VEVENT
BEGIN:VEVENT
DTSTART;VALUE=DATE:20240607
DTEND;VALUE=DATE:20240608
DTSTAMP:20260419T194413
CREATED:20240202T110309Z
LAST-MODIFIED:20240202T110309Z
UID:10000758-1717718400-1717804799@www.tullingesk.se
SUMMARY:Ösaträffen\, dag 2\, lång
DESCRIPTION:
URL:https://www.tullingesk.se/aktivitet/osatraffen-dag-2-lang/
CATEGORIES:Orienteringstävling
END:VEVENT
BEGIN:VEVENT
DTSTART;VALUE=DATE:20240607
DTEND;VALUE=DATE:20240608
DTSTAMP:20260419T194413
CREATED:20240202T110224Z
LAST-MODIFIED:20240202T110224Z
UID:10000752-1717718400-1717804799@www.tullingesk.se
SUMMARY:Västerbottens 3-dagars\, etapp 1\, sprint
DESCRIPTION:
URL:https://www.tullingesk.se/aktivitet/vasterbottens-3-dagars-etapp-1-sprint/
CATEGORIES:Orienteringstävling
END:VEVENT
BEGIN:VEVENT
DTSTART;TZID=Europe/Stockholm:20240606T100000
DTEND;TZID=Europe/Stockholm:20240606T120000
DTSTAMP:20260419T194413
CREATED:20240503T132741Z
LAST-MODIFIED:20240603T104006Z
UID:10001216-1717668000-1717675200@www.tullingesk.se
SUMMARY:Jukola/Venla träning tillsammans med SNO
DESCRIPTION:https://eventor.orientering.se/Events/Show/50234
URL:https://www.tullingesk.se/aktivitet/jukola-venla-traning-tillsammans-med-sno-2/
LOCATION:TSK-klubbstugan\, Flottiljvägen 56\, Tullinge\, 146 38\, Sweden
GEO:59.193432193406;17.901717405743
X-APPLE-STRUCTURED-LOCATION;VALUE=URI;X-ADDRESS=TSK-klubbstugan Flottiljvägen 56 Tullinge 146 38 Sweden;X-APPLE-RADIUS=500;X-TITLE=Flottiljvägen 56:geo:17.901717405743,59.193432193406
END:VEVENT
BEGIN:VEVENT
DTSTART;VALUE=DATE:20240606
DTEND;VALUE=DATE:20240607
DTSTAMP:20260419T194413
CREATED:20240202T110309Z
LAST-MODIFIED:20240202T110309Z
UID:10000760-1717632000-1717718399@www.tullingesk.se
SUMMARY:Ösaträffen\, dag 1\, medel
DESCRIPTION:
URL:https://www.tullingesk.se/aktivitet/osatraffen-dag-1-medel/
CATEGORIES:Orienteringstävling
END:VEVENT
BEGIN:VEVENT
DTSTART;TZID=Europe/Stockholm:20240605T180000
DTEND;TZID=Europe/Stockholm:20240605T193000
DTSTAMP:20260419T194413
CREATED:20240425T162009Z
LAST-MODIFIED:20240425T162009Z
UID:10001195-1717610400-1717615800@www.tullingesk.se
SUMMARY:MTB träning
DESCRIPTION:Samling för samtliga grupper 1745 bakom klubbstugan
URL:https://www.tullingesk.se/aktivitet/mtb-traning/2024-06-05/
LOCATION:TSK-klubbstugan\, Flottiljvägen 56\, Tullinge\, 146 38\, Sweden
GEO:59.193432193406;17.901717405743
X-APPLE-STRUCTURED-LOCATION;VALUE=URI;X-ADDRESS=TSK-klubbstugan Flottiljvägen 56 Tullinge 146 38 Sweden;X-APPLE-RADIUS=500;X-TITLE=Flottiljvägen 56:geo:17.901717405743,59.193432193406
END:VEVENT
BEGIN:VEVENT
DTSTART;VALUE=DATE:20240605
DTEND;VALUE=DATE:20240606
DTSTAMP:20260419T194413
CREATED:20240202T110652Z
LAST-MODIFIED:20240202T110652Z
UID:10000783-1717545600-1717631999@www.tullingesk.se
SUMMARY:DM\, sprint\, Stockholm
DESCRIPTION:
URL:https://www.tullingesk.se/aktivitet/dm-sprint-stockholm/
CATEGORIES:Orienteringstävling
END:VEVENT
BEGIN:VEVENT
DTSTART;TZID=Europe/Stockholm:20240604T193000
DTEND;TZID=Europe/Stockholm:20240604T203000
DTSTAMP:20260419T194413
CREATED:20240603T201045Z
LAST-MODIFIED:20240603T201045Z
UID:10001236-1717529400-1717533000@www.tullingesk.se
SUMMARY:Träningsgruppen
DESCRIPTION:Lilla mötesrummet bokat \n/Yvonne
URL:https://www.tullingesk.se/aktivitet/traningsgruppen/
LOCATION:TSK-klubbstugan\, Flottiljvägen 56\, Tullinge\, 146 38\, Sweden
GEO:59.193432193406;17.901717405743
X-APPLE-STRUCTURED-LOCATION;VALUE=URI;X-ADDRESS=TSK-klubbstugan Flottiljvägen 56 Tullinge 146 38 Sweden;X-APPLE-RADIUS=500;X-TITLE=Flottiljvägen 56:geo:17.901717405743,59.193432193406
END:VEVENT
BEGIN:VEVENT
DTSTART;TZID=Europe/Stockholm:20240604T180000
DTEND;TZID=Europe/Stockholm:20240604T210000
DTSTAMP:20260419T194413
CREATED:20240428T074125Z
LAST-MODIFIED:20240428T074125Z
UID:10001201-1717524000-1717534800@www.tullingesk.se
SUMMARY:Soppa och städa
DESCRIPTION:Soppa: B Kärrström/J Ställberg/S Sundström/C Ronge/G Längheim \nStäd Dam: Jenny Aasa och Lin Normark \nStäd Herr: Lennart Hävren och Kenneth Jönsson
URL:https://www.tullingesk.se/aktivitet/soppa-och-stada-33/
LOCATION:TSK-klubbstugan\, Flottiljvägen 56\, Tullinge\, 146 38\, Sweden
GEO:59.193432193406;17.901717405743
X-APPLE-STRUCTURED-LOCATION;VALUE=URI;X-ADDRESS=TSK-klubbstugan Flottiljvägen 56 Tullinge 146 38 Sweden;X-APPLE-RADIUS=500;X-TITLE=Flottiljvägen 56:geo:17.901717405743,59.193432193406
END:VEVENT
BEGIN:VEVENT
DTSTART;TZID=Europe/Stockholm:20240604T180000
DTEND;TZID=Europe/Stockholm:20240604T200000
DTSTAMP:20260419T194413
CREATED:20240414T185828Z
LAST-MODIFIED:20240603T074800Z
UID:10000952-1717524000-1717531200@www.tullingesk.se
SUMMARY:HD17: Intervaller 5\,5\,4\,4\,3\,3\,90\,90\, vila 90
DESCRIPTION:Intervaller på spåret\, 5\,5\,4\,4\,3\,3\,90\,90\, vila 90
URL:https://www.tullingesk.se/aktivitet/hd17-43/
LOCATION:TSK-klubbstugan\, Flottiljvägen 56\, Tullinge\, 146 38\, Sweden
GEO:59.193432193406;17.901717405743
X-APPLE-STRUCTURED-LOCATION;VALUE=URI;X-ADDRESS=TSK-klubbstugan Flottiljvägen 56 Tullinge 146 38 Sweden;X-APPLE-RADIUS=500;X-TITLE=Flottiljvägen 56:geo:17.901717405743,59.193432193406
END:VEVENT
BEGIN:VEVENT
DTSTART;TZID=Europe/Stockholm:20240604T180000
DTEND;TZID=Europe/Stockholm:20240604T193000
DTSTAMP:20260419T194413
CREATED:20240603T161855Z
LAST-MODIFIED:20240603T161855Z
UID:10001235-1717524000-1717529400@www.tullingesk.se
SUMMARY:13-16: Sprint- och badträning
DESCRIPTION:Vi springer till trädgårdstorp\, kör sprintstafett och badar vid stendal \nLöparskor + väska med badkläder/ombyte
URL:https://www.tullingesk.se/aktivitet/13-16-sprint-och-badtraning/
LOCATION:TSK-klubbstugan\, Flottiljvägen 56\, Tullinge\, 146 38\, Sweden
GEO:59.193432193406;17.901717405743
X-APPLE-STRUCTURED-LOCATION;VALUE=URI;X-ADDRESS=TSK-klubbstugan Flottiljvägen 56 Tullinge 146 38 Sweden;X-APPLE-RADIUS=500;X-TITLE=Flottiljvägen 56:geo:17.901717405743,59.193432193406
END:VEVENT
BEGIN:VEVENT
DTSTART;TZID=Europe/Stockholm:20240604T180000
DTEND;TZID=Europe/Stockholm:20240604T190000
DTSTAMP:20260419T194413
CREATED:20240602T050048Z
LAST-MODIFIED:20240602T050049Z
UID:10000409-1717524000-1717527600@www.tullingesk.se
SUMMARY:Grupp 4
DESCRIPTION:v23 Pia-Lena Putkonen & Anders Karlsson
URL:https://www.tullingesk.se/aktivitet/grupp-4-2-36/
LOCATION:TSK-klubbstugan\, Flottiljvägen 56\, Tullinge\, 146 38\, Sweden
GEO:59.193432193406;17.901717405743
X-APPLE-STRUCTURED-LOCATION;VALUE=URI;X-ADDRESS=TSK-klubbstugan Flottiljvägen 56 Tullinge 146 38 Sweden;X-APPLE-RADIUS=500;X-TITLE=Flottiljvägen 56:geo:17.901717405743,59.193432193406
END:VEVENT
BEGIN:VEVENT
DTSTART;VALUE=DATE:20240602
DTEND;VALUE=DATE:20240603
DTSTAMP:20260419T194413
CREATED:20240202T111308Z
LAST-MODIFIED:20240202T111308Z
UID:10000818-1717286400-1717372799@www.tullingesk.se
SUMMARY:Sommarlägerstafetten
DESCRIPTION:
URL:https://www.tullingesk.se/aktivitet/sommarlagerstafetten/
CATEGORIES:Orienteringstävling
END:VEVENT
BEGIN:VEVENT
DTSTART;TZID=Europe/Stockholm:20240601T100000
DTEND;TZID=Europe/Stockholm:20240601T120000
DTSTAMP:20260419T194413
CREATED:20240503T132638Z
LAST-MODIFIED:20240503T132638Z
UID:10001215-1717236000-1717243200@www.tullingesk.se
SUMMARY:Jukola/Venla träning tillsammans med SNO
DESCRIPTION:
URL:https://www.tullingesk.se/aktivitet/jukola-venla-traning-tillsammans-med-sno/
LOCATION:TSK-klubbstugan\, Flottiljvägen 56\, Tullinge\, 146 38\, Sweden
CATEGORIES:Elitkommittén
GEO:59.193432193406;17.901717405743
X-APPLE-STRUCTURED-LOCATION;VALUE=URI;X-ADDRESS=TSK-klubbstugan Flottiljvägen 56 Tullinge 146 38 Sweden;X-APPLE-RADIUS=500;X-TITLE=Flottiljvägen 56:geo:17.901717405743,59.193432193406
END:VEVENT
BEGIN:VEVENT
DTSTART;VALUE=DATE:20240601
DTEND;VALUE=DATE:20240602
DTSTAMP:20260419T194413
CREATED:20240202T111001Z
LAST-MODIFIED:20240202T111001Z
UID:10000803-1717200000-1717286399@www.tullingesk.se
SUMMARY:Slottssprinten\, Sigtuna
DESCRIPTION:
URL:https://www.tullingesk.se/aktivitet/slottssprinten-sigtuna/
CATEGORIES:Orienteringstävling
END:VEVENT
BEGIN:VEVENT
DTSTART;VALUE=DATE:20240601
DTEND;VALUE=DATE:20240602
DTSTAMP:20260419T194413
CREATED:20240202T111001Z
LAST-MODIFIED:20240202T111001Z
UID:10000804-1717200000-1717286399@www.tullingesk.se
SUMMARY:Slottssprintstafetten\, Sigtuna
DESCRIPTION:
URL:https://www.tullingesk.se/aktivitet/slottssprintstafetten-sigtuna/
CATEGORIES:Orienteringstävling
END:VEVENT
BEGIN:VEVENT
DTSTART;TZID=Europe/Stockholm:20240530T180000
DTEND;TZID=Europe/Stockholm:20240530T200000
DTSTAMP:20260419T194413
CREATED:20240503T132446Z
LAST-MODIFIED:20240526T202601Z
UID:10001214-1717092000-1717099200@www.tullingesk.se
SUMMARY:Teknikträning Brantbrink
DESCRIPTION:Teknikträning vid Brantbrink för alla medlemmar \nAnmälan senast onsdag kl 12 via Eventor: https://eventor.orientering.se/Activities/Show/21119 \nSamling: Klubbstugan \nBanor/tema: \n\nPrel banlängder:\n\nVissa banor kommer även finnas upplagda i filarkivet för egen utskrift/träning. \nAnsvariga ledare:\n9-12 Ledare: Anders + Johanna Närvaro: Tonring\n13-16 Ledare: Björn \nBanläggare: Lars Nordin\nUtsättning: Erik Berggren \nInplockning: Kaj/Alexander Hansson
URL:https://www.tullingesk.se/aktivitet/trkniktraning-soderby/
LOCATION:TSK-klubbstugan\, Flottiljvägen 56\, Tullinge\, 146 38\, Sweden
CATEGORIES:Tullinge SK
GEO:59.193432193406;17.901717405743
X-APPLE-STRUCTURED-LOCATION;VALUE=URI;X-ADDRESS=TSK-klubbstugan Flottiljvägen 56 Tullinge 146 38 Sweden;X-APPLE-RADIUS=500;X-TITLE=Flottiljvägen 56:geo:17.901717405743,59.193432193406
END:VEVENT
BEGIN:VEVENT
DTSTART;TZID=Europe/Stockholm:20240529T180000
DTEND;TZID=Europe/Stockholm:20240529T193000
DTSTAMP:20260419T194413
CREATED:20240425T162009Z
LAST-MODIFIED:20240425T162009Z
UID:10001194-1717005600-1717011000@www.tullingesk.se
SUMMARY:MTB träning
DESCRIPTION:Samling för samtliga grupper 1745 bakom klubbstugan
URL:https://www.tullingesk.se/aktivitet/mtb-traning/2024-05-29/
LOCATION:TSK-klubbstugan\, Flottiljvägen 56\, Tullinge\, 146 38\, Sweden
GEO:59.193432193406;17.901717405743
X-APPLE-STRUCTURED-LOCATION;VALUE=URI;X-ADDRESS=TSK-klubbstugan Flottiljvägen 56 Tullinge 146 38 Sweden;X-APPLE-RADIUS=500;X-TITLE=Flottiljvägen 56:geo:17.901717405743,59.193432193406
END:VEVENT
BEGIN:VEVENT
DTSTART;VALUE=DATE:20240529
DTEND;VALUE=DATE:20240530
DTSTAMP:20260419T194413
CREATED:20240202T111108Z
LAST-MODIFIED:20240202T111108Z
UID:10000815-1716940800-1717027199@www.tullingesk.se
SUMMARY:Stockholm City Cup\, #3
DESCRIPTION:
URL:https://www.tullingesk.se/aktivitet/stockholm-city-cup-3/
CATEGORIES:Orienteringstävling
END:VEVENT
BEGIN:VEVENT
DTSTART;TZID=Europe/Stockholm:20240528T180000
DTEND;TZID=Europe/Stockholm:20240528T210000
DTSTAMP:20260419T194413
CREATED:20240428T073912Z
LAST-MODIFIED:20240519T165416Z
UID:10001200-1716919200-1716930000@www.tullingesk.se
SUMMARY:Soppa och städa
DESCRIPTION:Soppa: A+E Myrberger/S Jansson/M Andersson/S Pousette/M Wallqvist Pousette \nStäd Dam: Linda Bergman och Caroline Lidströmer \nStäd Herr: Kaj Hanson och Fredrik Johansson
URL:https://www.tullingesk.se/aktivitet/soppa-och-stada-32/
LOCATION:TSK-klubbstugan\, Flottiljvägen 56\, Tullinge\, 146 38\, Sweden
GEO:59.193432193406;17.901717405743
X-APPLE-STRUCTURED-LOCATION;VALUE=URI;X-ADDRESS=TSK-klubbstugan Flottiljvägen 56 Tullinge 146 38 Sweden;X-APPLE-RADIUS=500;X-TITLE=Flottiljvägen 56:geo:17.901717405743,59.193432193406
END:VEVENT
BEGIN:VEVENT
DTSTART;TZID=Europe/Stockholm:20240528T180000
DTEND;TZID=Europe/Stockholm:20240528T200000
DTSTAMP:20260419T194413
CREATED:20240414T185827Z
LAST-MODIFIED:20240527T043023Z
UID:10000951-1716919200-1716926400@www.tullingesk.se
SUMMARY:HD17: 2x6 min + 4x 3 min + 4x 90\, vila 60
DESCRIPTION:Intervaller på spåret 2×6 min + 4x 3 min + 4x 90\, vila 60
URL:https://www.tullingesk.se/aktivitet/hd17-42/
LOCATION:TSK-klubbstugan\, Flottiljvägen 56\, Tullinge\, 146 38\, Sweden
GEO:59.193432193406;17.901717405743
X-APPLE-STRUCTURED-LOCATION;VALUE=URI;X-ADDRESS=TSK-klubbstugan Flottiljvägen 56 Tullinge 146 38 Sweden;X-APPLE-RADIUS=500;X-TITLE=Flottiljvägen 56:geo:17.901717405743,59.193432193406
END:VEVENT
BEGIN:VEVENT
DTSTART;TZID=Europe/Stockholm:20240528T180000
DTEND;TZID=Europe/Stockholm:20240528T193000
DTSTAMP:20260419T194413
CREATED:20240523T155249Z
LAST-MODIFIED:20240523T155249Z
UID:10001231-1716919200-1716924600@www.tullingesk.se
SUMMARY:1316: snabbhet & flaggan
DESCRIPTION:Löpskolning \nSnabbhet \nFlaggan \n  \nLöparskor \n(Lina\, Calle och Johan)
URL:https://www.tullingesk.se/aktivitet/1316-snabbhet-flaggan/
LOCATION:TSK-klubbstugan\, Flottiljvägen 56\, Tullinge\, 146 38\, Sweden
GEO:59.193432193406;17.901717405743
X-APPLE-STRUCTURED-LOCATION;VALUE=URI;X-ADDRESS=TSK-klubbstugan Flottiljvägen 56 Tullinge 146 38 Sweden;X-APPLE-RADIUS=500;X-TITLE=Flottiljvägen 56:geo:17.901717405743,59.193432193406
END:VEVENT
BEGIN:VEVENT
DTSTART;TZID=Europe/Stockholm:20240528T180000
DTEND;TZID=Europe/Stockholm:20240528T190000
DTSTAMP:20260419T194413
CREATED:20240512T061023Z
LAST-MODIFIED:20240512T061024Z
UID:10000408-1716919200-1716922800@www.tullingesk.se
SUMMARY:Grupp 4
DESCRIPTION:v22 Barbro Lönnkvist & Lars Lönnkvistoo
URL:https://www.tullingesk.se/aktivitet/grupp-4-2-35/
LOCATION:TSK-klubbstugan\, Flottiljvägen 56\, Tullinge\, 146 38\, Sweden
GEO:59.193432193406;17.901717405743
X-APPLE-STRUCTURED-LOCATION;VALUE=URI;X-ADDRESS=TSK-klubbstugan Flottiljvägen 56 Tullinge 146 38 Sweden;X-APPLE-RADIUS=500;X-TITLE=Flottiljvägen 56:geo:17.901717405743,59.193432193406
END:VEVENT
BEGIN:VEVENT
DTSTART;TZID=Europe/Stockholm:20240527T180000
DTEND;TZID=Europe/Stockholm:20240527T210000
DTSTAMP:20260419T194413
CREATED:20240508T200518Z
LAST-MODIFIED:20240510T071209Z
UID:10001222-1716832800-1716843600@www.tullingesk.se
SUMMARY:Sprint-KM
DESCRIPTION:Sprint-KM för TSK och TMOK. \nArrangeras av Tumba-Mälarhöjden vid vid MIK:s klubbstuga Långsätra\, Sätragårdsvägen 183\, Skärholmen \nhttps://eventor.orientering.se/Events/Show/50034 \n 
URL:https://www.tullingesk.se/aktivitet/sprint-km/
LOCATION:MIK:s klubbstuga Långsätra\, Sätragårdsvägen 183\, Skärholmen\, Sverige
END:VEVENT
BEGIN:VEVENT
DTSTART;VALUE=DATE:20240526
DTEND;VALUE=DATE:20240527
DTSTAMP:20260419T194413
CREATED:20240202T111555Z
LAST-MODIFIED:20240202T111555Z
UID:10000828-1716681600-1716767999@www.tullingesk.se
SUMMARY:Faxeträffen\, dag 2\, medel
DESCRIPTION:
URL:https://www.tullingesk.se/aktivitet/faxetraffen-dag-2-medel/
CATEGORIES:Orienteringstävling
END:VEVENT
BEGIN:VEVENT
DTSTART;TZID=Europe/Stockholm:20240525T153000
DTEND;TZID=Europe/Stockholm:20240525T170000
DTSTAMP:20260419T194413
CREATED:20240503T131802Z
LAST-MODIFIED:20240523T080522Z
UID:10001211-1716651000-1716656400@www.tullingesk.se
SUMMARY:Jukolaträning
DESCRIPTION:Jukolatränibg för Jukola/Venla löpare. Gömmarens västra spets. Samling 15:30. \nSe mail/tisdagstränings gruppen \nIngen anmälan behövs
URL:https://www.tullingesk.se/aktivitet/langpass-12/
LOCATION:TSK-klubbstugan\, Flottiljvägen 56\, Tullinge\, 146 38\, Sweden
CATEGORIES:Tullinge SK
GEO:59.193432193406;17.901717405743
X-APPLE-STRUCTURED-LOCATION;VALUE=URI;X-ADDRESS=TSK-klubbstugan Flottiljvägen 56 Tullinge 146 38 Sweden;X-APPLE-RADIUS=500;X-TITLE=Flottiljvägen 56:geo:17.901717405743,59.193432193406
END:VEVENT
END:VCALENDAR