BEGIN:VCALENDAR
VERSION:2.0
PRODID:-//Tullinge SK - ECPv6.15.20//NONSGML v1.0//EN
CALSCALE:GREGORIAN
METHOD:PUBLISH
X-WR-CALNAME:Tullinge SK
X-ORIGINAL-URL:https://www.tullingesk.se
X-WR-CALDESC:Händelser för Tullinge SK
REFRESH-INTERVAL;VALUE=DURATION:PT1H
X-Robots-Tag:noindex
X-PUBLISHED-TTL:PT1H
BEGIN:VTIMEZONE
TZID:Europe/Stockholm
BEGIN:DAYLIGHT
TZOFFSETFROM:+0100
TZOFFSETTO:+0200
TZNAME:CEST
DTSTART:20250330T010000
END:DAYLIGHT
BEGIN:STANDARD
TZOFFSETFROM:+0200
TZOFFSETTO:+0100
TZNAME:CET
DTSTART:20251026T010000
END:STANDARD
BEGIN:DAYLIGHT
TZOFFSETFROM:+0100
TZOFFSETTO:+0200
TZNAME:CEST
DTSTART:20260329T010000
END:DAYLIGHT
BEGIN:STANDARD
TZOFFSETFROM:+0200
TZOFFSETTO:+0100
TZNAME:CET
DTSTART:20261025T010000
END:STANDARD
BEGIN:DAYLIGHT
TZOFFSETFROM:+0100
TZOFFSETTO:+0200
TZNAME:CEST
DTSTART:20270328T010000
END:DAYLIGHT
BEGIN:STANDARD
TZOFFSETFROM:+0200
TZOFFSETTO:+0100
TZNAME:CET
DTSTART:20271031T010000
END:STANDARD
END:VTIMEZONE
BEGIN:VEVENT
DTSTART;TZID=Europe/Stockholm:20260616T180000
DTEND;TZID=Europe/Stockholm:20260616T191500
DTSTAMP:20260419T183330
CREATED:20260403T091758Z
LAST-MODIFIED:20260403T091758Z
UID:10003171-1781632800-1781637300@www.tullingesk.se
SUMMARY:9-12 träning
DESCRIPTION:Tisdagsträning för 9-12 gruppen \nSamling vid stakethörnet
URL:https://www.tullingesk.se/aktivitet/9-12-traning-4/2026-06-16/
LOCATION:TSK-klubbstugan\, Flottiljvägen 56\, Tullinge\, 146 38\, Sweden
GEO:59.193432193406;17.901717405743
X-APPLE-STRUCTURED-LOCATION;VALUE=URI;X-ADDRESS=TSK-klubbstugan Flottiljvägen 56 Tullinge 146 38 Sweden;X-APPLE-RADIUS=500;X-TITLE=Flottiljvägen 56:geo:17.901717405743,59.193432193406
END:VEVENT
BEGIN:VEVENT
DTSTART;TZID=Europe/Stockholm:20260616T180000
DTEND;TZID=Europe/Stockholm:20260616T200000
DTSTAMP:20260419T183330
CREATED:20260413T183550Z
LAST-MODIFIED:20260413T183550Z
UID:10001040-1781632800-1781640000@www.tullingesk.se
SUMMARY:HD17
DESCRIPTION:Intervaller på spåret. \nAnsvarig Simon/Matthew
URL:https://www.tullingesk.se/aktivitet/hd17-34-17/2026-06-16/
LOCATION:TSK-klubbstugan\, Flottiljvägen 56\, Tullinge\, 146 38\, Sweden
GEO:59.193432193406;17.901717405743
X-APPLE-STRUCTURED-LOCATION;VALUE=URI;X-ADDRESS=TSK-klubbstugan Flottiljvägen 56 Tullinge 146 38 Sweden;X-APPLE-RADIUS=500;X-TITLE=Flottiljvägen 56:geo:17.901717405743,59.193432193406
END:VEVENT
BEGIN:VEVENT
DTSTART;TZID=Europe/Stockholm:20260623T180000
DTEND;TZID=Europe/Stockholm:20260623T191500
DTSTAMP:20260419T183330
CREATED:20260403T091758Z
LAST-MODIFIED:20260403T091758Z
UID:10003172-1782237600-1782242100@www.tullingesk.se
SUMMARY:9-12 träning
DESCRIPTION:Tisdagsträning för 9-12 gruppen \nSamling vid stakethörnet
URL:https://www.tullingesk.se/aktivitet/9-12-traning-4/2026-06-23/
LOCATION:TSK-klubbstugan\, Flottiljvägen 56\, Tullinge\, 146 38\, Sweden
GEO:59.193432193406;17.901717405743
X-APPLE-STRUCTURED-LOCATION;VALUE=URI;X-ADDRESS=TSK-klubbstugan Flottiljvägen 56 Tullinge 146 38 Sweden;X-APPLE-RADIUS=500;X-TITLE=Flottiljvägen 56:geo:17.901717405743,59.193432193406
END:VEVENT
BEGIN:VEVENT
DTSTART;TZID=Europe/Stockholm:20260623T180000
DTEND;TZID=Europe/Stockholm:20260623T200000
DTSTAMP:20260419T183330
CREATED:20260413T183550Z
LAST-MODIFIED:20260413T183550Z
UID:10001041-1782237600-1782244800@www.tullingesk.se
SUMMARY:HD17
DESCRIPTION:Intervaller på spåret. \nAnsvarig Simon/Matthew
URL:https://www.tullingesk.se/aktivitet/hd17-34-17/2026-06-23/
LOCATION:TSK-klubbstugan\, Flottiljvägen 56\, Tullinge\, 146 38\, Sweden
GEO:59.193432193406;17.901717405743
X-APPLE-STRUCTURED-LOCATION;VALUE=URI;X-ADDRESS=TSK-klubbstugan Flottiljvägen 56 Tullinge 146 38 Sweden;X-APPLE-RADIUS=500;X-TITLE=Flottiljvägen 56:geo:17.901717405743,59.193432193406
END:VEVENT
BEGIN:VEVENT
DTSTART;TZID=Europe/Stockholm:20260630T180000
DTEND;TZID=Europe/Stockholm:20260630T190000
DTSTAMP:20260419T183330
CREATED:20260315T172514Z
LAST-MODIFIED:20260315T172514Z
UID:10003049-1782842400-1782846000@www.tullingesk.se
SUMMARY:Grupp4-tisdagsträning
DESCRIPTION:Grupp 4 – tisdagsträning \nGruppen för alla som inte väljer annan grupp  \nAnsvarig denna vecka: \nV12 A-K Ohlsson och Anna Perneby \n  \n  \n  \nFör anvisningar och lista över ansvariga: https://www.tullingesk.se/bredd-motionar/
URL:https://www.tullingesk.se/aktivitet/grupp4-tisdagstraning/2026-06-30/
LOCATION:TSK-klubbstugan\, Flottiljvägen 56\, Tullinge\, 146 38\, Sweden
GEO:59.193432193406;17.901717405743
X-APPLE-STRUCTURED-LOCATION;VALUE=URI;X-ADDRESS=TSK-klubbstugan Flottiljvägen 56 Tullinge 146 38 Sweden;X-APPLE-RADIUS=500;X-TITLE=Flottiljvägen 56:geo:17.901717405743,59.193432193406
END:VEVENT
BEGIN:VEVENT
DTSTART;TZID=Europe/Stockholm:20260630T180000
DTEND;TZID=Europe/Stockholm:20260630T191500
DTSTAMP:20260419T183330
CREATED:20260403T091758Z
LAST-MODIFIED:20260403T091758Z
UID:10003173-1782842400-1782846900@www.tullingesk.se
SUMMARY:9-12 träning
DESCRIPTION:Tisdagsträning för 9-12 gruppen \nSamling vid stakethörnet
URL:https://www.tullingesk.se/aktivitet/9-12-traning-4/2026-06-30/
LOCATION:TSK-klubbstugan\, Flottiljvägen 56\, Tullinge\, 146 38\, Sweden
GEO:59.193432193406;17.901717405743
X-APPLE-STRUCTURED-LOCATION;VALUE=URI;X-ADDRESS=TSK-klubbstugan Flottiljvägen 56 Tullinge 146 38 Sweden;X-APPLE-RADIUS=500;X-TITLE=Flottiljvägen 56:geo:17.901717405743,59.193432193406
END:VEVENT
BEGIN:VEVENT
DTSTART;TZID=Europe/Stockholm:20260630T180000
DTEND;TZID=Europe/Stockholm:20260630T200000
DTSTAMP:20260419T183330
CREATED:20260413T183550Z
LAST-MODIFIED:20260413T183550Z
UID:10001042-1782842400-1782849600@www.tullingesk.se
SUMMARY:HD17
DESCRIPTION:Intervaller på spåret. \nAnsvarig Simon/Matthew
URL:https://www.tullingesk.se/aktivitet/hd17-34-17/2026-06-30/
LOCATION:TSK-klubbstugan\, Flottiljvägen 56\, Tullinge\, 146 38\, Sweden
GEO:59.193432193406;17.901717405743
X-APPLE-STRUCTURED-LOCATION;VALUE=URI;X-ADDRESS=TSK-klubbstugan Flottiljvägen 56 Tullinge 146 38 Sweden;X-APPLE-RADIUS=500;X-TITLE=Flottiljvägen 56:geo:17.901717405743,59.193432193406
END:VEVENT
BEGIN:VEVENT
DTSTART;TZID=Europe/Stockholm:20260707T180000
DTEND;TZID=Europe/Stockholm:20260707T191500
DTSTAMP:20260419T183330
CREATED:20260403T091758Z
LAST-MODIFIED:20260403T091758Z
UID:10003174-1783447200-1783451700@www.tullingesk.se
SUMMARY:9-12 träning
DESCRIPTION:Tisdagsträning för 9-12 gruppen \nSamling vid stakethörnet
URL:https://www.tullingesk.se/aktivitet/9-12-traning-4/2026-07-07/
LOCATION:TSK-klubbstugan\, Flottiljvägen 56\, Tullinge\, 146 38\, Sweden
GEO:59.193432193406;17.901717405743
X-APPLE-STRUCTURED-LOCATION;VALUE=URI;X-ADDRESS=TSK-klubbstugan Flottiljvägen 56 Tullinge 146 38 Sweden;X-APPLE-RADIUS=500;X-TITLE=Flottiljvägen 56:geo:17.901717405743,59.193432193406
END:VEVENT
BEGIN:VEVENT
DTSTART;TZID=Europe/Stockholm:20260707T180000
DTEND;TZID=Europe/Stockholm:20260707T200000
DTSTAMP:20260419T183330
CREATED:20260413T183550Z
LAST-MODIFIED:20260413T183550Z
UID:10001043-1783447200-1783454400@www.tullingesk.se
SUMMARY:HD17
DESCRIPTION:Intervaller på spåret. \nAnsvarig Simon/Matthew
URL:https://www.tullingesk.se/aktivitet/hd17-34-17/2026-07-07/
LOCATION:TSK-klubbstugan\, Flottiljvägen 56\, Tullinge\, 146 38\, Sweden
GEO:59.193432193406;17.901717405743
X-APPLE-STRUCTURED-LOCATION;VALUE=URI;X-ADDRESS=TSK-klubbstugan Flottiljvägen 56 Tullinge 146 38 Sweden;X-APPLE-RADIUS=500;X-TITLE=Flottiljvägen 56:geo:17.901717405743,59.193432193406
END:VEVENT
BEGIN:VEVENT
DTSTART;TZID=Europe/Stockholm:20260714T180000
DTEND;TZID=Europe/Stockholm:20260714T191500
DTSTAMP:20260419T183330
CREATED:20260403T091758Z
LAST-MODIFIED:20260403T091758Z
UID:10003175-1784052000-1784056500@www.tullingesk.se
SUMMARY:9-12 träning
DESCRIPTION:Tisdagsträning för 9-12 gruppen \nSamling vid stakethörnet
URL:https://www.tullingesk.se/aktivitet/9-12-traning-4/2026-07-14/
LOCATION:TSK-klubbstugan\, Flottiljvägen 56\, Tullinge\, 146 38\, Sweden
GEO:59.193432193406;17.901717405743
X-APPLE-STRUCTURED-LOCATION;VALUE=URI;X-ADDRESS=TSK-klubbstugan Flottiljvägen 56 Tullinge 146 38 Sweden;X-APPLE-RADIUS=500;X-TITLE=Flottiljvägen 56:geo:17.901717405743,59.193432193406
END:VEVENT
BEGIN:VEVENT
DTSTART;TZID=Europe/Stockholm:20260714T180000
DTEND;TZID=Europe/Stockholm:20260714T200000
DTSTAMP:20260419T183330
CREATED:20260413T183550Z
LAST-MODIFIED:20260413T183550Z
UID:10001044-1784052000-1784059200@www.tullingesk.se
SUMMARY:HD17
DESCRIPTION:Intervaller på spåret. \nAnsvarig Simon/Matthew
URL:https://www.tullingesk.se/aktivitet/hd17-34-17/2026-07-14/
LOCATION:TSK-klubbstugan\, Flottiljvägen 56\, Tullinge\, 146 38\, Sweden
GEO:59.193432193406;17.901717405743
X-APPLE-STRUCTURED-LOCATION;VALUE=URI;X-ADDRESS=TSK-klubbstugan Flottiljvägen 56 Tullinge 146 38 Sweden;X-APPLE-RADIUS=500;X-TITLE=Flottiljvägen 56:geo:17.901717405743,59.193432193406
END:VEVENT
BEGIN:VEVENT
DTSTART;TZID=Europe/Stockholm:20260721T180000
DTEND;TZID=Europe/Stockholm:20260721T190000
DTSTAMP:20260419T183330
CREATED:20260315T172514Z
LAST-MODIFIED:20260315T172514Z
UID:10003050-1784656800-1784660400@www.tullingesk.se
SUMMARY:Grupp4-tisdagsträning
DESCRIPTION:Grupp 4 – tisdagsträning \nGruppen för alla som inte väljer annan grupp  \nAnsvarig denna vecka: \nV12 A-K Ohlsson och Anna Perneby \n  \n  \n  \nFör anvisningar och lista över ansvariga: https://www.tullingesk.se/bredd-motionar/
URL:https://www.tullingesk.se/aktivitet/grupp4-tisdagstraning/2026-07-21/
LOCATION:TSK-klubbstugan\, Flottiljvägen 56\, Tullinge\, 146 38\, Sweden
GEO:59.193432193406;17.901717405743
X-APPLE-STRUCTURED-LOCATION;VALUE=URI;X-ADDRESS=TSK-klubbstugan Flottiljvägen 56 Tullinge 146 38 Sweden;X-APPLE-RADIUS=500;X-TITLE=Flottiljvägen 56:geo:17.901717405743,59.193432193406
END:VEVENT
BEGIN:VEVENT
DTSTART;TZID=Europe/Stockholm:20260721T180000
DTEND;TZID=Europe/Stockholm:20260721T191500
DTSTAMP:20260419T183330
CREATED:20260403T091758Z
LAST-MODIFIED:20260403T091758Z
UID:10003176-1784656800-1784661300@www.tullingesk.se
SUMMARY:9-12 träning
DESCRIPTION:Tisdagsträning för 9-12 gruppen \nSamling vid stakethörnet
URL:https://www.tullingesk.se/aktivitet/9-12-traning-4/2026-07-21/
LOCATION:TSK-klubbstugan\, Flottiljvägen 56\, Tullinge\, 146 38\, Sweden
GEO:59.193432193406;17.901717405743
X-APPLE-STRUCTURED-LOCATION;VALUE=URI;X-ADDRESS=TSK-klubbstugan Flottiljvägen 56 Tullinge 146 38 Sweden;X-APPLE-RADIUS=500;X-TITLE=Flottiljvägen 56:geo:17.901717405743,59.193432193406
END:VEVENT
BEGIN:VEVENT
DTSTART;TZID=Europe/Stockholm:20260721T180000
DTEND;TZID=Europe/Stockholm:20260721T200000
DTSTAMP:20260419T183330
CREATED:20260413T183550Z
LAST-MODIFIED:20260413T183550Z
UID:10000921-1784656800-1784664000@www.tullingesk.se
SUMMARY:HD17
DESCRIPTION:Intervaller på spåret. \nAnsvarig Simon/Matthew
URL:https://www.tullingesk.se/aktivitet/hd17-34-17/2026-07-21/
LOCATION:TSK-klubbstugan\, Flottiljvägen 56\, Tullinge\, 146 38\, Sweden
GEO:59.193432193406;17.901717405743
X-APPLE-STRUCTURED-LOCATION;VALUE=URI;X-ADDRESS=TSK-klubbstugan Flottiljvägen 56 Tullinge 146 38 Sweden;X-APPLE-RADIUS=500;X-TITLE=Flottiljvägen 56:geo:17.901717405743,59.193432193406
END:VEVENT
BEGIN:VEVENT
DTSTART;TZID=Europe/Stockholm:20260728T180000
DTEND;TZID=Europe/Stockholm:20260728T191500
DTSTAMP:20260419T183330
CREATED:20260403T091758Z
LAST-MODIFIED:20260403T091758Z
UID:10003177-1785261600-1785266100@www.tullingesk.se
SUMMARY:9-12 träning
DESCRIPTION:Tisdagsträning för 9-12 gruppen \nSamling vid stakethörnet
URL:https://www.tullingesk.se/aktivitet/9-12-traning-4/2026-07-28/
LOCATION:TSK-klubbstugan\, Flottiljvägen 56\, Tullinge\, 146 38\, Sweden
GEO:59.193432193406;17.901717405743
X-APPLE-STRUCTURED-LOCATION;VALUE=URI;X-ADDRESS=TSK-klubbstugan Flottiljvägen 56 Tullinge 146 38 Sweden;X-APPLE-RADIUS=500;X-TITLE=Flottiljvägen 56:geo:17.901717405743,59.193432193406
END:VEVENT
BEGIN:VEVENT
DTSTART;TZID=Europe/Stockholm:20260728T180000
DTEND;TZID=Europe/Stockholm:20260728T200000
DTSTAMP:20260419T183330
CREATED:20260413T183550Z
LAST-MODIFIED:20260413T183550Z
UID:10001045-1785261600-1785268800@www.tullingesk.se
SUMMARY:HD17
DESCRIPTION:Intervaller på spåret. \nAnsvarig Simon/Matthew
URL:https://www.tullingesk.se/aktivitet/hd17-34-17/2026-07-28/
LOCATION:TSK-klubbstugan\, Flottiljvägen 56\, Tullinge\, 146 38\, Sweden
GEO:59.193432193406;17.901717405743
X-APPLE-STRUCTURED-LOCATION;VALUE=URI;X-ADDRESS=TSK-klubbstugan Flottiljvägen 56 Tullinge 146 38 Sweden;X-APPLE-RADIUS=500;X-TITLE=Flottiljvägen 56:geo:17.901717405743,59.193432193406
END:VEVENT
BEGIN:VEVENT
DTSTART;TZID=Europe/Stockholm:20260804T180000
DTEND;TZID=Europe/Stockholm:20260804T191500
DTSTAMP:20260419T183330
CREATED:20260403T091758Z
LAST-MODIFIED:20260403T091758Z
UID:10003178-1785866400-1785870900@www.tullingesk.se
SUMMARY:9-12 träning
DESCRIPTION:Tisdagsträning för 9-12 gruppen \nSamling vid stakethörnet
URL:https://www.tullingesk.se/aktivitet/9-12-traning-4/2026-08-04/
LOCATION:TSK-klubbstugan\, Flottiljvägen 56\, Tullinge\, 146 38\, Sweden
GEO:59.193432193406;17.901717405743
X-APPLE-STRUCTURED-LOCATION;VALUE=URI;X-ADDRESS=TSK-klubbstugan Flottiljvägen 56 Tullinge 146 38 Sweden;X-APPLE-RADIUS=500;X-TITLE=Flottiljvägen 56:geo:17.901717405743,59.193432193406
END:VEVENT
BEGIN:VEVENT
DTSTART;TZID=Europe/Stockholm:20260804T180000
DTEND;TZID=Europe/Stockholm:20260804T200000
DTSTAMP:20260419T183330
CREATED:20260413T183550Z
LAST-MODIFIED:20260413T183550Z
UID:10001046-1785866400-1785873600@www.tullingesk.se
SUMMARY:HD17
DESCRIPTION:Intervaller på spåret. \nAnsvarig Simon/Matthew
URL:https://www.tullingesk.se/aktivitet/hd17-34-17/2026-08-04/
LOCATION:TSK-klubbstugan\, Flottiljvägen 56\, Tullinge\, 146 38\, Sweden
GEO:59.193432193406;17.901717405743
X-APPLE-STRUCTURED-LOCATION;VALUE=URI;X-ADDRESS=TSK-klubbstugan Flottiljvägen 56 Tullinge 146 38 Sweden;X-APPLE-RADIUS=500;X-TITLE=Flottiljvägen 56:geo:17.901717405743,59.193432193406
END:VEVENT
BEGIN:VEVENT
DTSTART;TZID=Europe/Stockholm:20260811T180000
DTEND;TZID=Europe/Stockholm:20260811T190000
DTSTAMP:20260419T183330
CREATED:20260315T172514Z
LAST-MODIFIED:20260315T172514Z
UID:10003051-1786471200-1786474800@www.tullingesk.se
SUMMARY:Grupp4-tisdagsträning
DESCRIPTION:Grupp 4 – tisdagsträning \nGruppen för alla som inte väljer annan grupp  \nAnsvarig denna vecka: \nV12 A-K Ohlsson och Anna Perneby \n  \n  \n  \nFör anvisningar och lista över ansvariga: https://www.tullingesk.se/bredd-motionar/
URL:https://www.tullingesk.se/aktivitet/grupp4-tisdagstraning/2026-08-11/
LOCATION:TSK-klubbstugan\, Flottiljvägen 56\, Tullinge\, 146 38\, Sweden
GEO:59.193432193406;17.901717405743
X-APPLE-STRUCTURED-LOCATION;VALUE=URI;X-ADDRESS=TSK-klubbstugan Flottiljvägen 56 Tullinge 146 38 Sweden;X-APPLE-RADIUS=500;X-TITLE=Flottiljvägen 56:geo:17.901717405743,59.193432193406
END:VEVENT
BEGIN:VEVENT
DTSTART;TZID=Europe/Stockholm:20260811T180000
DTEND;TZID=Europe/Stockholm:20260811T191500
DTSTAMP:20260419T183330
CREATED:20260403T091758Z
LAST-MODIFIED:20260403T091758Z
UID:10003179-1786471200-1786475700@www.tullingesk.se
SUMMARY:9-12 träning
DESCRIPTION:Tisdagsträning för 9-12 gruppen \nSamling vid stakethörnet
URL:https://www.tullingesk.se/aktivitet/9-12-traning-4/2026-08-11/
LOCATION:TSK-klubbstugan\, Flottiljvägen 56\, Tullinge\, 146 38\, Sweden
GEO:59.193432193406;17.901717405743
X-APPLE-STRUCTURED-LOCATION;VALUE=URI;X-ADDRESS=TSK-klubbstugan Flottiljvägen 56 Tullinge 146 38 Sweden;X-APPLE-RADIUS=500;X-TITLE=Flottiljvägen 56:geo:17.901717405743,59.193432193406
END:VEVENT
BEGIN:VEVENT
DTSTART;TZID=Europe/Stockholm:20260811T180000
DTEND;TZID=Europe/Stockholm:20260811T200000
DTSTAMP:20260419T183330
CREATED:20260413T183550Z
LAST-MODIFIED:20260413T183550Z
UID:10001047-1786471200-1786478400@www.tullingesk.se
SUMMARY:HD17
DESCRIPTION:Intervaller på spåret. \nAnsvarig Simon/Matthew
URL:https://www.tullingesk.se/aktivitet/hd17-34-17/2026-08-11/
LOCATION:TSK-klubbstugan\, Flottiljvägen 56\, Tullinge\, 146 38\, Sweden
GEO:59.193432193406;17.901717405743
X-APPLE-STRUCTURED-LOCATION;VALUE=URI;X-ADDRESS=TSK-klubbstugan Flottiljvägen 56 Tullinge 146 38 Sweden;X-APPLE-RADIUS=500;X-TITLE=Flottiljvägen 56:geo:17.901717405743,59.193432193406
END:VEVENT
BEGIN:VEVENT
DTSTART;TZID=Europe/Stockholm:20260815T130000
DTEND;TZID=Europe/Stockholm:20260816T090000
DTSTAMP:20260419T183330
CREATED:20260419T160027Z
LAST-MODIFIED:20260419T160027Z
UID:10003235-1786798800-1786870800@www.tullingesk.se
SUMMARY:Klubbstugan uthyrd/40-års fest
DESCRIPTION:Ansvarig: Emma Hansen
URL:https://www.tullingesk.se/aktivitet/klubbstugan-uthyrd-40-ars-fest/
LOCATION:TSK-klubbstugan\, Flottiljvägen 56\, Tullinge\, 146 38\, Sweden
ORGANIZER;CN="Stugkommitt%C3%A9n":MAILTO:uthyrning@tullingesk.se
GEO:59.193432193406;17.901717405743
X-APPLE-STRUCTURED-LOCATION;VALUE=URI;X-ADDRESS=TSK-klubbstugan Flottiljvägen 56 Tullinge 146 38 Sweden;X-APPLE-RADIUS=500;X-TITLE=Flottiljvägen 56:geo:17.901717405743,59.193432193406
END:VEVENT
BEGIN:VEVENT
DTSTART;TZID=Europe/Stockholm:20260818T180000
DTEND;TZID=Europe/Stockholm:20260818T191500
DTSTAMP:20260419T183330
CREATED:20260403T091758Z
LAST-MODIFIED:20260403T091758Z
UID:10003180-1787076000-1787080500@www.tullingesk.se
SUMMARY:9-12 träning
DESCRIPTION:Tisdagsträning för 9-12 gruppen \nSamling vid stakethörnet
URL:https://www.tullingesk.se/aktivitet/9-12-traning-4/2026-08-18/
LOCATION:TSK-klubbstugan\, Flottiljvägen 56\, Tullinge\, 146 38\, Sweden
GEO:59.193432193406;17.901717405743
X-APPLE-STRUCTURED-LOCATION;VALUE=URI;X-ADDRESS=TSK-klubbstugan Flottiljvägen 56 Tullinge 146 38 Sweden;X-APPLE-RADIUS=500;X-TITLE=Flottiljvägen 56:geo:17.901717405743,59.193432193406
END:VEVENT
BEGIN:VEVENT
DTSTART;TZID=Europe/Stockholm:20260818T180000
DTEND;TZID=Europe/Stockholm:20260818T200000
DTSTAMP:20260419T183330
CREATED:20260413T183550Z
LAST-MODIFIED:20260413T183550Z
UID:10001048-1787076000-1787083200@www.tullingesk.se
SUMMARY:HD17
DESCRIPTION:Intervaller på spåret. \nAnsvarig Simon/Matthew
URL:https://www.tullingesk.se/aktivitet/hd17-34-17/2026-08-18/
LOCATION:TSK-klubbstugan\, Flottiljvägen 56\, Tullinge\, 146 38\, Sweden
GEO:59.193432193406;17.901717405743
X-APPLE-STRUCTURED-LOCATION;VALUE=URI;X-ADDRESS=TSK-klubbstugan Flottiljvägen 56 Tullinge 146 38 Sweden;X-APPLE-RADIUS=500;X-TITLE=Flottiljvägen 56:geo:17.901717405743,59.193432193406
END:VEVENT
BEGIN:VEVENT
DTSTART;TZID=Europe/Stockholm:20260825T180000
DTEND;TZID=Europe/Stockholm:20260825T191500
DTSTAMP:20260419T183330
CREATED:20260403T091758Z
LAST-MODIFIED:20260403T091758Z
UID:10003181-1787680800-1787685300@www.tullingesk.se
SUMMARY:9-12 träning
DESCRIPTION:Tisdagsträning för 9-12 gruppen \nSamling vid stakethörnet
URL:https://www.tullingesk.se/aktivitet/9-12-traning-4/2026-08-25/
LOCATION:TSK-klubbstugan\, Flottiljvägen 56\, Tullinge\, 146 38\, Sweden
GEO:59.193432193406;17.901717405743
X-APPLE-STRUCTURED-LOCATION;VALUE=URI;X-ADDRESS=TSK-klubbstugan Flottiljvägen 56 Tullinge 146 38 Sweden;X-APPLE-RADIUS=500;X-TITLE=Flottiljvägen 56:geo:17.901717405743,59.193432193406
END:VEVENT
BEGIN:VEVENT
DTSTART;TZID=Europe/Stockholm:20260825T180000
DTEND;TZID=Europe/Stockholm:20260825T200000
DTSTAMP:20260419T183330
CREATED:20260413T183550Z
LAST-MODIFIED:20260413T183550Z
UID:10001049-1787680800-1787688000@www.tullingesk.se
SUMMARY:HD17
DESCRIPTION:Intervaller på spåret. \nAnsvarig Simon/Matthew
URL:https://www.tullingesk.se/aktivitet/hd17-34-17/2026-08-25/
LOCATION:TSK-klubbstugan\, Flottiljvägen 56\, Tullinge\, 146 38\, Sweden
GEO:59.193432193406;17.901717405743
X-APPLE-STRUCTURED-LOCATION;VALUE=URI;X-ADDRESS=TSK-klubbstugan Flottiljvägen 56 Tullinge 146 38 Sweden;X-APPLE-RADIUS=500;X-TITLE=Flottiljvägen 56:geo:17.901717405743,59.193432193406
END:VEVENT
BEGIN:VEVENT
DTSTART;TZID=Europe/Stockholm:20260901T180000
DTEND;TZID=Europe/Stockholm:20260901T190000
DTSTAMP:20260419T183330
CREATED:20260315T172514Z
LAST-MODIFIED:20260315T172514Z
UID:10003052-1788285600-1788289200@www.tullingesk.se
SUMMARY:Grupp4-tisdagsträning
DESCRIPTION:Grupp 4 – tisdagsträning \nGruppen för alla som inte väljer annan grupp  \nAnsvarig denna vecka: \nV12 A-K Ohlsson och Anna Perneby \n  \n  \n  \nFör anvisningar och lista över ansvariga: https://www.tullingesk.se/bredd-motionar/
URL:https://www.tullingesk.se/aktivitet/grupp4-tisdagstraning/2026-09-01/
LOCATION:TSK-klubbstugan\, Flottiljvägen 56\, Tullinge\, 146 38\, Sweden
GEO:59.193432193406;17.901717405743
X-APPLE-STRUCTURED-LOCATION;VALUE=URI;X-ADDRESS=TSK-klubbstugan Flottiljvägen 56 Tullinge 146 38 Sweden;X-APPLE-RADIUS=500;X-TITLE=Flottiljvägen 56:geo:17.901717405743,59.193432193406
END:VEVENT
BEGIN:VEVENT
DTSTART;TZID=Europe/Stockholm:20260901T180000
DTEND;TZID=Europe/Stockholm:20260901T191500
DTSTAMP:20260419T183330
CREATED:20260403T091758Z
LAST-MODIFIED:20260403T091758Z
UID:10003182-1788285600-1788290100@www.tullingesk.se
SUMMARY:9-12 träning
DESCRIPTION:Tisdagsträning för 9-12 gruppen \nSamling vid stakethörnet
URL:https://www.tullingesk.se/aktivitet/9-12-traning-4/2026-09-01/
LOCATION:TSK-klubbstugan\, Flottiljvägen 56\, Tullinge\, 146 38\, Sweden
GEO:59.193432193406;17.901717405743
X-APPLE-STRUCTURED-LOCATION;VALUE=URI;X-ADDRESS=TSK-klubbstugan Flottiljvägen 56 Tullinge 146 38 Sweden;X-APPLE-RADIUS=500;X-TITLE=Flottiljvägen 56:geo:17.901717405743,59.193432193406
END:VEVENT
BEGIN:VEVENT
DTSTART;TZID=Europe/Stockholm:20260901T180000
DTEND;TZID=Europe/Stockholm:20260901T200000
DTSTAMP:20260419T183330
CREATED:20260413T183550Z
LAST-MODIFIED:20260413T183550Z
UID:10000922-1788285600-1788292800@www.tullingesk.se
SUMMARY:HD17
DESCRIPTION:Intervaller på spåret. \nAnsvarig Simon/Matthew
URL:https://www.tullingesk.se/aktivitet/hd17-34-17/2026-09-01/
LOCATION:TSK-klubbstugan\, Flottiljvägen 56\, Tullinge\, 146 38\, Sweden
GEO:59.193432193406;17.901717405743
X-APPLE-STRUCTURED-LOCATION;VALUE=URI;X-ADDRESS=TSK-klubbstugan Flottiljvägen 56 Tullinge 146 38 Sweden;X-APPLE-RADIUS=500;X-TITLE=Flottiljvägen 56:geo:17.901717405743,59.193432193406
END:VEVENT
BEGIN:VEVENT
DTSTART;TZID=Europe/Stockholm:20260908T180000
DTEND;TZID=Europe/Stockholm:20260908T191500
DTSTAMP:20260419T183330
CREATED:20260403T091758Z
LAST-MODIFIED:20260403T091758Z
UID:10003183-1788890400-1788894900@www.tullingesk.se
SUMMARY:9-12 träning
DESCRIPTION:Tisdagsträning för 9-12 gruppen \nSamling vid stakethörnet
URL:https://www.tullingesk.se/aktivitet/9-12-traning-4/2026-09-08/
LOCATION:TSK-klubbstugan\, Flottiljvägen 56\, Tullinge\, 146 38\, Sweden
GEO:59.193432193406;17.901717405743
X-APPLE-STRUCTURED-LOCATION;VALUE=URI;X-ADDRESS=TSK-klubbstugan Flottiljvägen 56 Tullinge 146 38 Sweden;X-APPLE-RADIUS=500;X-TITLE=Flottiljvägen 56:geo:17.901717405743,59.193432193406
END:VEVENT
END:VCALENDAR