BEGIN:VCALENDAR
VERSION:2.0
PRODID:-//Tullinge SK - ECPv6.15.20//NONSGML v1.0//EN
CALSCALE:GREGORIAN
METHOD:PUBLISH
X-WR-CALNAME:Tullinge SK
X-ORIGINAL-URL:https://www.tullingesk.se
X-WR-CALDESC:Händelser för Tullinge SK
REFRESH-INTERVAL;VALUE=DURATION:PT1H
X-Robots-Tag:noindex
X-PUBLISHED-TTL:PT1H
BEGIN:VTIMEZONE
TZID:Europe/Stockholm
BEGIN:DAYLIGHT
TZOFFSETFROM:+0100
TZOFFSETTO:+0200
TZNAME:CEST
DTSTART:20230326T010000
END:DAYLIGHT
BEGIN:STANDARD
TZOFFSETFROM:+0200
TZOFFSETTO:+0100
TZNAME:CET
DTSTART:20231029T010000
END:STANDARD
BEGIN:DAYLIGHT
TZOFFSETFROM:+0100
TZOFFSETTO:+0200
TZNAME:CEST
DTSTART:20240331T010000
END:DAYLIGHT
BEGIN:STANDARD
TZOFFSETFROM:+0200
TZOFFSETTO:+0100
TZNAME:CET
DTSTART:20241027T010000
END:STANDARD
BEGIN:DAYLIGHT
TZOFFSETFROM:+0100
TZOFFSETTO:+0200
TZNAME:CEST
DTSTART:20250330T010000
END:DAYLIGHT
BEGIN:STANDARD
TZOFFSETFROM:+0200
TZOFFSETTO:+0100
TZNAME:CET
DTSTART:20251026T010000
END:STANDARD
BEGIN:DAYLIGHT
TZOFFSETFROM:+0100
TZOFFSETTO:+0200
TZNAME:CEST
DTSTART:20260329T010000
END:DAYLIGHT
BEGIN:STANDARD
TZOFFSETFROM:+0200
TZOFFSETTO:+0100
TZNAME:CET
DTSTART:20261025T010000
END:STANDARD
END:VTIMEZONE
BEGIN:VEVENT
DTSTART;TZID=Europe/Stockholm:20241208T100000
DTEND;TZID=Europe/Stockholm:20241208T120000
DTSTAMP:20260421T024041
CREATED:20241107T183031Z
LAST-MODIFIED:20241207T151524Z
UID:10001464-1733652000-1733659200@www.tullingesk.se
SUMMARY:Långpass från Brantan
DESCRIPTION:Samling kl 10 vid klubbstugan \nBanor mellan 6-17 km med vätska \nVåffla i klubbstugan till alla löpare! \nAnsvariga: Axel och Henrik Trofast
URL:https://www.tullingesk.se/aktivitet/langpass-17/
LOCATION:TSK-klubbstugan\, Flottiljvägen 56\, Tullinge\, 146 38\, Sweden
GEO:59.193432193406;17.901717405743
X-APPLE-STRUCTURED-LOCATION;VALUE=URI;X-ADDRESS=TSK-klubbstugan Flottiljvägen 56 Tullinge 146 38 Sweden;X-APPLE-RADIUS=500;X-TITLE=Flottiljvägen 56:geo:17.901717405743,59.193432193406
END:VEVENT
BEGIN:VEVENT
DTSTART;TZID=Europe/Stockholm:20241209T190000
DTEND;TZID=Europe/Stockholm:20241209T200000
DTSTAMP:20260421T024041
CREATED:20240923T070355Z
LAST-MODIFIED:20240923T070355Z
UID:10001315-1733770800-1733774400@www.tullingesk.se
SUMMARY:TSK Styrkegympa
DESCRIPTION:Tid: 19-20\nPlats: Parkhemsskolans gympahall\nVem: TSK-medlemmar\nFörkunskaper: INGA! Alla kan vara med på sin nivå!\nVad: Styrka för hela kroppen. Enkla övningar\, oftast med egna kroppen som vikt men ibland även med gummiband (finns på plats).\n\nIngen föranmälan\, bara kom!\nVÄLKOMMEN //Kristin
URL:https://www.tullingesk.se/aktivitet/tsk-styrkegympa/2024-12-09/
LOCATION:Parkhemsskolans gympahall
END:VEVENT
BEGIN:VEVENT
DTSTART;TZID=Europe/Stockholm:20241210T180000
DTEND;TZID=Europe/Stockholm:20241210T190000
DTSTAMP:20260421T024041
CREATED:20241004T171629Z
LAST-MODIFIED:20241208T125029Z
UID:10000436-1733853600-1733857200@www.tullingesk.se
SUMMARY:Grupp 4
DESCRIPTION:Mia Bratt & Carina Ronge \nKvällens upplägg är gemensam uppvärmning till ett ’bo’  (ca 1km)  och där finns det 5 olika korta enklare banor som kan springas i valfri ordning. Gula reflexsnitslar vid kontrollerna. \nVälkomna! \nSpikskor renommenderas (per underlag söndag – kan ju hinna ändras)
URL:https://www.tullingesk.se/aktivitet/grupp-4-13/
LOCATION:TSK-klubbstugan\, Flottiljvägen 56\, Tullinge\, 146 38\, Sweden
GEO:59.193432193406;17.901717405743
X-APPLE-STRUCTURED-LOCATION;VALUE=URI;X-ADDRESS=TSK-klubbstugan Flottiljvägen 56 Tullinge 146 38 Sweden;X-APPLE-RADIUS=500;X-TITLE=Flottiljvägen 56:geo:17.901717405743,59.193432193406
END:VEVENT
BEGIN:VEVENT
DTSTART;TZID=Europe/Stockholm:20241210T180000
DTEND;TZID=Europe/Stockholm:20241210T191500
DTSTAMP:20260421T024041
CREATED:20241209T071743Z
LAST-MODIFIED:20241209T071743Z
UID:10001495-1733853600-1733858100@www.tullingesk.se
SUMMARY:1316: skogsintervaller (lampa & OL-skor)
DESCRIPTION:2×3’/3×2’/4×1′ (vila 1′\, set 2′) \n+ reflexjakt \n/Johan\, Rickard & Calle
URL:https://www.tullingesk.se/aktivitet/1316-skogsintervaller-lampa-ol-skor/
LOCATION:TSK-klubbstugan\, Flottiljvägen 56\, Tullinge\, 146 38\, Sweden
GEO:59.193432193406;17.901717405743
X-APPLE-STRUCTURED-LOCATION;VALUE=URI;X-ADDRESS=TSK-klubbstugan Flottiljvägen 56 Tullinge 146 38 Sweden;X-APPLE-RADIUS=500;X-TITLE=Flottiljvägen 56:geo:17.901717405743,59.193432193406
END:VEVENT
BEGIN:VEVENT
DTSTART;TZID=Europe/Stockholm:20241210T180000
DTEND;TZID=Europe/Stockholm:20241210T200000
DTSTAMP:20260421T024041
CREATED:20241021T074742Z
LAST-MODIFIED:20241209T113943Z
UID:10000907-1733853600-1733860800@www.tullingesk.se
SUMMARY:HD17: 2x 6 min + 4x 4 min\, vila 90
DESCRIPTION:Intervaller på spåret\, 2x 6 min + 4x 4 min\, vila 90
URL:https://www.tullingesk.se/aktivitet/hd17-62/
LOCATION:TSK-klubbstugan\, Flottiljvägen 56\, Tullinge\, 146 38\, Sweden
GEO:59.193432193406;17.901717405743
X-APPLE-STRUCTURED-LOCATION;VALUE=URI;X-ADDRESS=TSK-klubbstugan Flottiljvägen 56 Tullinge 146 38 Sweden;X-APPLE-RADIUS=500;X-TITLE=Flottiljvägen 56:geo:17.901717405743,59.193432193406
END:VEVENT
BEGIN:VEVENT
DTSTART;TZID=Europe/Stockholm:20241210T180000
DTEND;TZID=Europe/Stockholm:20241210T210000
DTSTAMP:20260421T024041
CREATED:20240816T073421Z
LAST-MODIFIED:20240816T073421Z
UID:10001275-1733853600-1733864400@www.tullingesk.se
SUMMARY:Soppa och städa
DESCRIPTION:Soppa: M+E Fryxell/K+E Berggren/E Nygren-Wåhlin/V Kauranen \nStäd Dam: Anna Ställberg och Ingela Hersen \nStäd Herr: Simon Imark och Lucas Arkäng
URL:https://www.tullingesk.se/aktivitet/soppa-och-stada-51/
LOCATION:TSK-klubbstugan\, Flottiljvägen 56\, Tullinge\, 146 38\, Sweden
CATEGORIES:Städvecka / tisdagssoppa
GEO:59.193432193406;17.901717405743
X-APPLE-STRUCTURED-LOCATION;VALUE=URI;X-ADDRESS=TSK-klubbstugan Flottiljvägen 56 Tullinge 146 38 Sweden;X-APPLE-RADIUS=500;X-TITLE=Flottiljvägen 56:geo:17.901717405743,59.193432193406
END:VEVENT
BEGIN:VEVENT
DTSTART;TZID=Europe/Stockholm:20241210T193000
DTEND;TZID=Europe/Stockholm:20241210T210000
DTSTAMP:20260421T024041
CREATED:20241113T073239Z
LAST-MODIFIED:20241113T073239Z
UID:10001469-1733859000-1733864400@www.tullingesk.se
SUMMARY:EK-möte i lilla rummet vid entrén
DESCRIPTION:Månatliga EK-mötet
URL:https://www.tullingesk.se/aktivitet/ek-mote-i-lilla-rummet-vid-entren/
LOCATION:TSK-klubbstugan\, Flottiljvägen 56\, Tullinge\, 146 38\, Sweden
CATEGORIES:Elitkommittén
GEO:59.193432193406;17.901717405743
X-APPLE-STRUCTURED-LOCATION;VALUE=URI;X-ADDRESS=TSK-klubbstugan Flottiljvägen 56 Tullinge 146 38 Sweden;X-APPLE-RADIUS=500;X-TITLE=Flottiljvägen 56:geo:17.901717405743,59.193432193406
END:VEVENT
BEGIN:VEVENT
DTSTART;TZID=Europe/Stockholm:20241210T194000
DTEND;TZID=Europe/Stockholm:20241210T201500
DTSTAMP:20260421T024041
CREATED:20241209T071852Z
LAST-MODIFIED:20241209T071852Z
UID:10001496-1733859600-1733861700@www.tullingesk.se
SUMMARY:Luciatågsträning i gymmet
DESCRIPTION:/Liv\, Ida & Frida
URL:https://www.tullingesk.se/aktivitet/luciatagstraning-i-gymmet-3/
LOCATION:TSK-klubbstugan\, Flottiljvägen 56\, Tullinge\, 146 38\, Sweden
GEO:59.193432193406;17.901717405743
X-APPLE-STRUCTURED-LOCATION;VALUE=URI;X-ADDRESS=TSK-klubbstugan Flottiljvägen 56 Tullinge 146 38 Sweden;X-APPLE-RADIUS=500;X-TITLE=Flottiljvägen 56:geo:17.901717405743,59.193432193406
END:VEVENT
BEGIN:VEVENT
DTSTART;TZID=Europe/Stockholm:20241212T180000
DTEND;TZID=Europe/Stockholm:20241212T185500
DTSTAMP:20260421T024041
CREATED:20241211T072100Z
LAST-MODIFIED:20241211T130809Z
UID:10001500-1734026400-1734029700@www.tullingesk.se
SUMMARY:1316: reflexbanan (lampa & ol-skor)
DESCRIPTION:Delar av reflexbanan och stiglöpning. Åter i tid till den extra lilla luciaträningen
URL:https://www.tullingesk.se/aktivitet/1316-lampa-ol-skor/
LOCATION:TSK-klubbstugan\, Flottiljvägen 56\, Tullinge\, 146 38\, Sweden
GEO:59.193432193406;17.901717405743
X-APPLE-STRUCTURED-LOCATION;VALUE=URI;X-ADDRESS=TSK-klubbstugan Flottiljvägen 56 Tullinge 146 38 Sweden;X-APPLE-RADIUS=500;X-TITLE=Flottiljvägen 56:geo:17.901717405743,59.193432193406
END:VEVENT
BEGIN:VEVENT
DTSTART;TZID=Europe/Stockholm:20241212T180000
DTEND;TZID=Europe/Stockholm:20241212T200000
DTSTAMP:20260421T024041
CREATED:20241208T144820Z
LAST-MODIFIED:20241211T212245Z
UID:10001494-1734026400-1734033600@www.tullingesk.se
SUMMARY:Torsdagsträning i skog
DESCRIPTION:Skogsrunda/ol-bana\, 7\,5/10\,5 km. \nAnsvarig: Lugo
URL:https://www.tullingesk.se/aktivitet/torsdagstraning-i-skog/
LOCATION:TSK-klubbstugan\, Flottiljvägen 56\, Tullinge\, 146 38\, Sweden
CATEGORIES:Tullinge SK
GEO:59.193432193406;17.901717405743
X-APPLE-STRUCTURED-LOCATION;VALUE=URI;X-ADDRESS=TSK-klubbstugan Flottiljvägen 56 Tullinge 146 38 Sweden;X-APPLE-RADIUS=500;X-TITLE=Flottiljvägen 56:geo:17.901717405743,59.193432193406
END:VEVENT
BEGIN:VEVENT
DTSTART;TZID=Europe/Stockholm:20241212T190000
DTEND;TZID=Europe/Stockholm:20241212T191500
DTSTAMP:20260421T024041
CREATED:20241211T072206Z
LAST-MODIFIED:20241211T072206Z
UID:10001501-1734030000-1734030900@www.tullingesk.se
SUMMARY:Luciatågsträning i klubbstugan
DESCRIPTION:/Liv\, Ida & Frida
URL:https://www.tullingesk.se/aktivitet/luciatagstraning-i-klubbstugan/
LOCATION:TSK-klubbstugan\, Flottiljvägen 56\, Tullinge\, 146 38\, Sweden
GEO:59.193432193406;17.901717405743
X-APPLE-STRUCTURED-LOCATION;VALUE=URI;X-ADDRESS=TSK-klubbstugan Flottiljvägen 56 Tullinge 146 38 Sweden;X-APPLE-RADIUS=500;X-TITLE=Flottiljvägen 56:geo:17.901717405743,59.193432193406
END:VEVENT
BEGIN:VEVENT
DTSTART;TZID=Europe/Stockholm:20241214T100000
DTEND;TZID=Europe/Stockholm:20241214T120000
DTSTAMP:20260421T024041
CREATED:20241107T183107Z
LAST-MODIFIED:20241213T185938Z
UID:10001465-1734170400-1734177600@www.tullingesk.se
SUMMARY:Tornetintervaller
DESCRIPTION:Välkomna på tornetintervaller! \nAnsvarig: Yvonne
URL:https://www.tullingesk.se/aktivitet/langpass-18/
LOCATION:TSK-klubbstugan\, Flottiljvägen 56\, Tullinge\, 146 38\, Sweden
GEO:59.193432193406;17.901717405743
X-APPLE-STRUCTURED-LOCATION;VALUE=URI;X-ADDRESS=TSK-klubbstugan Flottiljvägen 56 Tullinge 146 38 Sweden;X-APPLE-RADIUS=500;X-TITLE=Flottiljvägen 56:geo:17.901717405743,59.193432193406
END:VEVENT
BEGIN:VEVENT
DTSTART;TZID=Europe/Stockholm:20241214T150000
DTEND;TZID=Europe/Stockholm:20241214T180000
DTSTAMP:20260421T024041
CREATED:20241117T160351Z
LAST-MODIFIED:20241117T160351Z
UID:10001475-1734188400-1734199200@www.tullingesk.se
SUMMARY:Dukning inför luciafirandet
DESCRIPTION:Stugan bokad för förberedelse inför luciaracet och luciafirandet på söndag den 15:e.
URL:https://www.tullingesk.se/aktivitet/dukning-infor-luciafirandet/
LOCATION:TSK-klubbstugan\, Flottiljvägen 56\, Tullinge\, 146 38\, Sweden
CATEGORIES:Supporterklubben
GEO:59.193432193406;17.901717405743
X-APPLE-STRUCTURED-LOCATION;VALUE=URI;X-ADDRESS=TSK-klubbstugan Flottiljvägen 56 Tullinge 146 38 Sweden;X-APPLE-RADIUS=500;X-TITLE=Flottiljvägen 56:geo:17.901717405743,59.193432193406
END:VEVENT
BEGIN:VEVENT
DTSTART;TZID=Europe/Stockholm:20241215T080000
DTEND;TZID=Europe/Stockholm:20241215T150000
DTSTAMP:20260421T024041
CREATED:20240930T183515Z
LAST-MODIFIED:20240930T183515Z
UID:10001419-1734249600-1734274800@www.tullingesk.se
SUMMARY:Årets Luciarace och luciafirande
DESCRIPTION:Årets klurigaste orienteringstävling?\nEfter tävlingen firar vi traditionsenligt med luciafika\, lotterier och kanske någon hemlig gäst! \nHåll utkik på hemsidan för mer information när det närmar sig!
URL:https://www.tullingesk.se/aktivitet/arets-luciarace-och-luciafirande/
LOCATION:TSK-klubbstugan\, Flottiljvägen 56\, Tullinge\, 146 38\, Sweden
CATEGORIES:Supporterklubben
GEO:59.193432193406;17.901717405743
X-APPLE-STRUCTURED-LOCATION;VALUE=URI;X-ADDRESS=TSK-klubbstugan Flottiljvägen 56 Tullinge 146 38 Sweden;X-APPLE-RADIUS=500;X-TITLE=Flottiljvägen 56:geo:17.901717405743,59.193432193406
END:VEVENT
BEGIN:VEVENT
DTSTART;TZID=Europe/Stockholm:20241216T190000
DTEND;TZID=Europe/Stockholm:20241216T200000
DTSTAMP:20260421T024041
CREATED:20240923T070355Z
LAST-MODIFIED:20240923T070355Z
UID:10001316-1734375600-1734379200@www.tullingesk.se
SUMMARY:TSK Styrkegympa
DESCRIPTION:Tid: 19-20\nPlats: Parkhemsskolans gympahall\nVem: TSK-medlemmar\nFörkunskaper: INGA! Alla kan vara med på sin nivå!\nVad: Styrka för hela kroppen. Enkla övningar\, oftast med egna kroppen som vikt men ibland även med gummiband (finns på plats).\n\nIngen föranmälan\, bara kom!\nVÄLKOMMEN //Kristin
URL:https://www.tullingesk.se/aktivitet/tsk-styrkegympa/2024-12-16/
LOCATION:Parkhemsskolans gympahall
END:VEVENT
BEGIN:VEVENT
DTSTART;TZID=Europe/Stockholm:20241217T180000
DTEND;TZID=Europe/Stockholm:20241217T190000
DTSTAMP:20260421T024041
CREATED:20241004T171633Z
LAST-MODIFIED:20241217T102301Z
UID:10000437-1734458400-1734462000@www.tullingesk.se
SUMMARY:Grupp 4
DESCRIPTION:Inga ansvariga utsedda denna kväll! \nRekommenderar reflexslinga alternativt att leta fram en gammal bana. \nKan bli fin träning i häftigt månljus! \nGod Jul! /Mia
URL:https://www.tullingesk.se/aktivitet/grupp-4-14/
LOCATION:TSK-klubbstugan\, Flottiljvägen 56\, Tullinge\, 146 38\, Sweden
GEO:59.193432193406;17.901717405743
X-APPLE-STRUCTURED-LOCATION;VALUE=URI;X-ADDRESS=TSK-klubbstugan Flottiljvägen 56 Tullinge 146 38 Sweden;X-APPLE-RADIUS=500;X-TITLE=Flottiljvägen 56:geo:17.901717405743,59.193432193406
END:VEVENT
BEGIN:VEVENT
DTSTART;TZID=Europe/Stockholm:20241217T180000
DTEND;TZID=Europe/Stockholm:20241217T191500
DTSTAMP:20260421T024041
CREATED:20241215T153947Z
LAST-MODIFIED:20241215T153947Z
UID:10001505-1734458400-1734462900@www.tullingesk.se
SUMMARY:13-16 gruppen: Backe2000 (obs reflexväst)
DESCRIPTION:Backintervaller \nLöparskor o reflexväst
URL:https://www.tullingesk.se/aktivitet/13-16-gruppen-backe2000-obs-reflexvast/
LOCATION:TSK-klubbstugan\, Flottiljvägen 56\, Tullinge\, 146 38\, Sweden
GEO:59.193432193406;17.901717405743
X-APPLE-STRUCTURED-LOCATION;VALUE=URI;X-ADDRESS=TSK-klubbstugan Flottiljvägen 56 Tullinge 146 38 Sweden;X-APPLE-RADIUS=500;X-TITLE=Flottiljvägen 56:geo:17.901717405743,59.193432193406
END:VEVENT
BEGIN:VEVENT
DTSTART;TZID=Europe/Stockholm:20241217T180000
DTEND;TZID=Europe/Stockholm:20241217T200000
DTSTAMP:20260421T024041
CREATED:20241210T114031Z
LAST-MODIFIED:20241210T114350Z
UID:10000991-1734458400-1734465600@www.tullingesk.se
SUMMARY:HD17: Backe 3000 (12st backar)\, OBS Reflexväst behövs!
DESCRIPTION:Backintervaller på vägar\, totalt 12 st backar fördelat på tre olika delar \nOBS\, reflexväst behövs!
URL:https://www.tullingesk.se/aktivitet/hd17-63/
LOCATION:TSK-klubbstugan\, Flottiljvägen 56\, Tullinge\, 146 38\, Sweden
GEO:59.193432193406;17.901717405743
X-APPLE-STRUCTURED-LOCATION;VALUE=URI;X-ADDRESS=TSK-klubbstugan Flottiljvägen 56 Tullinge 146 38 Sweden;X-APPLE-RADIUS=500;X-TITLE=Flottiljvägen 56:geo:17.901717405743,59.193432193406
END:VEVENT
BEGIN:VEVENT
DTSTART;TZID=Europe/Stockholm:20241217T180000
DTEND;TZID=Europe/Stockholm:20241217T210000
DTSTAMP:20260421T024041
CREATED:20240816T073618Z
LAST-MODIFIED:20240816T073618Z
UID:10001276-1734458400-1734469200@www.tullingesk.se
SUMMARY:Soppa och städa
DESCRIPTION:Soppa: K+P Bergh/Å Hansson/H Trofast/U Hanning \nStäd Dam: Sofia Sundström och Julia Pütsep \nStäd Herr: Olle Andersson och Tintin Karlberg
URL:https://www.tullingesk.se/aktivitet/soppa-och-stada-52/
LOCATION:TSK-klubbstugan\, Flottiljvägen 56\, Tullinge\, 146 38\, Sweden
CATEGORIES:Städvecka / tisdagssoppa
GEO:59.193432193406;17.901717405743
X-APPLE-STRUCTURED-LOCATION;VALUE=URI;X-ADDRESS=TSK-klubbstugan Flottiljvägen 56 Tullinge 146 38 Sweden;X-APPLE-RADIUS=500;X-TITLE=Flottiljvägen 56:geo:17.901717405743,59.193432193406
END:VEVENT
BEGIN:VEVENT
DTSTART;TZID=Europe/Stockholm:20241217T194500
DTEND;TZID=Europe/Stockholm:20241217T210000
DTSTAMP:20260421T024041
CREATED:20241209T072559Z
LAST-MODIFIED:20241209T072559Z
UID:10001497-1734464700-1734469200@www.tullingesk.se
SUMMARY:Ungkom möte - bokar mötesrummet vid entrén
DESCRIPTION:
URL:https://www.tullingesk.se/aktivitet/ungkom-mote-bokar-motesrummet-vid-entren/
LOCATION:TSK-klubbstugan\, Flottiljvägen 56\, Tullinge\, 146 38\, Sweden
GEO:59.193432193406;17.901717405743
X-APPLE-STRUCTURED-LOCATION;VALUE=URI;X-ADDRESS=TSK-klubbstugan Flottiljvägen 56 Tullinge 146 38 Sweden;X-APPLE-RADIUS=500;X-TITLE=Flottiljvägen 56:geo:17.901717405743,59.193432193406
END:VEVENT
BEGIN:VEVENT
DTSTART;TZID=Europe/Stockholm:20241218T180000
DTEND;TZID=Europe/Stockholm:20241218T210000
DTSTAMP:20260421T024041
CREATED:20241212T072401Z
LAST-MODIFIED:20241212T072401Z
UID:10001502-1734544800-1734555600@www.tullingesk.se
SUMMARY:Snättringe Nattcup Flottsbro
DESCRIPTION:https://eventor.orientering.se/Events/Show/51510
URL:https://www.tullingesk.se/aktivitet/snattringe-nattcup-flottsbro/
END:VEVENT
BEGIN:VEVENT
DTSTART;TZID=Europe/Stockholm:20241219T180000
DTEND;TZID=Europe/Stockholm:20241219T190000
DTSTAMP:20260421T024041
CREATED:20241218T182720Z
LAST-MODIFIED:20241218T182720Z
UID:10001506-1734631200-1734634800@www.tullingesk.se
SUMMARY:13-16: jogg + springskytte (lampa+ol-skor)
DESCRIPTION:Jogg/lätt distans ca 25 min (spåret) + springskytte \nLampa och ol-skor \n 
URL:https://www.tullingesk.se/aktivitet/13-16-jogg-springskytte-lampaol-skor/
LOCATION:TSK-klubbstugan\, Flottiljvägen 56\, Tullinge\, 146 38\, Sweden
GEO:59.193432193406;17.901717405743
X-APPLE-STRUCTURED-LOCATION;VALUE=URI;X-ADDRESS=TSK-klubbstugan Flottiljvägen 56 Tullinge 146 38 Sweden;X-APPLE-RADIUS=500;X-TITLE=Flottiljvägen 56:geo:17.901717405743,59.193432193406
END:VEVENT
BEGIN:VEVENT
DTSTART;TZID=Europe/Stockholm:20241221T100000
DTEND;TZID=Europe/Stockholm:20241221T120000
DTSTAMP:20260421T024041
CREATED:20241107T183211Z
LAST-MODIFIED:20241107T183211Z
UID:10001466-1734775200-1734782400@www.tullingesk.se
SUMMARY:Lördagsbacke
DESCRIPTION:Ansvarig: Axel\, Viktor mfl juniorgrabbar
URL:https://www.tullingesk.se/aktivitet/lordagsbacke-2/
LOCATION:TSK-klubbstugan\, Flottiljvägen 56\, Tullinge\, 146 38\, Sweden
GEO:59.193432193406;17.901717405743
X-APPLE-STRUCTURED-LOCATION;VALUE=URI;X-ADDRESS=TSK-klubbstugan Flottiljvägen 56 Tullinge 146 38 Sweden;X-APPLE-RADIUS=500;X-TITLE=Flottiljvägen 56:geo:17.901717405743,59.193432193406
END:VEVENT
BEGIN:VEVENT
DTSTART;TZID=Europe/Stockholm:20241222T100000
DTEND;TZID=Europe/Stockholm:20241222T120000
DTSTAMP:20260421T024041
CREATED:20241107T181143Z
LAST-MODIFIED:20241221T110842Z
UID:10001456-1734861600-1734868800@www.tullingesk.se
SUMMARY:Långpass från Stendalsbadet
DESCRIPTION:Banor mellan 5\,5-17\,5 km med varierad bansträckning. Finns goda möjligheter till att springa på fina områden och om vi har tur så tittar solen fram lite också. \nAnsvariga: Emil och Albin
URL:https://www.tullingesk.se/aktivitet/langpass-14/
LOCATION:Stendalsbadet\, Stendalsvägen\, Tullinge\, 14652\, Sweden
GEO:59.222665;17.88467
X-APPLE-STRUCTURED-LOCATION;VALUE=URI;X-ADDRESS=Stendalsbadet Stendalsvägen Tullinge 14652 Sweden;X-APPLE-RADIUS=500;X-TITLE=Stendalsvägen:geo:17.88467,59.222665
END:VEVENT
BEGIN:VEVENT
DTSTART;TZID=Europe/Stockholm:20241223T190000
DTEND;TZID=Europe/Stockholm:20241223T200000
DTSTAMP:20260421T024041
CREATED:20241216T194003Z
LAST-MODIFIED:20241216T194003Z
UID:10001317-1734980400-1734984000@www.tullingesk.se
SUMMARY:TSK Styrkegympa -INSTÄLLT pga JULLOV
DESCRIPTION:Tid: 19-20\nPlats: Parkhemsskolans gympahall\nVem: TSK-medlemmar\nFörkunskaper: INGA! Alla kan vara med på sin nivå!\nVad: Styrka för hela kroppen. Enkla övningar\, oftast med egna kroppen som vikt men ibland även med gummiband (finns på plats).\n\nIngen föranmälan\, bara kom!\nVÄLKOMMEN //Kristin
URL:https://www.tullingesk.se/aktivitet/tsk-styrkegympa-4/
LOCATION:Parkhemsskolans gympahall
END:VEVENT
BEGIN:VEVENT
DTSTART;TZID=Europe/Stockholm:20241224T180000
DTEND;TZID=Europe/Stockholm:20241224T200000
DTSTAMP:20260421T024041
CREATED:20241210T114017Z
LAST-MODIFIED:20241210T114017Z
UID:10000976-1735063200-1735070400@www.tullingesk.se
SUMMARY:HD17
DESCRIPTION:
URL:https://www.tullingesk.se/aktivitet/hd17-57/
LOCATION:TSK-klubbstugan\, Flottiljvägen 56\, Tullinge\, 146 38\, Sweden
GEO:59.193432193406;17.901717405743
X-APPLE-STRUCTURED-LOCATION;VALUE=URI;X-ADDRESS=TSK-klubbstugan Flottiljvägen 56 Tullinge 146 38 Sweden;X-APPLE-RADIUS=500;X-TITLE=Flottiljvägen 56:geo:17.901717405743,59.193432193406
END:VEVENT
BEGIN:VEVENT
DTSTART;TZID=Europe/Stockholm:20241226T100000
DTEND;TZID=Europe/Stockholm:20241226T120000
DTSTAMP:20260421T024041
CREATED:20241223T164303Z
LAST-MODIFIED:20241223T164634Z
UID:10001507-1735207200-1735214400@www.tullingesk.se
SUMMARY:Intervaller på Testbanan
DESCRIPTION:Kör intervall/intervaller på testbanan\, 1-3 varv. \nAvlöp 10:00 klubbstugan
URL:https://www.tullingesk.se/aktivitet/testbanan-2/
LOCATION:TSK-klubbstugan\, Flottiljvägen 56\, Tullinge\, 146 38\, Sweden
GEO:59.193432193406;17.901717405743
X-APPLE-STRUCTURED-LOCATION;VALUE=URI;X-ADDRESS=TSK-klubbstugan Flottiljvägen 56 Tullinge 146 38 Sweden;X-APPLE-RADIUS=500;X-TITLE=Flottiljvägen 56:geo:17.901717405743,59.193432193406
END:VEVENT
BEGIN:VEVENT
DTSTART;TZID=Europe/Stockholm:20241230T190000
DTEND;TZID=Europe/Stockholm:20241230T200000
DTSTAMP:20260421T024041
CREATED:20241216T194117Z
LAST-MODIFIED:20241216T194117Z
UID:10001318-1735585200-1735588800@www.tullingesk.se
SUMMARY:TSK Styrkegympa -INSTÄLLT pga JULLOV
DESCRIPTION:Tid: 19-20\nPlats: Parkhemsskolans gympahall\nVem: TSK-medlemmar\nFörkunskaper: INGA! Alla kan vara med på sin nivå!\nVad: Styrka för hela kroppen. Enkla övningar\, oftast med egna kroppen som vikt men ibland även med gummiband (finns på plats).\n\nIngen föranmälan\, bara kom!\nVÄLKOMMEN //Kristin
URL:https://www.tullingesk.se/aktivitet/tsk-styrkegympa-5/
LOCATION:Parkhemsskolans gympahall
END:VEVENT
BEGIN:VEVENT
DTSTART;TZID=Europe/Stockholm:20250104T100000
DTEND;TZID=Europe/Stockholm:20250104T120000
DTSTAMP:20260421T024041
CREATED:20241227T143755Z
LAST-MODIFIED:20241227T150851Z
UID:10001508-1735984800-1735992000@www.tullingesk.se
SUMMARY:Testbanan
DESCRIPTION:Ansvarig: Matthew
URL:https://www.tullingesk.se/aktivitet/testbanan-3/
LOCATION:TSK-klubbstugan\, Flottiljvägen 56\, Tullinge\, 146 38\, Sweden
GEO:59.193432193406;17.901717405743
X-APPLE-STRUCTURED-LOCATION;VALUE=URI;X-ADDRESS=TSK-klubbstugan Flottiljvägen 56 Tullinge 146 38 Sweden;X-APPLE-RADIUS=500;X-TITLE=Flottiljvägen 56:geo:17.901717405743,59.193432193406
END:VEVENT
BEGIN:VEVENT
DTSTART;TZID=Europe/Stockholm:20250105T100000
DTEND;TZID=Europe/Stockholm:20250105T120000
DTSTAMP:20260421T024041
CREATED:20241227T143912Z
LAST-MODIFIED:20250104T113926Z
UID:10001509-1736071200-1736078400@www.tullingesk.se
SUMMARY:Långpass från klubbstugan
DESCRIPTION:Banlängder 7.2 – 16.8 km \nAnsvarig: Simon
URL:https://www.tullingesk.se/aktivitet/langpass-19/
LOCATION:TSK-klubbstugan\, Flottiljvägen 56\, Tullinge\, 146 38\, Sweden
GEO:59.193432193406;17.901717405743
X-APPLE-STRUCTURED-LOCATION;VALUE=URI;X-ADDRESS=TSK-klubbstugan Flottiljvägen 56 Tullinge 146 38 Sweden;X-APPLE-RADIUS=500;X-TITLE=Flottiljvägen 56:geo:17.901717405743,59.193432193406
END:VEVENT
END:VCALENDAR