BEGIN:VCALENDAR
VERSION:2.0
PRODID:-//Tullinge SK - ECPv6.15.20//NONSGML v1.0//EN
CALSCALE:GREGORIAN
METHOD:PUBLISH
X-WR-CALNAME:Tullinge SK
X-ORIGINAL-URL:https://www.tullingesk.se
X-WR-CALDESC:Händelser för Tullinge SK
REFRESH-INTERVAL;VALUE=DURATION:PT1H
X-Robots-Tag:noindex
X-PUBLISHED-TTL:PT1H
BEGIN:VTIMEZONE
TZID:Europe/Stockholm
BEGIN:DAYLIGHT
TZOFFSETFROM:+0100
TZOFFSETTO:+0200
TZNAME:CEST
DTSTART:20230326T010000
END:DAYLIGHT
BEGIN:STANDARD
TZOFFSETFROM:+0200
TZOFFSETTO:+0100
TZNAME:CET
DTSTART:20231029T010000
END:STANDARD
BEGIN:DAYLIGHT
TZOFFSETFROM:+0100
TZOFFSETTO:+0200
TZNAME:CEST
DTSTART:20240331T010000
END:DAYLIGHT
BEGIN:STANDARD
TZOFFSETFROM:+0200
TZOFFSETTO:+0100
TZNAME:CET
DTSTART:20241027T010000
END:STANDARD
BEGIN:DAYLIGHT
TZOFFSETFROM:+0100
TZOFFSETTO:+0200
TZNAME:CEST
DTSTART:20250330T010000
END:DAYLIGHT
BEGIN:STANDARD
TZOFFSETFROM:+0200
TZOFFSETTO:+0100
TZNAME:CET
DTSTART:20251026T010000
END:STANDARD
END:VTIMEZONE
BEGIN:VEVENT
DTSTART;TZID=Europe/Stockholm:20240630T000000
DTEND;TZID=Europe/Stockholm:20240630T000000
DTSTAMP:20260422T005510
CREATED:20240503T133316Z
LAST-MODIFIED:20240503T133316Z
UID:10001219-1719705600-1719705600@www.tullingesk.se
SUMMARY:SprintSM stafett kval/final
DESCRIPTION: 
URL:https://www.tullingesk.se/aktivitet/sprintsm-stafett-kval-final/
LOCATION:TSK-klubbstugan\, Flottiljvägen 56\, Tullinge\, 146 38\, Sweden
CATEGORIES:Elitkommittén
GEO:59.193432193406;17.901717405743
X-APPLE-STRUCTURED-LOCATION;VALUE=URI;X-ADDRESS=TSK-klubbstugan Flottiljvägen 56 Tullinge 146 38 Sweden;X-APPLE-RADIUS=500;X-TITLE=Flottiljvägen 56:geo:17.901717405743,59.193432193406
END:VEVENT
BEGIN:VEVENT
DTSTART;VALUE=DATE:20240629
DTEND;VALUE=DATE:20240630
DTSTAMP:20260422T005510
CREATED:20240202T110946Z
LAST-MODIFIED:20240202T110946Z
UID:10000800-1719619200-1719705599@www.tullingesk.se
SUMMARY:SM\, sprint (Swedish League\, #6)
DESCRIPTION:
URL:https://www.tullingesk.se/aktivitet/sm-sprint-swedish-league-6/
CATEGORIES:Orienteringstävling
END:VEVENT
BEGIN:VEVENT
DTSTART;VALUE=DATE:20240629
DTEND;VALUE=DATE:20240630
DTSTAMP:20260422T005510
CREATED:20240202T110409Z
LAST-MODIFIED:20240202T110409Z
UID:10000772-1719619200-1719705599@www.tullingesk.se
SUMMARY:Havs-OL\, dag 1\, sprint
DESCRIPTION:
URL:https://www.tullingesk.se/aktivitet/havs-ol-dag-1-sprint/
CATEGORIES:Orienteringstävling
END:VEVENT
BEGIN:VEVENT
DTSTART;TZID=Europe/Stockholm:20240629T000000
DTEND;TZID=Europe/Stockholm:20240629T000000
DTSTAMP:20260422T005510
CREATED:20240503T133222Z
LAST-MODIFIED:20240503T133222Z
UID:10001218-1719619200-1719619200@www.tullingesk.se
SUMMARY:Sprint SM kval/final Västerås
DESCRIPTION:
URL:https://www.tullingesk.se/aktivitet/sprint-sm-kval-final-vasteras/
LOCATION:TSK-klubbstugan\, Flottiljvägen 56\, Tullinge\, 146 38\, Sweden
GEO:59.193432193406;17.901717405743
X-APPLE-STRUCTURED-LOCATION;VALUE=URI;X-ADDRESS=TSK-klubbstugan Flottiljvägen 56 Tullinge 146 38 Sweden;X-APPLE-RADIUS=500;X-TITLE=Flottiljvägen 56:geo:17.901717405743,59.193432193406
END:VEVENT
BEGIN:VEVENT
DTSTART;VALUE=DATE:20240628
DTEND;VALUE=DATE:20240701
DTSTAMP:20260422T005510
CREATED:20240202T110224Z
LAST-MODIFIED:20240202T110224Z
UID:10000749-1719532800-1719791999@www.tullingesk.se
SUMMARY:3+3 i Sälen
DESCRIPTION:
URL:https://www.tullingesk.se/aktivitet/33-i-salen/
CATEGORIES:Orienteringstävling
END:VEVENT
BEGIN:VEVENT
DTSTART;TZID=Europe/Stockholm:20240625T180000
DTEND;TZID=Europe/Stockholm:20240625T190000
DTSTAMP:20260422T005510
CREATED:20240613T200119Z
LAST-MODIFIED:20240613T200120Z
UID:10000412-1719338400-1719342000@www.tullingesk.se
SUMMARY:Grupp 4
DESCRIPTION:Ingen organiserad träning
URL:https://www.tullingesk.se/aktivitet/grupp-4-2-40/
LOCATION:TSK-klubbstugan\, Flottiljvägen 56\, Tullinge\, 146 38\, Sweden
GEO:59.193432193406;17.901717405743
X-APPLE-STRUCTURED-LOCATION;VALUE=URI;X-ADDRESS=TSK-klubbstugan Flottiljvägen 56 Tullinge 146 38 Sweden;X-APPLE-RADIUS=500;X-TITLE=Flottiljvägen 56:geo:17.901717405743,59.193432193406
END:VEVENT
BEGIN:VEVENT
DTSTART;VALUE=DATE:20240625
DTEND;VALUE=DATE:20240628
DTSTAMP:20260422T005510
CREATED:20240202T110946Z
LAST-MODIFIED:20240202T110946Z
UID:10000802-1719273600-1719532799@www.tullingesk.se
SUMMARY:Idrefjällens 3-dagars
DESCRIPTION:
URL:https://www.tullingesk.se/aktivitet/idrefjallens-3-dagars/
CATEGORIES:Orienteringstävling
END:VEVENT
BEGIN:VEVENT
DTSTART;TZID=Europe/Stockholm:20240618T180000
DTEND;TZID=Europe/Stockholm:20240618T200000
DTSTAMP:20260422T005510
CREATED:20240609T172934Z
LAST-MODIFIED:20240617T064236Z
UID:10000954-1718733600-1718740800@www.tullingesk.se
SUMMARY:HD17: Spårlöpning 60-75 min
DESCRIPTION:Vi låter benen rulla efter helgen och kör en distansrunda på spåret i 60-75 min
URL:https://www.tullingesk.se/aktivitet/hd17-44/
LOCATION:TSK-klubbstugan\, Flottiljvägen 56\, Tullinge\, 146 38\, Sweden
GEO:59.193432193406;17.901717405743
X-APPLE-STRUCTURED-LOCATION;VALUE=URI;X-ADDRESS=TSK-klubbstugan Flottiljvägen 56 Tullinge 146 38 Sweden;X-APPLE-RADIUS=500;X-TITLE=Flottiljvägen 56:geo:17.901717405743,59.193432193406
END:VEVENT
BEGIN:VEVENT
DTSTART;TZID=Europe/Stockholm:20240618T180000
DTEND;TZID=Europe/Stockholm:20240618T191500
DTSTAMP:20260422T005510
CREATED:20240617T150024Z
LAST-MODIFIED:20240617T150024Z
UID:10001246-1718733600-1718738100@www.tullingesk.se
SUMMARY:13-16: springskytte mm
DESCRIPTION:Ol skor!
URL:https://www.tullingesk.se/aktivitet/13-16-springskytte-mm/
LOCATION:TSK-klubbstugan\, Flottiljvägen 56\, Tullinge\, 146 38\, Sweden
GEO:59.193432193406;17.901717405743
X-APPLE-STRUCTURED-LOCATION;VALUE=URI;X-ADDRESS=TSK-klubbstugan Flottiljvägen 56 Tullinge 146 38 Sweden;X-APPLE-RADIUS=500;X-TITLE=Flottiljvägen 56:geo:17.901717405743,59.193432193406
END:VEVENT
BEGIN:VEVENT
DTSTART;TZID=Europe/Stockholm:20240618T180000
DTEND;TZID=Europe/Stockholm:20240618T190000
DTSTAMP:20260422T005510
CREATED:20240602T191552Z
LAST-MODIFIED:20240610T080506Z
UID:10000411-1718733600-1718737200@www.tullingesk.se
SUMMARY:Grupp 4
DESCRIPTION:v25 P-A Forsberg \nOrienteringsbana 5\,2km\, 15 kontroller utmärkta med små skärmar\, som går att korta av.
URL:https://www.tullingesk.se/aktivitet/grupp-4-2-38/
LOCATION:TSK-klubbstugan\, Flottiljvägen 56\, Tullinge\, 146 38\, Sweden
GEO:59.193432193406;17.901717405743
X-APPLE-STRUCTURED-LOCATION;VALUE=URI;X-ADDRESS=TSK-klubbstugan Flottiljvägen 56 Tullinge 146 38 Sweden;X-APPLE-RADIUS=500;X-TITLE=Flottiljvägen 56:geo:17.901717405743,59.193432193406
END:VEVENT
BEGIN:VEVENT
DTSTART;TZID=Europe/Stockholm:20240617T190000
DTEND;TZID=Europe/Stockholm:20240617T200000
DTSTAMP:20260422T005510
CREATED:20240613T064118Z
LAST-MODIFIED:20240613T064118Z
UID:10001245-1718650800-1718654400@www.tullingesk.se
SUMMARY:Möte Cykelkom
DESCRIPTION:Styrelserummet
URL:https://www.tullingesk.se/aktivitet/mote-cykelkom/
LOCATION:TSK-klubbstugan\, Flottiljvägen 56\, Tullinge\, 146 38\, Sweden
GEO:59.193432193406;17.901717405743
X-APPLE-STRUCTURED-LOCATION;VALUE=URI;X-ADDRESS=TSK-klubbstugan Flottiljvägen 56 Tullinge 146 38 Sweden;X-APPLE-RADIUS=500;X-TITLE=Flottiljvägen 56:geo:17.901717405743,59.193432193406
END:VEVENT
BEGIN:VEVENT
DTSTART;TZID=Europe/Stockholm:20240615T130000
DTEND;TZID=Europe/Stockholm:20240616T100000
DTSTAMP:20260422T005510
CREATED:20240307T162147Z
LAST-MODIFIED:20240307T162147Z
UID:10000876-1718456400-1718532000@www.tullingesk.se
SUMMARY:Stugan uthyrd/Mira Nyberg
DESCRIPTION:Stugan uthyrd/Mira Nyberg
URL:https://www.tullingesk.se/aktivitet/stugan-uthyrd-mira-nyberg/
LOCATION:TSK-klubbstugan\, Flottiljvägen 56\, Tullinge\, 146 38\, Sweden
CATEGORIES:Uthyrning klubbstugan
GEO:59.193432193406;17.901717405743
X-APPLE-STRUCTURED-LOCATION;VALUE=URI;X-ADDRESS=TSK-klubbstugan Flottiljvägen 56 Tullinge 146 38 Sweden;X-APPLE-RADIUS=500;X-TITLE=Flottiljvägen 56:geo:17.901717405743,59.193432193406
END:VEVENT
BEGIN:VEVENT
DTSTART;TZID=Europe/Stockholm:20240615T000000
DTEND;TZID=Europe/Stockholm:20240616T000000
DTSTAMP:20260422T005510
CREATED:20240503T131913Z
LAST-MODIFIED:20240503T131913Z
UID:10001212-1718409600-1718496000@www.tullingesk.se
SUMMARY:Jukola/Venla
DESCRIPTION:
URL:https://www.tullingesk.se/aktivitet/jukola-venla/
LOCATION:TSK-klubbstugan\, Flottiljvägen 56\, Tullinge\, 146 38\, Sweden
GEO:59.193432193406;17.901717405743
X-APPLE-STRUCTURED-LOCATION;VALUE=URI;X-ADDRESS=TSK-klubbstugan Flottiljvägen 56 Tullinge 146 38 Sweden;X-APPLE-RADIUS=500;X-TITLE=Flottiljvägen 56:geo:17.901717405743,59.193432193406
END:VEVENT
BEGIN:VEVENT
DTSTART;TZID=Europe/Stockholm:20240613T180000
DTEND;TZID=Europe/Stockholm:20240613T203000
DTSTAMP:20260422T005510
CREATED:20240609T170116Z
LAST-MODIFIED:20240609T201221Z
UID:10001237-1718301600-1718310600@www.tullingesk.se
SUMMARY:Teknikträning Svartviksskogen
DESCRIPTION:Teknikträning sydsam orange+svart i Svartviksskogen Högmora. \nAnmälan senast onsdag kl 16:00 via https://eventor.orientering.se/Activities/Show/21197 \nSamling: Högmora förskola\, parkeringen.https://maps.app.goo.gl/UJumiQ1tDfLJ8sts8.  \nLite ont om parkering på själva p-platsen\, när den blir full går det bra att parkera längs\nSödervägen (men blockera inga in- och utfarter). \nBanor: \nOBS Inga vita och gula-banor\nOrange 4\,2 km (avkortningsbar)\nSvart 6\,5 km (avkortningsbar)\nKontrollerna markeras med småskärmar. \nTema:\nBåde orange och svart bana har momentbana i tekniskt intensiv terräng\nMoment 1: Kontrollplock. Banorna inleds med kontrollplock med mycket riktningsändring. Var noga\nmed riktningen ut från kontrollen och se till att hänga med hela vägen.\nAvslappningssträcka: Efter kontrollplocken följer en enkel sträcka där du kan slappna av i din\norientering. Samla ny kraft inför nästa del av banan.\nMoment 2: Korridor-OL. En trixig korridor som kräver din fulla uppmärksamhet. Jobba hela tiden\nmed både karta och kompass för att hålla dig inne i korridoren.\nMoment 3: Riktning. Banorna avslutas med några kontroller där du kan släppa på lite mer och jobba\nmed att hålla riktningen. \nEn ungdomsledare kommer att köra en orange-bana i grupp för de som vill ha sällskap. \nKartor i filarkivet för den som vill träna annan tid under veckan.
URL:https://www.tullingesk.se/aktivitet/tekniktraning-2/
END:VEVENT
BEGIN:VEVENT
DTSTART;TZID=Europe/Stockholm:20240612T000000
DTEND;TZID=Europe/Stockholm:20240614T000000
DTSTAMP:20260422T005510
CREATED:20240503T132118Z
LAST-MODIFIED:20240503T132118Z
UID:10001213-1718150400-1718323200@www.tullingesk.se
SUMMARY:Jukola läger
DESCRIPTION:
URL:https://www.tullingesk.se/aktivitet/jukola-lager/
LOCATION:TSK-klubbstugan\, Flottiljvägen 56\, Tullinge\, 146 38\, Sweden
GEO:59.193432193406;17.901717405743
X-APPLE-STRUCTURED-LOCATION;VALUE=URI;X-ADDRESS=TSK-klubbstugan Flottiljvägen 56 Tullinge 146 38 Sweden;X-APPLE-RADIUS=500;X-TITLE=Flottiljvägen 56:geo:17.901717405743,59.193432193406
END:VEVENT
BEGIN:VEVENT
DTSTART;TZID=Europe/Stockholm:20240611T193000
DTEND;TZID=Europe/Stockholm:20240611T210000
DTSTAMP:20260422T005510
CREATED:20240515T115641Z
LAST-MODIFIED:20240515T115641Z
UID:10001226-1718134200-1718139600@www.tullingesk.se
SUMMARY:EK-möte i mötesrummet vid entrén
DESCRIPTION:Månatliga mötet för Elitkommittén
URL:https://www.tullingesk.se/aktivitet/ek-mote-i-motesrummet-vid-entren/
LOCATION:TSK-klubbstugan\, Flottiljvägen 56\, Tullinge\, 146 38\, Sweden
GEO:59.193432193406;17.901717405743
X-APPLE-STRUCTURED-LOCATION;VALUE=URI;X-ADDRESS=TSK-klubbstugan Flottiljvägen 56 Tullinge 146 38 Sweden;X-APPLE-RADIUS=500;X-TITLE=Flottiljvägen 56:geo:17.901717405743,59.193432193406
END:VEVENT
BEGIN:VEVENT
DTSTART;TZID=Europe/Stockholm:20240611T180000
DTEND;TZID=Europe/Stockholm:20240611T210000
DTSTAMP:20260422T005510
CREATED:20240428T074334Z
LAST-MODIFIED:20240428T074334Z
UID:10001202-1718128800-1718139600@www.tullingesk.se
SUMMARY:Soppa och städa
DESCRIPTION:Soppa: J+S Lönnkvist/I Åkerman/C Eriksson/A Riseth/R Grankvist \nStäd Dam: Carina Stensson och Gunilla Eriksson \nStäd Herr: Björn Nybäck och Jörgen Däckfors
URL:https://www.tullingesk.se/aktivitet/soppa-och-stada-34/
LOCATION:TSK-klubbstugan\, Flottiljvägen 56\, Tullinge\, 146 38\, Sweden
GEO:59.193432193406;17.901717405743
X-APPLE-STRUCTURED-LOCATION;VALUE=URI;X-ADDRESS=TSK-klubbstugan Flottiljvägen 56 Tullinge 146 38 Sweden;X-APPLE-RADIUS=500;X-TITLE=Flottiljvägen 56:geo:17.901717405743,59.193432193406
END:VEVENT
BEGIN:VEVENT
DTSTART;TZID=Europe/Stockholm:20240611T180000
DTEND;TZID=Europe/Stockholm:20240611T200000
DTSTAMP:20260422T005510
CREATED:20240609T172928Z
LAST-MODIFIED:20240609T174039Z
UID:10001183-1718128800-1718136000@www.tullingesk.se
SUMMARY:HD17: Intervaller 6x(2+1) vila 60
DESCRIPTION:Intervaller på spåret\, 6x(2+1) vila 60
URL:https://www.tullingesk.se/aktivitet/hd17-40/
LOCATION:TSK-klubbstugan\, Flottiljvägen 56\, Tullinge\, 146 38\, Sweden
GEO:59.193432193406;17.901717405743
X-APPLE-STRUCTURED-LOCATION;VALUE=URI;X-ADDRESS=TSK-klubbstugan Flottiljvägen 56 Tullinge 146 38 Sweden;X-APPLE-RADIUS=500;X-TITLE=Flottiljvägen 56:geo:17.901717405743,59.193432193406
END:VEVENT
BEGIN:VEVENT
DTSTART;TZID=Europe/Stockholm:20240611T180000
DTEND;TZID=Europe/Stockholm:20240611T193000
DTSTAMP:20260422T005510
CREATED:20240609T200643Z
LAST-MODIFIED:20240609T200643Z
UID:10001238-1718128800-1718134200@www.tullingesk.se
SUMMARY:1316-gruppen: intervaller skog
DESCRIPTION:2x8x30″ (vila 30″\, set 3′) \nOL-skor \n(Johan)
URL:https://www.tullingesk.se/aktivitet/1316-gruppen-intervaller-skog/
LOCATION:TSK-klubbstugan\, Flottiljvägen 56\, Tullinge\, 146 38\, Sweden
CATEGORIES:Ungdomskommittén
GEO:59.193432193406;17.901717405743
X-APPLE-STRUCTURED-LOCATION;VALUE=URI;X-ADDRESS=TSK-klubbstugan Flottiljvägen 56 Tullinge 146 38 Sweden;X-APPLE-RADIUS=500;X-TITLE=Flottiljvägen 56:geo:17.901717405743,59.193432193406
END:VEVENT
BEGIN:VEVENT
DTSTART;TZID=Europe/Stockholm:20240611T180000
DTEND;TZID=Europe/Stockholm:20240611T190000
DTSTAMP:20260422T005510
CREATED:20240602T191502Z
LAST-MODIFIED:20240610T080356Z
UID:10000410-1718128800-1718132400@www.tullingesk.se
SUMMARY:Grupp 4
DESCRIPTION:v24 P-A Forsberg \nOrienteringsbana 5\,2km\, 11 kontroller utmärkta med små skärmar\, som går att korta av.
URL:https://www.tullingesk.se/aktivitet/grupp-4-2-37/
LOCATION:TSK-klubbstugan\, Flottiljvägen 56\, Tullinge\, 146 38\, Sweden
GEO:59.193432193406;17.901717405743
X-APPLE-STRUCTURED-LOCATION;VALUE=URI;X-ADDRESS=TSK-klubbstugan Flottiljvägen 56 Tullinge 146 38 Sweden;X-APPLE-RADIUS=500;X-TITLE=Flottiljvägen 56:geo:17.901717405743,59.193432193406
END:VEVENT
BEGIN:VEVENT
DTSTART;TZID=Europe/Stockholm:20240610T173000
DTEND;TZID=Europe/Stockholm:20240610T210000
DTSTAMP:20260422T005510
CREATED:20240527T183248Z
LAST-MODIFIED:20240527T183248Z
UID:10001233-1718040600-1718053200@www.tullingesk.se
SUMMARY:Storstuga\, kök bokad/ Ungdomskomm. Åsa F
DESCRIPTION:
URL:https://www.tullingesk.se/aktivitet/storstuga-kok-bokad-ungdomskomm-asa-f/
LOCATION:TSK-klubbstugan\, Flottiljvägen 56\, Tullinge\, 146 38\, Sweden
CATEGORIES:Uthyrning klubbstugan
GEO:59.193432193406;17.901717405743
X-APPLE-STRUCTURED-LOCATION;VALUE=URI;X-ADDRESS=TSK-klubbstugan Flottiljvägen 56 Tullinge 146 38 Sweden;X-APPLE-RADIUS=500;X-TITLE=Flottiljvägen 56:geo:17.901717405743,59.193432193406
END:VEVENT
BEGIN:VEVENT
DTSTART;VALUE=DATE:20240609
DTEND;VALUE=DATE:20240610
DTSTAMP:20260422T005510
CREATED:20240202T111556Z
LAST-MODIFIED:20240202T111556Z
UID:10000831-1717891200-1717977599@www.tullingesk.se
SUMMARY:MTBO\, Svenska cupen\, #5\, medel
DESCRIPTION:
URL:https://www.tullingesk.se/aktivitet/mtbo-svenska-cupen-5-medel/
CATEGORIES:Orienteringstävling
END:VEVENT
BEGIN:VEVENT
DTSTART;VALUE=DATE:20240609
DTEND;VALUE=DATE:20240610
DTSTAMP:20260422T005510
CREATED:20240202T110309Z
LAST-MODIFIED:20240202T110309Z
UID:10000761-1717891200-1717977599@www.tullingesk.se
SUMMARY:Ösaträffen\, dag 4\, lång
DESCRIPTION:
URL:https://www.tullingesk.se/aktivitet/osatraffen-dag-4-lang/
CATEGORIES:Orienteringstävling
END:VEVENT
BEGIN:VEVENT
DTSTART;VALUE=DATE:20240609
DTEND;VALUE=DATE:20240610
DTSTAMP:20260422T005510
CREATED:20240202T110254Z
LAST-MODIFIED:20240202T110254Z
UID:10000754-1717891200-1717977599@www.tullingesk.se
SUMMARY:Västerbottens 3-dagars\, etapp 3\, medel
DESCRIPTION:
URL:https://www.tullingesk.se/aktivitet/vasterbottens-3-dagars-etapp-3-medel/
CATEGORIES:Orienteringstävling
END:VEVENT
BEGIN:VEVENT
DTSTART;VALUE=DATE:20240608
DTEND;VALUE=DATE:20240609
DTSTAMP:20260422T005510
CREATED:20240202T111555Z
LAST-MODIFIED:20240202T111555Z
UID:10000830-1717804800-1717891199@www.tullingesk.se
SUMMARY:MTBO\, Svenska cupen\, #4\, sprint
DESCRIPTION:
URL:https://www.tullingesk.se/aktivitet/mtbo-svenska-cupen-4-sprint/
CATEGORIES:Orienteringstävling
END:VEVENT
BEGIN:VEVENT
DTSTART;VALUE=DATE:20240608
DTEND;VALUE=DATE:20240609
DTSTAMP:20260422T005510
CREATED:20240202T110309Z
LAST-MODIFIED:20240202T110309Z
UID:10000759-1717804800-1717891199@www.tullingesk.se
SUMMARY:Ösaträffen\, dag 3\, medel
DESCRIPTION:
URL:https://www.tullingesk.se/aktivitet/osatraffen-dag-3-medel/
CATEGORIES:Orienteringstävling
END:VEVENT
BEGIN:VEVENT
DTSTART;VALUE=DATE:20240608
DTEND;VALUE=DATE:20240609
DTSTAMP:20260422T005510
CREATED:20240202T110254Z
LAST-MODIFIED:20240202T110254Z
UID:10000753-1717804800-1717891199@www.tullingesk.se
SUMMARY:Västerbottens 3-dagars\, etapp 2\, lång
DESCRIPTION:
URL:https://www.tullingesk.se/aktivitet/vasterbottens-3-dagars-etapp-2-lang/
CATEGORIES:Orienteringstävling
END:VEVENT
BEGIN:VEVENT
DTSTART;VALUE=DATE:20240607
DTEND;VALUE=DATE:20240608
DTSTAMP:20260422T005510
CREATED:20240202T110309Z
LAST-MODIFIED:20240202T110309Z
UID:10000758-1717718400-1717804799@www.tullingesk.se
SUMMARY:Ösaträffen\, dag 2\, lång
DESCRIPTION:
URL:https://www.tullingesk.se/aktivitet/osatraffen-dag-2-lang/
CATEGORIES:Orienteringstävling
END:VEVENT
BEGIN:VEVENT
DTSTART;VALUE=DATE:20240607
DTEND;VALUE=DATE:20240608
DTSTAMP:20260422T005510
CREATED:20240202T110224Z
LAST-MODIFIED:20240202T110224Z
UID:10000752-1717718400-1717804799@www.tullingesk.se
SUMMARY:Västerbottens 3-dagars\, etapp 1\, sprint
DESCRIPTION:
URL:https://www.tullingesk.se/aktivitet/vasterbottens-3-dagars-etapp-1-sprint/
CATEGORIES:Orienteringstävling
END:VEVENT
BEGIN:VEVENT
DTSTART;TZID=Europe/Stockholm:20240606T100000
DTEND;TZID=Europe/Stockholm:20240606T120000
DTSTAMP:20260422T005510
CREATED:20240503T132741Z
LAST-MODIFIED:20240603T104006Z
UID:10001216-1717668000-1717675200@www.tullingesk.se
SUMMARY:Jukola/Venla träning tillsammans med SNO
DESCRIPTION:https://eventor.orientering.se/Events/Show/50234
URL:https://www.tullingesk.se/aktivitet/jukola-venla-traning-tillsammans-med-sno-2/
LOCATION:TSK-klubbstugan\, Flottiljvägen 56\, Tullinge\, 146 38\, Sweden
GEO:59.193432193406;17.901717405743
X-APPLE-STRUCTURED-LOCATION;VALUE=URI;X-ADDRESS=TSK-klubbstugan Flottiljvägen 56 Tullinge 146 38 Sweden;X-APPLE-RADIUS=500;X-TITLE=Flottiljvägen 56:geo:17.901717405743,59.193432193406
END:VEVENT
END:VCALENDAR