BEGIN:VCALENDAR
VERSION:2.0
PRODID:-//Tullinge SK - ECPv6.15.20//NONSGML v1.0//EN
CALSCALE:GREGORIAN
METHOD:PUBLISH
X-WR-CALNAME:Tullinge SK
X-ORIGINAL-URL:https://www.tullingesk.se
X-WR-CALDESC:Händelser för Tullinge SK
REFRESH-INTERVAL;VALUE=DURATION:PT1H
X-Robots-Tag:noindex
X-PUBLISHED-TTL:PT1H
BEGIN:VTIMEZONE
TZID:Europe/Stockholm
BEGIN:DAYLIGHT
TZOFFSETFROM:+0100
TZOFFSETTO:+0200
TZNAME:CEST
DTSTART:20250330T010000
END:DAYLIGHT
BEGIN:STANDARD
TZOFFSETFROM:+0200
TZOFFSETTO:+0100
TZNAME:CET
DTSTART:20251026T010000
END:STANDARD
BEGIN:DAYLIGHT
TZOFFSETFROM:+0100
TZOFFSETTO:+0200
TZNAME:CEST
DTSTART:20260329T010000
END:DAYLIGHT
BEGIN:STANDARD
TZOFFSETFROM:+0200
TZOFFSETTO:+0100
TZNAME:CET
DTSTART:20261025T010000
END:STANDARD
BEGIN:DAYLIGHT
TZOFFSETFROM:+0100
TZOFFSETTO:+0200
TZNAME:CEST
DTSTART:20270328T010000
END:DAYLIGHT
BEGIN:STANDARD
TZOFFSETFROM:+0200
TZOFFSETTO:+0100
TZNAME:CET
DTSTART:20271031T010000
END:STANDARD
END:VTIMEZONE
BEGIN:VEVENT
DTSTART;TZID=Europe/Stockholm:20260331T193000
DTEND;TZID=Europe/Stockholm:20260331T210000
DTSTAMP:20260420T053123
CREATED:20260314T074619Z
LAST-MODIFIED:20260314T074619Z
UID:10003043-1774985400-1774990800@www.tullingesk.se
SUMMARY:EK möte lilla mötesrummet
DESCRIPTION:Ansvarig: EK
URL:https://www.tullingesk.se/aktivitet/ek-mote-lilla-motesrummet-2/
LOCATION:TSK-klubbstugan\, Flottiljvägen 56\, Tullinge\, 146 38\, Sweden
GEO:59.193432193406;17.901717405743
X-APPLE-STRUCTURED-LOCATION;VALUE=URI;X-ADDRESS=TSK-klubbstugan Flottiljvägen 56 Tullinge 146 38 Sweden;X-APPLE-RADIUS=500;X-TITLE=Flottiljvägen 56:geo:17.901717405743,59.193432193406
END:VEVENT
BEGIN:VEVENT
DTSTART;TZID=Europe/Stockholm:20260331T180000
DTEND;TZID=Europe/Stockholm:20260331T210000
DTSTAMP:20260420T053123
CREATED:20260301T103341Z
LAST-MODIFIED:20260301T103341Z
UID:10003010-1774980000-1774990800@www.tullingesk.se
SUMMARY:Soppa och städa
DESCRIPTION:Soppa: K+P Bergh/Å Hansson/H Trofast/U Hanning \nStäd Dam: Johanna Persson och Elisabeth Stiernstedt \nStäd Herr: Magnus Hansson och Rudolf Hersen
URL:https://www.tullingesk.se/aktivitet/soppa-och-stada-99/
LOCATION:TSK-klubbstugan\, Flottiljvägen 56\, Tullinge\, 146 38\, Sweden
CATEGORIES:Städvecka / tisdagssoppa
GEO:59.193432193406;17.901717405743
X-APPLE-STRUCTURED-LOCATION;VALUE=URI;X-ADDRESS=TSK-klubbstugan Flottiljvägen 56 Tullinge 146 38 Sweden;X-APPLE-RADIUS=500;X-TITLE=Flottiljvägen 56:geo:17.901717405743,59.193432193406
END:VEVENT
BEGIN:VEVENT
DTSTART;TZID=Europe/Stockholm:20260331T180000
DTEND;TZID=Europe/Stockholm:20260331T200000
DTSTAMP:20260420T053123
CREATED:20240314T195715Z
LAST-MODIFIED:20260301T171427Z
UID:10001031-1774980000-1774987200@www.tullingesk.se
SUMMARY:HD17
DESCRIPTION:5×6 mins\, 90s vila.
URL:https://www.tullingesk.se/aktivitet/hd17-34/2026-03-31/
LOCATION:TSK-klubbstugan\, Flottiljvägen 56\, Tullinge\, 146 38\, Sweden
GEO:59.193432193406;17.901717405743
X-APPLE-STRUCTURED-LOCATION;VALUE=URI;X-ADDRESS=TSK-klubbstugan Flottiljvägen 56 Tullinge 146 38 Sweden;X-APPLE-RADIUS=500;X-TITLE=Flottiljvägen 56:geo:17.901717405743,59.193432193406
END:VEVENT
BEGIN:VEVENT
DTSTART;TZID=Europe/Stockholm:20260331T180000
DTEND;TZID=Europe/Stockholm:20260331T193000
DTSTAMP:20260420T053123
CREATED:20260330T113828Z
LAST-MODIFIED:20260330T114240Z
UID:10003141-1774980000-1774985400@www.tullingesk.se
SUMMARY:1316: OL-intervaller (kompass & OL-skor)
DESCRIPTION:Stjärn-OL \n/Lin\, Calle & Johan
URL:https://www.tullingesk.se/aktivitet/1316-ol-intervaller-kompass-ol-skor/
LOCATION:TSK-klubbstugan\, Flottiljvägen 56\, Tullinge\, 146 38\, Sweden
GEO:59.193432193406;17.901717405743
X-APPLE-STRUCTURED-LOCATION;VALUE=URI;X-ADDRESS=TSK-klubbstugan Flottiljvägen 56 Tullinge 146 38 Sweden;X-APPLE-RADIUS=500;X-TITLE=Flottiljvägen 56:geo:17.901717405743,59.193432193406
END:VEVENT
BEGIN:VEVENT
DTSTART;TZID=Europe/Stockholm:20260331T180000
DTEND;TZID=Europe/Stockholm:20260331T191500
DTSTAMP:20260420T053123
CREATED:20260330T193144Z
LAST-MODIFIED:20260330T193144Z
UID:10003144-1774980000-1774984500@www.tullingesk.se
SUMMARY:9-12 tisdagsträning
DESCRIPTION:
URL:https://www.tullingesk.se/aktivitet/9-12-tisdagstraning-13/
END:VEVENT
BEGIN:VEVENT
DTSTART;TZID=Europe/Stockholm:20260331T180000
DTEND;TZID=Europe/Stockholm:20260331T190000
DTSTAMP:20260420T053123
CREATED:20260315T173049Z
LAST-MODIFIED:20260315T173049Z
UID:10003047-1774980000-1774983600@www.tullingesk.se
SUMMARY:Grupp4-tisdagsträning
DESCRIPTION:Grupp 4 – tisdagsträning \nGruppen för alla som inte väljer annan grupp  \nAnsvarig denna vecka: \nv14 Kristin Bergh & Ingemar Åkerman \n  \n  \nFör anvisningar och lista över ansvariga: https://www.tullingesk.se/bredd-motionar/
URL:https://www.tullingesk.se/aktivitet/grupp4-tisdagstraning-3/
LOCATION:TSK-klubbstugan\, Flottiljvägen 56\, Tullinge\, 146 38\, Sweden
GEO:59.193432193406;17.901717405743
X-APPLE-STRUCTURED-LOCATION;VALUE=URI;X-ADDRESS=TSK-klubbstugan Flottiljvägen 56 Tullinge 146 38 Sweden;X-APPLE-RADIUS=500;X-TITLE=Flottiljvägen 56:geo:17.901717405743,59.193432193406
END:VEVENT
BEGIN:VEVENT
DTSTART;TZID=Europe/Stockholm:20260331T180000
DTEND;TZID=Europe/Stockholm:20260331T190000
DTSTAMP:20260420T053123
CREATED:20260311T064307Z
LAST-MODIFIED:20260311T064307Z
UID:10003042-1774980000-1774983600@www.tullingesk.se
SUMMARY:Storstugan bokad för föräldramöte träsktrollen och 9-12
DESCRIPTION:Ansv. ungkom
URL:https://www.tullingesk.se/aktivitet/storstugan-bokad-for-foraldramote-trasktrollen-och-9-12/
LOCATION:TSK-klubbstugan\, Flottiljvägen 56\, Tullinge\, 146 38\, Sweden
GEO:59.193432193406;17.901717405743
X-APPLE-STRUCTURED-LOCATION;VALUE=URI;X-ADDRESS=TSK-klubbstugan Flottiljvägen 56 Tullinge 146 38 Sweden;X-APPLE-RADIUS=500;X-TITLE=Flottiljvägen 56:geo:17.901717405743,59.193432193406
END:VEVENT
BEGIN:VEVENT
DTSTART;TZID=Europe/Stockholm:20260331T180000
DTEND;TZID=Europe/Stockholm:20260331T190000
DTSTAMP:20260420T053123
CREATED:20260309T174321Z
LAST-MODIFIED:20260309T174321Z
UID:10003031-1774980000-1774983600@www.tullingesk.se
SUMMARY:Träsktrollen
DESCRIPTION:Barn födda 2019 & 2018. \nLenka\, Zdeněk & Micke
URL:https://www.tullingesk.se/aktivitet/trasktrollen-7/2026-03-31/
LOCATION:TSK-klubbstugan\, Flottiljvägen 56\, Tullinge\, 146 38\, Sweden
GEO:59.193432193406;17.901717405743
X-APPLE-STRUCTURED-LOCATION;VALUE=URI;X-ADDRESS=TSK-klubbstugan Flottiljvägen 56 Tullinge 146 38 Sweden;X-APPLE-RADIUS=500;X-TITLE=Flottiljvägen 56:geo:17.901717405743,59.193432193406
END:VEVENT
BEGIN:VEVENT
DTSTART;TZID=Europe/Stockholm:20260330T190000
DTEND;TZID=Europe/Stockholm:20260330T200000
DTSTAMP:20260420T053123
CREATED:20251003T073124Z
LAST-MODIFIED:20260330T145355Z
UID:10002626-1774897200-1774900800@www.tullingesk.se
SUMMARY:Styrkegympa -för alla!
DESCRIPTION:Tid: Måndagar kl 19-20\nPlats: Parkhemsskolans gympahall\nVem: TSK-medlemmar\nTa med: Inneskor & vattenflaska\nFörkunskaper: INGA! Alla kan vara med på sin nivå!\nVad: Styrka för hela kroppen. Enkla övningar\, oftast med egna kroppen som vikt men ibland även med gummiband (finns på plats). \n  \n  \n 
URL:https://www.tullingesk.se/aktivitet/tsk-gympa/2026-03-30/
LOCATION:Parkhemsskolans gympahall
END:VEVENT
BEGIN:VEVENT
DTSTART;TZID=Europe/Stockholm:20260326T173000
DTEND;TZID=Europe/Stockholm:20260326T183000
DTSTAMP:20260420T053123
CREATED:20260322T121503Z
LAST-MODIFIED:20260323T095032Z
UID:10003136-1774546200-1774549800@www.tullingesk.se
SUMMARY:1316-gruppen: Sprintträning Flemingsberg C kl 17:30
DESCRIPTION:Samling Flemingsberg C. https://maps.app.goo.gl/Wu6J7cPHno71tSJCA \n3 slingor 1\,5-2\,0km
URL:https://www.tullingesk.se/aktivitet/sprinttraning-flemingsberg-kl-1730/
LOCATION:Flemingsberg C
END:VEVENT
BEGIN:VEVENT
DTSTART;TZID=Europe/Stockholm:20260325T180000
DTEND;TZID=Europe/Stockholm:20260325T203000
DTSTAMP:20260420T053123
CREATED:20260102T172653Z
LAST-MODIFIED:20260102T172653Z
UID:10002792-1774461600-1774470600@www.tullingesk.se
SUMMARY:Snättringe nattcup #5
DESCRIPTION:
URL:https://www.tullingesk.se/aktivitet/snattringe-nattcup-5/
LOCATION:TSK-klubbstugan\, Flottiljvägen 56\, Tullinge\, 146 38\, Sweden
GEO:59.193432193406;17.901717405743
X-APPLE-STRUCTURED-LOCATION;VALUE=URI;X-ADDRESS=TSK-klubbstugan Flottiljvägen 56 Tullinge 146 38 Sweden;X-APPLE-RADIUS=500;X-TITLE=Flottiljvägen 56:geo:17.901717405743,59.193432193406
END:VEVENT
BEGIN:VEVENT
DTSTART;TZID=Europe/Stockholm:20260324T193000
DTEND;TZID=Europe/Stockholm:20260324T210000
DTSTAMP:20260420T053123
CREATED:20260322T121019Z
LAST-MODIFIED:20260322T121019Z
UID:10003135-1774380600-1774386000@www.tullingesk.se
SUMMARY:1316-ledarna bokar mötesrummet vid entrén
DESCRIPTION:/Johan
URL:https://www.tullingesk.se/aktivitet/1316-ledarna-bokar-motesrummet-vid-entren/
LOCATION:TSK-klubbstugan\, Flottiljvägen 56\, Tullinge\, 146 38\, Sweden
GEO:59.193432193406;17.901717405743
X-APPLE-STRUCTURED-LOCATION;VALUE=URI;X-ADDRESS=TSK-klubbstugan Flottiljvägen 56 Tullinge 146 38 Sweden;X-APPLE-RADIUS=500;X-TITLE=Flottiljvägen 56:geo:17.901717405743,59.193432193406
END:VEVENT
BEGIN:VEVENT
DTSTART;TZID=Europe/Stockholm:20260324T193000
DTEND;TZID=Europe/Stockholm:20260324T203000
DTSTAMP:20260420T053123
CREATED:20260322T144943Z
LAST-MODIFIED:20260322T144943Z
UID:10003137-1774380600-1774384200@www.tullingesk.se
SUMMARY:Styrelserummet bokat av Kassör
DESCRIPTION:
URL:https://www.tullingesk.se/aktivitet/styrelserummet-bokat-av-kassor/
LOCATION:TSK-klubbstugan\, Flottiljvägen 56\, Tullinge\, 146 38\, Sweden
GEO:59.193432193406;17.901717405743
X-APPLE-STRUCTURED-LOCATION;VALUE=URI;X-ADDRESS=TSK-klubbstugan Flottiljvägen 56 Tullinge 146 38 Sweden;X-APPLE-RADIUS=500;X-TITLE=Flottiljvägen 56:geo:17.901717405743,59.193432193406
END:VEVENT
BEGIN:VEVENT
DTSTART;TZID=Europe/Stockholm:20260324T180000
DTEND;TZID=Europe/Stockholm:20260324T210000
DTSTAMP:20260420T053123
CREATED:20260301T103214Z
LAST-MODIFIED:20260301T103214Z
UID:10003009-1774375200-1774386000@www.tullingesk.se
SUMMARY:Soppa och städa
DESCRIPTION:Soppa: M+E Fryxell/K+E Berggren/E Nygren-Wåhlin/V Kauranen \nStäd Dam: Carina Ronge och Linnea Fryxell \nStäd Herr: Patrik Leickt och Jörgen Rydenius
URL:https://www.tullingesk.se/aktivitet/soppa-och-stada-98/
LOCATION:TSK-klubbstugan\, Flottiljvägen 56\, Tullinge\, 146 38\, Sweden
CATEGORIES:Städvecka / tisdagssoppa
GEO:59.193432193406;17.901717405743
X-APPLE-STRUCTURED-LOCATION;VALUE=URI;X-ADDRESS=TSK-klubbstugan Flottiljvägen 56 Tullinge 146 38 Sweden;X-APPLE-RADIUS=500;X-TITLE=Flottiljvägen 56:geo:17.901717405743,59.193432193406
END:VEVENT
BEGIN:VEVENT
DTSTART;TZID=Europe/Stockholm:20260324T180000
DTEND;TZID=Europe/Stockholm:20260324T200000
DTSTAMP:20260420T053123
CREATED:20260322T140135Z
LAST-MODIFIED:20260322T140136Z
UID:10001030-1774375200-1774382400@www.tullingesk.se
SUMMARY:HD17
DESCRIPTION:10 x 3’\, 1’ vila. \nAnsvarig: Simon
URL:https://www.tullingesk.se/aktivitet/hd17-34-14/
LOCATION:TSK-klubbstugan\, Flottiljvägen 56\, Tullinge\, 146 38\, Sweden
GEO:59.193432193406;17.901717405743
X-APPLE-STRUCTURED-LOCATION;VALUE=URI;X-ADDRESS=TSK-klubbstugan Flottiljvägen 56 Tullinge 146 38 Sweden;X-APPLE-RADIUS=500;X-TITLE=Flottiljvägen 56:geo:17.901717405743,59.193432193406
END:VEVENT
BEGIN:VEVENT
DTSTART;TZID=Europe/Stockholm:20260324T180000
DTEND;TZID=Europe/Stockholm:20260324T191500
DTSTAMP:20260420T053123
CREATED:20260324T073515Z
LAST-MODIFIED:20260324T073515Z
UID:10003139-1774375200-1774379700@www.tullingesk.se
SUMMARY:9-12 tisdagsträning
DESCRIPTION:
URL:https://www.tullingesk.se/aktivitet/9-12-tisdagstraning-12/
LOCATION:TSK-klubbstugan\, Flottiljvägen 56\, Tullinge\, 146 38\, Sweden
GEO:59.193432193406;17.901717405743
X-APPLE-STRUCTURED-LOCATION;VALUE=URI;X-ADDRESS=TSK-klubbstugan Flottiljvägen 56 Tullinge 146 38 Sweden;X-APPLE-RADIUS=500;X-TITLE=Flottiljvägen 56:geo:17.901717405743,59.193432193406
END:VEVENT
BEGIN:VEVENT
DTSTART;TZID=Europe/Stockholm:20260324T180000
DTEND;TZID=Europe/Stockholm:20260324T191500
DTSTAMP:20260420T053123
CREATED:20260323T060600Z
LAST-MODIFIED:20260323T060600Z
UID:10003138-1774375200-1774379700@www.tullingesk.se
SUMMARY:1316-gruppen: OL-intervaller (lampa och kompass)
DESCRIPTION:
URL:https://www.tullingesk.se/aktivitet/1316-gruppen-ol-intervaller-lampa-och-kompass/
LOCATION:TSK-klubbstugan\, Flottiljvägen 56\, Tullinge\, 146 38\, Sweden
GEO:59.193432193406;17.901717405743
X-APPLE-STRUCTURED-LOCATION;VALUE=URI;X-ADDRESS=TSK-klubbstugan Flottiljvägen 56 Tullinge 146 38 Sweden;X-APPLE-RADIUS=500;X-TITLE=Flottiljvägen 56:geo:17.901717405743,59.193432193406
END:VEVENT
BEGIN:VEVENT
DTSTART;TZID=Europe/Stockholm:20260324T180000
DTEND;TZID=Europe/Stockholm:20260324T190000
DTSTAMP:20260420T053123
CREATED:20260315T172835Z
LAST-MODIFIED:20260323T201119Z
UID:10003046-1774375200-1774378800@www.tullingesk.se
SUMMARY:Grupp4-tisdagsträning
DESCRIPTION:Grupp 4 – tisdagsträning \nGruppen för alla som inte väljer annan grupp  \nAnsvarig denna vecka: \nV13  Mia Bratt & Carina Ronge \nSkogs-backintervaller med karta och uthängda reflexsnitslar. Välkomna! \n  \nFör anvisningar och lista över ansvariga: https://www.tullingesk.se/bredd-motionar/
URL:https://www.tullingesk.se/aktivitet/grupp4-tisdagstraning-2/
LOCATION:TSK-klubbstugan\, Flottiljvägen 56\, Tullinge\, 146 38\, Sweden
GEO:59.193432193406;17.901717405743
X-APPLE-STRUCTURED-LOCATION;VALUE=URI;X-ADDRESS=TSK-klubbstugan Flottiljvägen 56 Tullinge 146 38 Sweden;X-APPLE-RADIUS=500;X-TITLE=Flottiljvägen 56:geo:17.901717405743,59.193432193406
END:VEVENT
BEGIN:VEVENT
DTSTART;TZID=Europe/Stockholm:20260324T180000
DTEND;TZID=Europe/Stockholm:20260324T190000
DTSTAMP:20260420T053123
CREATED:20260309T174321Z
LAST-MODIFIED:20260309T174321Z
UID:10003030-1774375200-1774378800@www.tullingesk.se
SUMMARY:Träsktrollen
DESCRIPTION:Barn födda 2019 & 2018. \nLenka\, Zdeněk & Micke
URL:https://www.tullingesk.se/aktivitet/trasktrollen-7/2026-03-24/
LOCATION:TSK-klubbstugan\, Flottiljvägen 56\, Tullinge\, 146 38\, Sweden
GEO:59.193432193406;17.901717405743
X-APPLE-STRUCTURED-LOCATION;VALUE=URI;X-ADDRESS=TSK-klubbstugan Flottiljvägen 56 Tullinge 146 38 Sweden;X-APPLE-RADIUS=500;X-TITLE=Flottiljvägen 56:geo:17.901717405743,59.193432193406
END:VEVENT
BEGIN:VEVENT
DTSTART;TZID=Europe/Stockholm:20260323T190000
DTEND;TZID=Europe/Stockholm:20260323T200000
DTSTAMP:20260420T053123
CREATED:20251003T073124Z
LAST-MODIFIED:20260330T145355Z
UID:10002625-1774292400-1774296000@www.tullingesk.se
SUMMARY:Styrkegympa -för alla!
DESCRIPTION:Tid: Måndagar kl 19-20\nPlats: Parkhemsskolans gympahall\nVem: TSK-medlemmar\nTa med: Inneskor & vattenflaska\nFörkunskaper: INGA! Alla kan vara med på sin nivå!\nVad: Styrka för hela kroppen. Enkla övningar\, oftast med egna kroppen som vikt men ibland även med gummiband (finns på plats). \n  \n  \n 
URL:https://www.tullingesk.se/aktivitet/tsk-gympa/2026-03-23/
LOCATION:Parkhemsskolans gympahall
END:VEVENT
BEGIN:VEVENT
DTSTART;TZID=Europe/Stockholm:20260322T100000
DTEND;TZID=Europe/Stockholm:20260322T140000
DTSTAMP:20260420T053123
CREATED:20260102T172737Z
LAST-MODIFIED:20260102T172757Z
UID:10002793-1774173600-1774188000@www.tullingesk.se
SUMMARY:Måsenstafetten
DESCRIPTION:
URL:https://www.tullingesk.se/aktivitet/masen-stafetten/
LOCATION:TSK-klubbstugan\, Flottiljvägen 56\, Tullinge\, 146 38\, Sweden
GEO:59.193432193406;17.901717405743
X-APPLE-STRUCTURED-LOCATION;VALUE=URI;X-ADDRESS=TSK-klubbstugan Flottiljvägen 56 Tullinge 146 38 Sweden;X-APPLE-RADIUS=500;X-TITLE=Flottiljvägen 56:geo:17.901717405743,59.193432193406
END:VEVENT
BEGIN:VEVENT
DTSTART;TZID=Europe/Stockholm:20260321T130000
DTEND;TZID=Europe/Stockholm:20260321T170000
DTSTAMP:20260420T053123
CREATED:20260119T220058Z
LAST-MODIFIED:20260123T165701Z
UID:10002875-1774098000-1774112400@www.tullingesk.se
SUMMARY:Klubbstugan uthyrd/barnkalas
DESCRIPTION:Sofia Bergkvist
URL:https://www.tullingesk.se/aktivitet/prel-bokning-barnkalas/
LOCATION:TSK-klubbstugan\, Flottiljvägen 56\, Tullinge\, 146 38\, Sweden
ORGANIZER;CN="Stugkommitt%C3%A9n":MAILTO:uthyrning@tullingesk.se
GEO:59.193432193406;17.901717405743
X-APPLE-STRUCTURED-LOCATION;VALUE=URI;X-ADDRESS=TSK-klubbstugan Flottiljvägen 56 Tullinge 146 38 Sweden;X-APPLE-RADIUS=500;X-TITLE=Flottiljvägen 56:geo:17.901717405743,59.193432193406
END:VEVENT
BEGIN:VEVENT
DTSTART;TZID=Europe/Stockholm:20260320T090000
DTEND;TZID=Europe/Stockholm:20260320T150000
DTSTAMP:20260420T053123
CREATED:20260309T090848Z
LAST-MODIFIED:20260309T090848Z
UID:10003027-1773997200-1774018800@www.tullingesk.se
SUMMARY:Klubbstugan uthyrd
DESCRIPTION:Minnesstund efter begravning \nKontaktperson: Britt-Marie Bäckström
URL:https://www.tullingesk.se/aktivitet/klubbstugan-uthyrd-2/
LOCATION:TSK-klubbstugan\, Flottiljvägen 56\, Tullinge\, 146 38\, Sweden
GEO:59.193432193406;17.901717405743
X-APPLE-STRUCTURED-LOCATION;VALUE=URI;X-ADDRESS=TSK-klubbstugan Flottiljvägen 56 Tullinge 146 38 Sweden;X-APPLE-RADIUS=500;X-TITLE=Flottiljvägen 56:geo:17.901717405743,59.193432193406
END:VEVENT
BEGIN:VEVENT
DTSTART;TZID=Europe/Stockholm:20260318T183000
DTEND;TZID=Europe/Stockholm:20260318T203000
DTSTAMP:20260420T053123
CREATED:20260102T172355Z
LAST-MODIFIED:20260102T172355Z
UID:10002791-1773858600-1773865800@www.tullingesk.se
SUMMARY:Nattugglan #4
DESCRIPTION:
URL:https://www.tullingesk.se/aktivitet/nattugglan-4-2/
LOCATION:TSK-klubbstugan\, Flottiljvägen 56\, Tullinge\, 146 38\, Sweden
GEO:59.193432193406;17.901717405743
X-APPLE-STRUCTURED-LOCATION;VALUE=URI;X-ADDRESS=TSK-klubbstugan Flottiljvägen 56 Tullinge 146 38 Sweden;X-APPLE-RADIUS=500;X-TITLE=Flottiljvägen 56:geo:17.901717405743,59.193432193406
END:VEVENT
BEGIN:VEVENT
DTSTART;TZID=Europe/Stockholm:20260317T210000
DTEND;TZID=Europe/Stockholm:20260317T210000
DTSTAMP:20260420T053123
CREATED:20260301T103033Z
LAST-MODIFIED:20260301T103033Z
UID:10003008-1773781200-1773781200@www.tullingesk.se
SUMMARY:Soppa och städa
DESCRIPTION:Soppa: M Hoffsten-Arkäng/Ö Arkäng/J+P Persson/M Hansson \nStäd Dam: Lena Sundqvist och Mia Bratt \nStäd Herr: Henrik Bladh och Björn Normark
URL:https://www.tullingesk.se/aktivitet/soppa-och-stada-97/
LOCATION:TSK-klubbstugan\, Flottiljvägen 56\, Tullinge\, 146 38\, Sweden
CATEGORIES:Städvecka / tisdagssoppa
GEO:59.193432193406;17.901717405743
X-APPLE-STRUCTURED-LOCATION;VALUE=URI;X-ADDRESS=TSK-klubbstugan Flottiljvägen 56 Tullinge 146 38 Sweden;X-APPLE-RADIUS=500;X-TITLE=Flottiljvägen 56:geo:17.901717405743,59.193432193406
END:VEVENT
BEGIN:VEVENT
DTSTART;TZID=Europe/Stockholm:20260317T180000
DTEND;TZID=Europe/Stockholm:20260317T200000
DTSTAMP:20260420T053123
CREATED:20240314T195715Z
LAST-MODIFIED:20260301T171427Z
UID:10000918-1773770400-1773777600@www.tullingesk.se
SUMMARY:HD17
DESCRIPTION:5×6 mins\, 90s vila.
URL:https://www.tullingesk.se/aktivitet/hd17-34/2026-03-17/
LOCATION:TSK-klubbstugan\, Flottiljvägen 56\, Tullinge\, 146 38\, Sweden
GEO:59.193432193406;17.901717405743
X-APPLE-STRUCTURED-LOCATION;VALUE=URI;X-ADDRESS=TSK-klubbstugan Flottiljvägen 56 Tullinge 146 38 Sweden;X-APPLE-RADIUS=500;X-TITLE=Flottiljvägen 56:geo:17.901717405743,59.193432193406
END:VEVENT
BEGIN:VEVENT
DTSTART;TZID=Europe/Stockholm:20260317T180000
DTEND;TZID=Europe/Stockholm:20260317T193000
DTSTAMP:20260420T053124
CREATED:20260316T090157Z
LAST-MODIFIED:20260316T090322Z
UID:10003131-1773770400-1773775800@www.tullingesk.se
SUMMARY:1316: backe & OL-slingor (lampa\, kompass)
DESCRIPTION:Pannlampa och kompass \n/Johan\, Calle & Lin
URL:https://www.tullingesk.se/aktivitet/1316-backe-ol-slingor/
LOCATION:TSK-klubbstugan\, Flottiljvägen 56\, Tullinge\, 146 38\, Sweden
GEO:59.193432193406;17.901717405743
X-APPLE-STRUCTURED-LOCATION;VALUE=URI;X-ADDRESS=TSK-klubbstugan Flottiljvägen 56 Tullinge 146 38 Sweden;X-APPLE-RADIUS=500;X-TITLE=Flottiljvägen 56:geo:17.901717405743,59.193432193406
END:VEVENT
BEGIN:VEVENT
DTSTART;TZID=Europe/Stockholm:20260317T180000
DTEND;TZID=Europe/Stockholm:20260317T191500
DTSTAMP:20260420T053124
CREATED:20260317T073846Z
LAST-MODIFIED:20260317T073846Z
UID:10003133-1773770400-1773774900@www.tullingesk.se
SUMMARY:9-12-tisdagsträning
DESCRIPTION:
URL:https://www.tullingesk.se/aktivitet/9-12-tisdagstraning-11/
LOCATION:TSK-klubbstugan\, Flottiljvägen 56\, Tullinge\, 146 38\, Sweden
GEO:59.193432193406;17.901717405743
X-APPLE-STRUCTURED-LOCATION;VALUE=URI;X-ADDRESS=TSK-klubbstugan Flottiljvägen 56 Tullinge 146 38 Sweden;X-APPLE-RADIUS=500;X-TITLE=Flottiljvägen 56:geo:17.901717405743,59.193432193406
END:VEVENT
BEGIN:VEVENT
DTSTART;TZID=Europe/Stockholm:20260317T180000
DTEND;TZID=Europe/Stockholm:20260317T190000
DTSTAMP:20260420T053124
CREATED:20260401T181546Z
LAST-MODIFIED:20260401T181547Z
UID:10003045-1773770400-1773774000@www.tullingesk.se
SUMMARY:Grupp4-tisdagsträning
DESCRIPTION:Grupp 4 – tisdagsträning \nGruppen för alla som inte väljer annan grupp  \nAnsvarig denna vecka: \nV12 A-K Ohlsson och Anna Perneby \n  \n  \n  \nFör anvisningar och lista över ansvariga: https://www.tullingesk.se/bredd-motionar/
URL:https://www.tullingesk.se/aktivitet/grupp4-tisdagstraning-6/
LOCATION:TSK-klubbstugan\, Flottiljvägen 56\, Tullinge\, 146 38\, Sweden
GEO:59.193432193406;17.901717405743
X-APPLE-STRUCTURED-LOCATION;VALUE=URI;X-ADDRESS=TSK-klubbstugan Flottiljvägen 56 Tullinge 146 38 Sweden;X-APPLE-RADIUS=500;X-TITLE=Flottiljvägen 56:geo:17.901717405743,59.193432193406
END:VEVENT
BEGIN:VEVENT
DTSTART;TZID=Europe/Stockholm:20260317T180000
DTEND;TZID=Europe/Stockholm:20260317T190000
DTSTAMP:20260420T053124
CREATED:20260315T190416Z
LAST-MODIFIED:20260315T190416Z
UID:10003044-1773770400-1773774000@www.tullingesk.se
SUMMARY:Grupp4-tisdagsträning
DESCRIPTION:Grupp 4 – tisdagsträning \nGruppen för alla som inte väljer annan grupp  \nAnsvarig denna vecka: \nV12 A-K Ohlsson och Anna Perneby \nDenna vecka blir det ol-slingor med utsatta reflexer. Totalt finns det 8 olika slingor från samma startpunkt. \n  \n  \n  \nFör anvisningar och lista över ansvariga: https://www.tullingesk.se/bredd-motionar/
URL:https://www.tullingesk.se/aktivitet/grupp4-tisdagstraning-5/
LOCATION:TSK-klubbstugan\, Flottiljvägen 56\, Tullinge\, 146 38\, Sweden
GEO:59.193432193406;17.901717405743
X-APPLE-STRUCTURED-LOCATION;VALUE=URI;X-ADDRESS=TSK-klubbstugan Flottiljvägen 56 Tullinge 146 38 Sweden;X-APPLE-RADIUS=500;X-TITLE=Flottiljvägen 56:geo:17.901717405743,59.193432193406
END:VEVENT
END:VCALENDAR