BEGIN:VCALENDAR
VERSION:2.0
PRODID:-//Tullinge SK - ECPv6.15.20//NONSGML v1.0//EN
CALSCALE:GREGORIAN
METHOD:PUBLISH
X-WR-CALNAME:Tullinge SK
X-ORIGINAL-URL:https://www.tullingesk.se
X-WR-CALDESC:Händelser för Tullinge SK
REFRESH-INTERVAL;VALUE=DURATION:PT1H
X-Robots-Tag:noindex
X-PUBLISHED-TTL:PT1H
BEGIN:VTIMEZONE
TZID:Europe/Stockholm
BEGIN:DAYLIGHT
TZOFFSETFROM:+0100
TZOFFSETTO:+0200
TZNAME:CEST
DTSTART:20230326T010000
END:DAYLIGHT
BEGIN:STANDARD
TZOFFSETFROM:+0200
TZOFFSETTO:+0100
TZNAME:CET
DTSTART:20231029T010000
END:STANDARD
BEGIN:DAYLIGHT
TZOFFSETFROM:+0100
TZOFFSETTO:+0200
TZNAME:CEST
DTSTART:20240331T010000
END:DAYLIGHT
BEGIN:STANDARD
TZOFFSETFROM:+0200
TZOFFSETTO:+0100
TZNAME:CET
DTSTART:20241027T010000
END:STANDARD
BEGIN:DAYLIGHT
TZOFFSETFROM:+0100
TZOFFSETTO:+0200
TZNAME:CEST
DTSTART:20250330T010000
END:DAYLIGHT
BEGIN:STANDARD
TZOFFSETFROM:+0200
TZOFFSETTO:+0100
TZNAME:CET
DTSTART:20251026T010000
END:STANDARD
END:VTIMEZONE
BEGIN:VEVENT
DTSTART;VALUE=DATE:20240420
DTEND;VALUE=DATE:20240421
DTSTAMP:20260422T194504
CREATED:20240202T110254Z
LAST-MODIFIED:20240202T110254Z
UID:10000755-1713571200-1713657599@www.tullingesk.se
SUMMARY:Strängnäsdubbeln\, dag 1\, medel
DESCRIPTION:
URL:https://www.tullingesk.se/aktivitet/strangnasdubbeln-dag-1-medel/
CATEGORIES:Orienteringstävling
END:VEVENT
BEGIN:VEVENT
DTSTART;VALUE=DATE:20240419
DTEND;VALUE=DATE:20240420
DTSTAMP:20260422T194504
CREATED:20240202T110500Z
LAST-MODIFIED:20240202T110500Z
UID:10000781-1713484800-1713571199@www.tullingesk.se
SUMMARY:Uppsala möte\, natt
DESCRIPTION:
URL:https://www.tullingesk.se/aktivitet/uppsala-mote-natt/
CATEGORIES:Orienteringstävling
END:VEVENT
BEGIN:VEVENT
DTSTART;TZID=Europe/Stockholm:20240418T180000
DTEND;TZID=Europe/Stockholm:20240418T193000
DTSTAMP:20260422T194504
CREATED:20240404T055958Z
LAST-MODIFIED:20240412T060853Z
UID:10001177-1713463200-1713468600@www.tullingesk.se
SUMMARY:Teknikträning Mörtsjön
DESCRIPTION:Teknikträning vid Mörtsjön \nAnmälan senast onsdag kl 12 via Eventor: https://eventor.orientering.se/Activities/Show/20756 \nSamling: Vinkeln Mörtsjövägen/Flintvägen https://kartor.eniro.se/m/XocTP \nBanor/tema:\nSvart och orange: Kontrollplock/korridor och brunbild\nGul: Stjärnorientering med fokus på sista säkra\nVit: Stjärnorientering \nBanlängder:\nSvart 8\,2 (- 3\,6) km avkortningsbar på flera sätt\nOrange 3\,1 km \nAnsvariga ledare:\n9-12 Ledare: Mats och Fredrik\, Närvaro: Ture P\n13-16 Ledare: Anna \nBanläggare:\nSvart och orange: Sydsam\nGul och vit: Mats B \nInplockning vit och gul: Anders S \nKartor orange och svart finns i filarkivet för egen träning också\nLivelox:https://www.livelox.com/Events/Show/124978/Tekniktraningssamarbe tet-Syd-vast-vecka-16
URL:https://www.tullingesk.se/aktivitet/tekniktraning-mortsjon-2/
LOCATION:Mörtsjön
END:VEVENT
BEGIN:VEVENT
DTSTART;VALUE=DATE:20240418
DTEND;VALUE=DATE:20240419
DTSTAMP:20260422T194504
CREATED:20240202T110409Z
LAST-MODIFIED:20240202T110409Z
UID:10000769-1713398400-1713484799@www.tullingesk.se
SUMMARY:Knivstasprinten
DESCRIPTION:
URL:https://www.tullingesk.se/aktivitet/knivstasprinten/
CATEGORIES:Orienteringstävling
END:VEVENT
BEGIN:VEVENT
DTSTART;VALUE=DATE:20240417
DTEND;VALUE=DATE:20240418
DTSTAMP:20260422T194504
CREATED:20240202T110908Z
LAST-MODIFIED:20240202T110908Z
UID:10000793-1713312000-1713398399@www.tullingesk.se
SUMMARY:Tiomilarepet
DESCRIPTION:
URL:https://www.tullingesk.se/aktivitet/tiomilarepet/
CATEGORIES:Orienteringstävling
END:VEVENT
BEGIN:VEVENT
DTSTART;TZID=Europe/Stockholm:20240416T193000
DTEND;TZID=Europe/Stockholm:20240416T210000
DTSTAMP:20260422T194504
CREATED:20240325T195822Z
LAST-MODIFIED:20240325T195822Z
UID:10001170-1713295800-1713301200@www.tullingesk.se
SUMMARY:EK-Månadsmöte
DESCRIPTION:Lilla mötesrummet
URL:https://www.tullingesk.se/aktivitet/ek-manadsmote/
LOCATION:TSK-klubbstugan\, Flottiljvägen 56\, Tullinge\, 146 38\, Sweden
CATEGORIES:Elitkommittén
GEO:59.193432193406;17.901717405743
X-APPLE-STRUCTURED-LOCATION;VALUE=URI;X-ADDRESS=TSK-klubbstugan Flottiljvägen 56 Tullinge 146 38 Sweden;X-APPLE-RADIUS=500;X-TITLE=Flottiljvägen 56:geo:17.901717405743,59.193432193406
END:VEVENT
BEGIN:VEVENT
DTSTART;TZID=Europe/Stockholm:20240416T180000
DTEND;TZID=Europe/Stockholm:20240416T210000
DTSTAMP:20260422T194504
CREATED:20240310T080741Z
LAST-MODIFIED:20240310T080741Z
UID:10000884-1713290400-1713301200@www.tullingesk.se
SUMMARY:Soppa och städa
DESCRIPTION:Soppa: L+B Normark/H Bladh/J Ohlin/K Lundberg \nStäda Dam: Pia-Lena Putkonen och Marie Heinrup \nStäda Herr: Thomas Sundberg och David Nygren
URL:https://www.tullingesk.se/aktivitet/soppa-och-stada-27/
LOCATION:TSK-klubbstugan\, Flottiljvägen 56\, Tullinge\, 146 38\, Sweden
GEO:59.193432193406;17.901717405743
X-APPLE-STRUCTURED-LOCATION;VALUE=URI;X-ADDRESS=TSK-klubbstugan Flottiljvägen 56 Tullinge 146 38 Sweden;X-APPLE-RADIUS=500;X-TITLE=Flottiljvägen 56:geo:17.901717405743,59.193432193406
END:VEVENT
BEGIN:VEVENT
DTSTART;TZID=Europe/Stockholm:20240416T180000
DTEND;TZID=Europe/Stockholm:20240416T200000
DTSTAMP:20260422T194504
CREATED:20240414T185808Z
LAST-MODIFIED:20240414T190859Z
UID:10000946-1713290400-1713297600@www.tullingesk.se
SUMMARY:HD17: 6x Dubbelbacke på spåret (upp och ner för "5K höjden")
DESCRIPTION:6x Dubbelbake på spåret (upp och ner för ”5K höjden”)
URL:https://www.tullingesk.se/aktivitet/hd17-37/
LOCATION:TSK-klubbstugan\, Flottiljvägen 56\, Tullinge\, 146 38\, Sweden
GEO:59.193432193406;17.901717405743
X-APPLE-STRUCTURED-LOCATION;VALUE=URI;X-ADDRESS=TSK-klubbstugan Flottiljvägen 56 Tullinge 146 38 Sweden;X-APPLE-RADIUS=500;X-TITLE=Flottiljvägen 56:geo:17.901717405743,59.193432193406
END:VEVENT
BEGIN:VEVENT
DTSTART;TZID=Europe/Stockholm:20240416T180000
DTEND;TZID=Europe/Stockholm:20240416T191500
DTSTAMP:20260422T194504
CREATED:20240415T053714Z
LAST-MODIFIED:20240415T053714Z
UID:10001184-1713290400-1713294900@www.tullingesk.se
SUMMARY:1316-gruppen OL-intervaller
DESCRIPTION:5x ca 500m (vila ca 2 min) \nFart! \n(Johan & Andreas)
URL:https://www.tullingesk.se/aktivitet/1316-gruppen-ol-intervaller/
LOCATION:TSK-klubbstugan\, Flottiljvägen 56\, Tullinge\, 146 38\, Sweden
GEO:59.193432193406;17.901717405743
X-APPLE-STRUCTURED-LOCATION;VALUE=URI;X-ADDRESS=TSK-klubbstugan Flottiljvägen 56 Tullinge 146 38 Sweden;X-APPLE-RADIUS=500;X-TITLE=Flottiljvägen 56:geo:17.901717405743,59.193432193406
END:VEVENT
BEGIN:VEVENT
DTSTART;TZID=Europe/Stockholm:20240416T180000
DTEND;TZID=Europe/Stockholm:20240416T191500
DTSTAMP:20260422T194504
CREATED:20240414T184042Z
LAST-MODIFIED:20240414T184042Z
UID:10001182-1713290400-1713294900@www.tullingesk.se
SUMMARY:9-12 Tisdagsträning
DESCRIPTION:
URL:https://www.tullingesk.se/aktivitet/9-12-tisdagstraning-7/
LOCATION:TSK-klubbstugan\, Flottiljvägen 56\, Tullinge\, 146 38\, Sweden
GEO:59.193432193406;17.901717405743
X-APPLE-STRUCTURED-LOCATION;VALUE=URI;X-ADDRESS=TSK-klubbstugan Flottiljvägen 56 Tullinge 146 38 Sweden;X-APPLE-RADIUS=500;X-TITLE=Flottiljvägen 56:geo:17.901717405743,59.193432193406
END:VEVENT
BEGIN:VEVENT
DTSTART;TZID=Europe/Stockholm:20240416T180000
DTEND;TZID=Europe/Stockholm:20240416T190000
DTSTAMP:20260422T194504
CREATED:20240401T060901Z
LAST-MODIFIED:20240415T202237Z
UID:10000402-1713290400-1713294000@www.tullingesk.se
SUMMARY:Grupp 4
DESCRIPTION:v16 Rickard Andersson & Peter Mattila \nDet blir orienteringsslingor i området nära Ica Riksten \nDet är nästan samma grupp4träning som vi körde i början av december men då var det snöstorm\, mörkt och få deltagare så vi kör denna en gång till\, men nu med en ny slinga tillagd. Uthängda vita snitslar (utom på en slinga som heter ej uthängt där vissa kontrollpunkter saknar snitsel). Slingorna är ca 0\,6 -1\,5 km per st.\nMedtag plastficka för A4 och kör hårt!
URL:https://www.tullingesk.se/aktivitet/grupp-4-2-29/
LOCATION:TSK-klubbstugan\, Flottiljvägen 56\, Tullinge\, 146 38\, Sweden
GEO:59.193432193406;17.901717405743
X-APPLE-STRUCTURED-LOCATION;VALUE=URI;X-ADDRESS=TSK-klubbstugan Flottiljvägen 56 Tullinge 146 38 Sweden;X-APPLE-RADIUS=500;X-TITLE=Flottiljvägen 56:geo:17.901717405743,59.193432193406
END:VEVENT
BEGIN:VEVENT
DTSTART;TZID=Europe/Stockholm:20240415T180000
DTEND;TZID=Europe/Stockholm:20240415T210000
DTSTAMP:20260422T194504
CREATED:20240302T085029Z
LAST-MODIFIED:20240302T085029Z
UID:10000870-1713204000-1713214800@www.tullingesk.se
SUMMARY:Stugan uthyrd/TSS
DESCRIPTION:Möte TSS Lars Berggren
URL:https://www.tullingesk.se/aktivitet/stugan-uthyrd-tss-5/
LOCATION:TSK-klubbstugan\, Flottiljvägen 56\, Tullinge\, 146 38\, Sweden
CATEGORIES:Uthyrning klubbstugan
GEO:59.193432193406;17.901717405743
X-APPLE-STRUCTURED-LOCATION;VALUE=URI;X-ADDRESS=TSK-klubbstugan Flottiljvägen 56 Tullinge 146 38 Sweden;X-APPLE-RADIUS=500;X-TITLE=Flottiljvägen 56:geo:17.901717405743,59.193432193406
END:VEVENT
BEGIN:VEVENT
DTSTART;VALUE=DATE:20240414
DTEND;VALUE=DATE:20240415
DTSTAMP:20260422T194504
CREATED:20240202T110309Z
LAST-MODIFIED:20240202T110309Z
UID:10000762-1713052800-1713139199@www.tullingesk.se
SUMMARY:Enenracet
DESCRIPTION:
URL:https://www.tullingesk.se/aktivitet/enenracet/
CATEGORIES:Orienteringstävling
END:VEVENT
BEGIN:VEVENT
DTSTART;VALUE=DATE:20240414
DTEND;VALUE=DATE:20240415
DTSTAMP:20260422T194504
CREATED:20240202T110206Z
LAST-MODIFIED:20240202T110206Z
UID:10000739-1713052800-1713139199@www.tullingesk.se
SUMMARY:Stigtomtakavlen\, individuella öppna klasser
DESCRIPTION:
URL:https://www.tullingesk.se/aktivitet/stigtomtakavlen-individuella-oppna-klasser/
CATEGORIES:Orienteringstävling
END:VEVENT
BEGIN:VEVENT
DTSTART;VALUE=DATE:20240413
DTEND;VALUE=DATE:20240415
DTSTAMP:20260422T194504
CREATED:20240202T110206Z
LAST-MODIFIED:20240202T110206Z
UID:10000738-1712966400-1713139199@www.tullingesk.se
SUMMARY:Stigtomtakavlen (Stafettligan\, #2)
DESCRIPTION:
URL:https://www.tullingesk.se/aktivitet/stigtomtakavlen-stafettligan-2/
CATEGORIES:Orienteringstävling
END:VEVENT
BEGIN:VEVENT
DTSTART;VALUE=DATE:20240413
DTEND;VALUE=DATE:20240414
DTSTAMP:20260422T194504
CREATED:20240202T110354Z
LAST-MODIFIED:20240202T110354Z
UID:10000763-1712966400-1713052799@www.tullingesk.se
SUMMARY:Lännamedeln
DESCRIPTION:
URL:https://www.tullingesk.se/aktivitet/lannamedeln-2/
CATEGORIES:Orienteringstävling
END:VEVENT
BEGIN:VEVENT
DTSTART;TZID=Europe/Stockholm:20240412T070000
DTEND;TZID=Europe/Stockholm:20240412T140000
DTSTAMP:20260422T194504
CREATED:20240114T131447Z
LAST-MODIFIED:20240114T131447Z
UID:10000700-1712905200-1712930400@www.tullingesk.se
SUMMARY:Stugan uthyrd/SOFT-utbildning
DESCRIPTION:Stugan uthyrd/SOFT-utbildning\, Lena Sundqvist
URL:https://www.tullingesk.se/aktivitet/stugan-uthyrd-soft-utbildning/
LOCATION:TSK-klubbstugan\, Flottiljvägen 56\, Tullinge\, 146 38\, Sweden
CATEGORIES:Uthyrning klubbstugan
GEO:59.193432193406;17.901717405743
X-APPLE-STRUCTURED-LOCATION;VALUE=URI;X-ADDRESS=TSK-klubbstugan Flottiljvägen 56 Tullinge 146 38 Sweden;X-APPLE-RADIUS=500;X-TITLE=Flottiljvägen 56:geo:17.901717405743,59.193432193406
END:VEVENT
BEGIN:VEVENT
DTSTART;VALUE=DATE:20240412
DTEND;VALUE=DATE:20240413
DTSTAMP:20260422T194504
CREATED:20240202T110946Z
LAST-MODIFIED:20240202T110946Z
UID:10000799-1712880000-1712966399@www.tullingesk.se
SUMMARY:SM\, natt (Swedish League\, #3)
DESCRIPTION:
URL:https://www.tullingesk.se/aktivitet/sm-natt-swedish-league-3/
CATEGORIES:Orienteringstävling
END:VEVENT
BEGIN:VEVENT
DTSTART;TZID=Europe/Stockholm:20240411T180000
DTEND;TZID=Europe/Stockholm:20240411T190000
DTSTAMP:20260422T194504
CREATED:20240403T205635Z
LAST-MODIFIED:20240408T141526Z
UID:10001176-1712858400-1712862000@www.tullingesk.se
SUMMARY:Teknikträning Hantverksbyn
DESCRIPTION:Teknikträning vid Tullinge Hantverksby. \nAnmälan senast onsdag kl 12 via Eventor: https://eventor.orientering.se/Activities/Show/20695 \nSamling:\nSamling vändplanen längst in på Industrivägen.\nhttps://maps.app.goo.gl/UhkNHXKnoBMc7MgS9\nDet finns begränsat med parkeringsplatser på Industrivägen så vid behov går det att parkera på Mekanikervägen där man kan stå på flera ställen efter kl 18 men kolla p-\nförbudsskyltarna ordentligt. Ta gärna cykeln.\nMedtag gärna plastficka A3 för svart och orange och A4 för gul och vit \nBanor:\nSvart Momentbana med bla. linje\, korridor\, brunbild och kontrollplock.\nOrange: Linje\, riktning och kontrollplack\nVit och gul: Hitta höjden \nBanlängder:\nSvart: 9\,1 km avkortningsbar till 7\,3 5\,9 eller 4\,5 km\nOrange 3\,9 avkortningsbar 3 km\nGul: 2\,7 km\nVit: 2\,2 km \nAnsvariga ledare:\n9-12 Ledare: Lin och Rickard\, Närvaro: Vidar L\n13-16 Ledare: Lina \nBanläggare:\nSvart + orange: Sydsam\nGul och vit: Rickard Andersson \nInplockning gul och vit: Pelle \nOBS: Banor tillgängliga i filarkivet för de som vill skriva ut och springa vid annan tid. \nLivelox orange och svart: https://www.livelox.com/Events/Show/124432/Tekniktraningssamarbete-syd-vecka-14
URL:https://www.tullingesk.se/aktivitet/tekniktraning/
LOCATION:Hantverksbyn
END:VEVENT
BEGIN:VEVENT
DTSTART;TZID=Europe/Stockholm:20240410T180000
DTEND;TZID=Europe/Stockholm:20240410T210000
DTSTAMP:20260422T194504
CREATED:20240204T165349Z
LAST-MODIFIED:20240204T165349Z
UID:10000835-1712772000-1712782800@www.tullingesk.se
SUMMARY:Stugan bokad/Sthlms skogskarlar
DESCRIPTION:Stugan bokad/Sthlms skogskarlar\, P-A Forsberg
URL:https://www.tullingesk.se/aktivitet/stugan-bokad-sthlms-skogskarlar/
LOCATION:TSK-klubbstugan\, Flottiljvägen 56\, Tullinge\, 146 38\, Sweden
CATEGORIES:Uthyrning klubbstugan
GEO:59.193432193406;17.901717405743
X-APPLE-STRUCTURED-LOCATION;VALUE=URI;X-ADDRESS=TSK-klubbstugan Flottiljvägen 56 Tullinge 146 38 Sweden;X-APPLE-RADIUS=500;X-TITLE=Flottiljvägen 56:geo:17.901717405743,59.193432193406
END:VEVENT
BEGIN:VEVENT
DTSTART;TZID=Europe/Stockholm:20240409T180000
DTEND;TZID=Europe/Stockholm:20240409T210000
DTSTAMP:20260422T194504
CREATED:20240310T080458Z
LAST-MODIFIED:20240310T080458Z
UID:10000883-1712685600-1712696400@www.tullingesk.se
SUMMARY:Soppa och städa
DESCRIPTION:Soppa: L+T Sundberg/C+P Mattila/L+K Hanson \nStäda Dam: Virve Kauranen och Nenette Däckfors \nStäda Herr: Rolf Nilsson och Peter Bergman
URL:https://www.tullingesk.se/aktivitet/soppa-och-stada-26/
LOCATION:TSK-klubbstugan\, Flottiljvägen 56\, Tullinge\, 146 38\, Sweden
GEO:59.193432193406;17.901717405743
X-APPLE-STRUCTURED-LOCATION;VALUE=URI;X-ADDRESS=TSK-klubbstugan Flottiljvägen 56 Tullinge 146 38 Sweden;X-APPLE-RADIUS=500;X-TITLE=Flottiljvägen 56:geo:17.901717405743,59.193432193406
END:VEVENT
BEGIN:VEVENT
DTSTART;TZID=Europe/Stockholm:20240409T180000
DTEND;TZID=Europe/Stockholm:20240409T200000
DTSTAMP:20260422T194504
CREATED:20240326T195359Z
LAST-MODIFIED:20240408T193050Z
UID:10000945-1712685600-1712692800@www.tullingesk.se
SUMMARY:HD17: Tiomilaträning
DESCRIPTION:Klubbgemensam tiomilaträning. Orientering i form av enmansstafett med slinga eller framdrift. \nSvart 3\,5 – 6\,6 km \nJournalist kommer så ta på dej TSK kläder ikväll du som har!
URL:https://www.tullingesk.se/aktivitet/hd17-36/
LOCATION:TSK-klubbstugan\, Flottiljvägen 56\, Tullinge\, 146 38\, Sweden
GEO:59.193432193406;17.901717405743
X-APPLE-STRUCTURED-LOCATION;VALUE=URI;X-ADDRESS=TSK-klubbstugan Flottiljvägen 56 Tullinge 146 38 Sweden;X-APPLE-RADIUS=500;X-TITLE=Flottiljvägen 56:geo:17.901717405743,59.193432193406
END:VEVENT
BEGIN:VEVENT
DTSTART;TZID=Europe/Stockholm:20240409T180000
DTEND;TZID=Europe/Stockholm:20240409T200000
DTSTAMP:20260422T194504
CREATED:20240314T194926Z
LAST-MODIFIED:20240408T192955Z
UID:10000899-1712685600-1712692800@www.tullingesk.se
SUMMARY:TSK-10-milaträning
DESCRIPTION:Ansvarig: Grupp 4 \nSe Grupp4 för mer information. \nJournalist kommer så ta på dej TSK kläder ikväll du som har!
URL:https://www.tullingesk.se/aktivitet/10-mila-traning/
LOCATION:TSK-klubbstugan\, Flottiljvägen 56\, Tullinge\, 146 38\, Sweden
GEO:59.193432193406;17.901717405743
X-APPLE-STRUCTURED-LOCATION;VALUE=URI;X-ADDRESS=TSK-klubbstugan Flottiljvägen 56 Tullinge 146 38 Sweden;X-APPLE-RADIUS=500;X-TITLE=Flottiljvägen 56:geo:17.901717405743,59.193432193406
END:VEVENT
BEGIN:VEVENT
DTSTART;TZID=Europe/Stockholm:20240409T180000
DTEND;TZID=Europe/Stockholm:20240409T193000
DTSTAMP:20260422T194504
CREATED:20240408T192025Z
LAST-MODIFIED:20240408T192842Z
UID:10001179-1712685600-1712691000@www.tullingesk.se
SUMMARY:1316-gruppen 10milaträning
DESCRIPTION:Journalist kommer så ta på dej TSK kläder ikväll du som har!
URL:https://www.tullingesk.se/aktivitet/1316-gruppen-10milatraning/
LOCATION:TSK-klubbstugan\, Flottiljvägen 56\, Tullinge\, 146 38\, Sweden
GEO:59.193432193406;17.901717405743
X-APPLE-STRUCTURED-LOCATION;VALUE=URI;X-ADDRESS=TSK-klubbstugan Flottiljvägen 56 Tullinge 146 38 Sweden;X-APPLE-RADIUS=500;X-TITLE=Flottiljvägen 56:geo:17.901717405743,59.193432193406
END:VEVENT
BEGIN:VEVENT
DTSTART;TZID=Europe/Stockholm:20240409T180000
DTEND;TZID=Europe/Stockholm:20240409T191500
DTSTAMP:20260422T194504
CREATED:20240328T070414Z
LAST-MODIFIED:20240328T070414Z
UID:10001175-1712685600-1712690100@www.tullingesk.se
SUMMARY:9-12 Tisdagsträning
DESCRIPTION:Tema Gena/snedda \nMedtag kompass om ni har.
URL:https://www.tullingesk.se/aktivitet/9-12-tisdagstraning-6/
LOCATION:TSK-klubbstugan\, Flottiljvägen 56\, Tullinge\, 146 38\, Sweden
GEO:59.193432193406;17.901717405743
X-APPLE-STRUCTURED-LOCATION;VALUE=URI;X-ADDRESS=TSK-klubbstugan Flottiljvägen 56 Tullinge 146 38 Sweden;X-APPLE-RADIUS=500;X-TITLE=Flottiljvägen 56:geo:17.901717405743,59.193432193406
END:VEVENT
BEGIN:VEVENT
DTSTART;TZID=Europe/Stockholm:20240409T180000
DTEND;TZID=Europe/Stockholm:20240409T190000
DTSTAMP:20260422T194504
CREATED:20240401T060801Z
LAST-MODIFIED:20240408T192719Z
UID:10000401-1712685600-1712689200@www.tullingesk.se
SUMMARY:Grupp 4 - Tiomilaträning - TSK kläder
DESCRIPTION:v15 Rudolf Hersén & Per-Ove Melinder \nKlubbgemensam tiomilaträning. Orientering i form av enmansstafett med slinga eller framdrift. \nOrange 3\,5 km\nSvart 3\,5 – 6\,6 km \nJournalist kommer så ta på dej TSK kläder ikväll du som har!
URL:https://www.tullingesk.se/aktivitet/grupp-4-2-28/
LOCATION:TSK-klubbstugan\, Flottiljvägen 56\, Tullinge\, 146 38\, Sweden
GEO:59.193432193406;17.901717405743
X-APPLE-STRUCTURED-LOCATION;VALUE=URI;X-ADDRESS=TSK-klubbstugan Flottiljvägen 56 Tullinge 146 38 Sweden;X-APPLE-RADIUS=500;X-TITLE=Flottiljvägen 56:geo:17.901717405743,59.193432193406
END:VEVENT
BEGIN:VEVENT
DTSTART;VALUE=DATE:20240407
DTEND;VALUE=DATE:20240408
DTSTAMP:20260422T194504
CREATED:20240202T111308Z
LAST-MODIFIED:20240202T111308Z
UID:10000821-1712448000-1712534399@www.tullingesk.se
SUMMARY:Attunda OK\, medeldistans
DESCRIPTION:
URL:https://www.tullingesk.se/aktivitet/attunda-ok-medeldistans/
CATEGORIES:Orienteringstävling
END:VEVENT
BEGIN:VEVENT
DTSTART;VALUE=DATE:20240407
DTEND;VALUE=DATE:20240408
DTSTAMP:20260422T194504
CREATED:20240202T110653Z
LAST-MODIFIED:20240202T110653Z
UID:10000786-1712448000-1712534399@www.tullingesk.se
SUMMARY:Broruset
DESCRIPTION:
URL:https://www.tullingesk.se/aktivitet/broruset/
CATEGORIES:Orienteringstävling
END:VEVENT
BEGIN:VEVENT
DTSTART;VALUE=DATE:20240407
DTEND;VALUE=DATE:20240408
DTSTAMP:20260422T194504
CREATED:20240202T110500Z
LAST-MODIFIED:20240202T110500Z
UID:10000779-1712448000-1712534399@www.tullingesk.se
SUMMARY:Kolmårdsdubbeln\, dag 2\, Kolmårdskavlen
DESCRIPTION:
URL:https://www.tullingesk.se/aktivitet/kolmardsdubbeln-dag-2-kolmardskavlen/
CATEGORIES:Orienteringstävling
END:VEVENT
BEGIN:VEVENT
DTSTART;VALUE=DATE:20240407
DTEND;VALUE=DATE:20240408
DTSTAMP:20260422T194504
CREATED:20240202T110500Z
LAST-MODIFIED:20240202T110500Z
UID:10000780-1712448000-1712534399@www.tullingesk.se
SUMMARY:Kolmårdsdubbeln\, dag 2\, Kolmårdskaveln\, individuella öppna klasser
DESCRIPTION:
URL:https://www.tullingesk.se/aktivitet/kolmardsdubbeln-dag-2-kolmardskaveln-individuella-oppna-klasser/
CATEGORIES:Orienteringstävling
END:VEVENT
END:VCALENDAR