BEGIN:VCALENDAR
VERSION:2.0
PRODID:-//Tullinge SK - ECPv6.15.20//NONSGML v1.0//EN
CALSCALE:GREGORIAN
METHOD:PUBLISH
X-WR-CALNAME:Tullinge SK
X-ORIGINAL-URL:https://www.tullingesk.se
X-WR-CALDESC:Händelser för Tullinge SK
REFRESH-INTERVAL;VALUE=DURATION:PT1H
X-Robots-Tag:noindex
X-PUBLISHED-TTL:PT1H
BEGIN:VTIMEZONE
TZID:Europe/Stockholm
BEGIN:DAYLIGHT
TZOFFSETFROM:+0100
TZOFFSETTO:+0200
TZNAME:CEST
DTSTART:20260329T010000
END:DAYLIGHT
BEGIN:STANDARD
TZOFFSETFROM:+0200
TZOFFSETTO:+0100
TZNAME:CET
DTSTART:20261025T010000
END:STANDARD
BEGIN:DAYLIGHT
TZOFFSETFROM:+0100
TZOFFSETTO:+0200
TZNAME:CEST
DTSTART:20270328T010000
END:DAYLIGHT
BEGIN:STANDARD
TZOFFSETFROM:+0200
TZOFFSETTO:+0100
TZNAME:CET
DTSTART:20271031T010000
END:STANDARD
BEGIN:DAYLIGHT
TZOFFSETFROM:+0100
TZOFFSETTO:+0200
TZNAME:CEST
DTSTART:20280326T010000
END:DAYLIGHT
BEGIN:STANDARD
TZOFFSETFROM:+0200
TZOFFSETTO:+0100
TZNAME:CET
DTSTART:20281029T010000
END:STANDARD
END:VTIMEZONE
BEGIN:VEVENT
DTSTART;TZID=Europe/Stockholm:20270525T180000
DTEND;TZID=Europe/Stockholm:20270525T191500
DTSTAMP:20260423T012656
CREATED:20260403T091758Z
LAST-MODIFIED:20260403T091758Z
UID:10003220-1811268000-1811272500@www.tullingesk.se
SUMMARY:9-12 träning
DESCRIPTION:Tisdagsträning för 9-12 gruppen \nSamling vid stakethörnet
URL:https://www.tullingesk.se/aktivitet/9-12-traning-4/2027-05-25/
LOCATION:TSK-klubbstugan\, Flottiljvägen 56\, Tullinge\, 146 38\, Sweden
GEO:59.193432193406;17.901717405743
X-APPLE-STRUCTURED-LOCATION;VALUE=URI;X-ADDRESS=TSK-klubbstugan Flottiljvägen 56 Tullinge 146 38 Sweden;X-APPLE-RADIUS=500;X-TITLE=Flottiljvägen 56:geo:17.901717405743,59.193432193406
END:VEVENT
BEGIN:VEVENT
DTSTART;TZID=Europe/Stockholm:20270525T180000
DTEND;TZID=Europe/Stockholm:20270525T200000
DTSTAMP:20260423T012656
CREATED:20260413T183550Z
LAST-MODIFIED:20260413T183550Z
UID:10001081-1811268000-1811275200@www.tullingesk.se
SUMMARY:HD17
DESCRIPTION:Intervaller på spåret. \nAnsvarig Simon/Matthew
URL:https://www.tullingesk.se/aktivitet/hd17-34-17/2027-05-25/
LOCATION:TSK-klubbstugan\, Flottiljvägen 56\, Tullinge\, 146 38\, Sweden
GEO:59.193432193406;17.901717405743
X-APPLE-STRUCTURED-LOCATION;VALUE=URI;X-ADDRESS=TSK-klubbstugan Flottiljvägen 56 Tullinge 146 38 Sweden;X-APPLE-RADIUS=500;X-TITLE=Flottiljvägen 56:geo:17.901717405743,59.193432193406
END:VEVENT
BEGIN:VEVENT
DTSTART;TZID=Europe/Stockholm:20270601T180000
DTEND;TZID=Europe/Stockholm:20270601T190000
DTSTAMP:20260423T012656
CREATED:20260315T172514Z
LAST-MODIFIED:20260315T172514Z
UID:10003065-1811872800-1811876400@www.tullingesk.se
SUMMARY:Grupp4-tisdagsträning
DESCRIPTION:Grupp 4 – tisdagsträning \nGruppen för alla som inte väljer annan grupp  \nAnsvarig denna vecka: \nV12 A-K Ohlsson och Anna Perneby \n  \n  \n  \nFör anvisningar och lista över ansvariga: https://www.tullingesk.se/bredd-motionar/
URL:https://www.tullingesk.se/aktivitet/grupp4-tisdagstraning/2027-06-01/
LOCATION:TSK-klubbstugan\, Flottiljvägen 56\, Tullinge\, 146 38\, Sweden
GEO:59.193432193406;17.901717405743
X-APPLE-STRUCTURED-LOCATION;VALUE=URI;X-ADDRESS=TSK-klubbstugan Flottiljvägen 56 Tullinge 146 38 Sweden;X-APPLE-RADIUS=500;X-TITLE=Flottiljvägen 56:geo:17.901717405743,59.193432193406
END:VEVENT
BEGIN:VEVENT
DTSTART;TZID=Europe/Stockholm:20270601T180000
DTEND;TZID=Europe/Stockholm:20270601T191500
DTSTAMP:20260423T012656
CREATED:20260403T091758Z
LAST-MODIFIED:20260403T091758Z
UID:10003221-1811872800-1811877300@www.tullingesk.se
SUMMARY:9-12 träning
DESCRIPTION:Tisdagsträning för 9-12 gruppen \nSamling vid stakethörnet
URL:https://www.tullingesk.se/aktivitet/9-12-traning-4/2027-06-01/
LOCATION:TSK-klubbstugan\, Flottiljvägen 56\, Tullinge\, 146 38\, Sweden
GEO:59.193432193406;17.901717405743
X-APPLE-STRUCTURED-LOCATION;VALUE=URI;X-ADDRESS=TSK-klubbstugan Flottiljvägen 56 Tullinge 146 38 Sweden;X-APPLE-RADIUS=500;X-TITLE=Flottiljvägen 56:geo:17.901717405743,59.193432193406
END:VEVENT
BEGIN:VEVENT
DTSTART;TZID=Europe/Stockholm:20270601T180000
DTEND;TZID=Europe/Stockholm:20270601T200000
DTSTAMP:20260423T012656
CREATED:20260413T183550Z
LAST-MODIFIED:20260413T183550Z
UID:10001082-1811872800-1811880000@www.tullingesk.se
SUMMARY:HD17
DESCRIPTION:Intervaller på spåret. \nAnsvarig Simon/Matthew
URL:https://www.tullingesk.se/aktivitet/hd17-34-17/2027-06-01/
LOCATION:TSK-klubbstugan\, Flottiljvägen 56\, Tullinge\, 146 38\, Sweden
GEO:59.193432193406;17.901717405743
X-APPLE-STRUCTURED-LOCATION;VALUE=URI;X-ADDRESS=TSK-klubbstugan Flottiljvägen 56 Tullinge 146 38 Sweden;X-APPLE-RADIUS=500;X-TITLE=Flottiljvägen 56:geo:17.901717405743,59.193432193406
END:VEVENT
BEGIN:VEVENT
DTSTART;TZID=Europe/Stockholm:20270608T180000
DTEND;TZID=Europe/Stockholm:20270608T191500
DTSTAMP:20260423T012656
CREATED:20260403T091758Z
LAST-MODIFIED:20260403T091758Z
UID:10003222-1812477600-1812482100@www.tullingesk.se
SUMMARY:9-12 träning
DESCRIPTION:Tisdagsträning för 9-12 gruppen \nSamling vid stakethörnet
URL:https://www.tullingesk.se/aktivitet/9-12-traning-4/2027-06-08/
LOCATION:TSK-klubbstugan\, Flottiljvägen 56\, Tullinge\, 146 38\, Sweden
GEO:59.193432193406;17.901717405743
X-APPLE-STRUCTURED-LOCATION;VALUE=URI;X-ADDRESS=TSK-klubbstugan Flottiljvägen 56 Tullinge 146 38 Sweden;X-APPLE-RADIUS=500;X-TITLE=Flottiljvägen 56:geo:17.901717405743,59.193432193406
END:VEVENT
BEGIN:VEVENT
DTSTART;TZID=Europe/Stockholm:20270608T180000
DTEND;TZID=Europe/Stockholm:20270608T200000
DTSTAMP:20260423T012656
CREATED:20260413T183550Z
LAST-MODIFIED:20260413T183550Z
UID:10001083-1812477600-1812484800@www.tullingesk.se
SUMMARY:HD17
DESCRIPTION:Intervaller på spåret. \nAnsvarig Simon/Matthew
URL:https://www.tullingesk.se/aktivitet/hd17-34-17/2027-06-08/
LOCATION:TSK-klubbstugan\, Flottiljvägen 56\, Tullinge\, 146 38\, Sweden
GEO:59.193432193406;17.901717405743
X-APPLE-STRUCTURED-LOCATION;VALUE=URI;X-ADDRESS=TSK-klubbstugan Flottiljvägen 56 Tullinge 146 38 Sweden;X-APPLE-RADIUS=500;X-TITLE=Flottiljvägen 56:geo:17.901717405743,59.193432193406
END:VEVENT
BEGIN:VEVENT
DTSTART;TZID=Europe/Stockholm:20270615T180000
DTEND;TZID=Europe/Stockholm:20270615T200000
DTSTAMP:20260423T012656
CREATED:20260413T183550Z
LAST-MODIFIED:20260413T183550Z
UID:10001084-1813082400-1813089600@www.tullingesk.se
SUMMARY:HD17
DESCRIPTION:Intervaller på spåret. \nAnsvarig Simon/Matthew
URL:https://www.tullingesk.se/aktivitet/hd17-34-17/2027-06-15/
LOCATION:TSK-klubbstugan\, Flottiljvägen 56\, Tullinge\, 146 38\, Sweden
GEO:59.193432193406;17.901717405743
X-APPLE-STRUCTURED-LOCATION;VALUE=URI;X-ADDRESS=TSK-klubbstugan Flottiljvägen 56 Tullinge 146 38 Sweden;X-APPLE-RADIUS=500;X-TITLE=Flottiljvägen 56:geo:17.901717405743,59.193432193406
END:VEVENT
BEGIN:VEVENT
DTSTART;TZID=Europe/Stockholm:20270622T180000
DTEND;TZID=Europe/Stockholm:20270622T190000
DTSTAMP:20260423T012656
CREATED:20260315T172514Z
LAST-MODIFIED:20260315T172514Z
UID:10003066-1813687200-1813690800@www.tullingesk.se
SUMMARY:Grupp4-tisdagsträning
DESCRIPTION:Grupp 4 – tisdagsträning \nGruppen för alla som inte väljer annan grupp  \nAnsvarig denna vecka: \nV12 A-K Ohlsson och Anna Perneby \n  \n  \n  \nFör anvisningar och lista över ansvariga: https://www.tullingesk.se/bredd-motionar/
URL:https://www.tullingesk.se/aktivitet/grupp4-tisdagstraning/2027-06-22/
LOCATION:TSK-klubbstugan\, Flottiljvägen 56\, Tullinge\, 146 38\, Sweden
GEO:59.193432193406;17.901717405743
X-APPLE-STRUCTURED-LOCATION;VALUE=URI;X-ADDRESS=TSK-klubbstugan Flottiljvägen 56 Tullinge 146 38 Sweden;X-APPLE-RADIUS=500;X-TITLE=Flottiljvägen 56:geo:17.901717405743,59.193432193406
END:VEVENT
BEGIN:VEVENT
DTSTART;TZID=Europe/Stockholm:20270622T180000
DTEND;TZID=Europe/Stockholm:20270622T200000
DTSTAMP:20260423T012656
CREATED:20260413T183550Z
LAST-MODIFIED:20260413T183550Z
UID:10000929-1813687200-1813694400@www.tullingesk.se
SUMMARY:HD17
DESCRIPTION:Intervaller på spåret. \nAnsvarig Simon/Matthew
URL:https://www.tullingesk.se/aktivitet/hd17-34-17/2027-06-22/
LOCATION:TSK-klubbstugan\, Flottiljvägen 56\, Tullinge\, 146 38\, Sweden
GEO:59.193432193406;17.901717405743
X-APPLE-STRUCTURED-LOCATION;VALUE=URI;X-ADDRESS=TSK-klubbstugan Flottiljvägen 56 Tullinge 146 38 Sweden;X-APPLE-RADIUS=500;X-TITLE=Flottiljvägen 56:geo:17.901717405743,59.193432193406
END:VEVENT
BEGIN:VEVENT
DTSTART;TZID=Europe/Stockholm:20270629T180000
DTEND;TZID=Europe/Stockholm:20270629T200000
DTSTAMP:20260423T012656
CREATED:20260413T183550Z
LAST-MODIFIED:20260413T183550Z
UID:10001085-1814292000-1814299200@www.tullingesk.se
SUMMARY:HD17
DESCRIPTION:Intervaller på spåret. \nAnsvarig Simon/Matthew
URL:https://www.tullingesk.se/aktivitet/hd17-34-17/2027-06-29/
LOCATION:TSK-klubbstugan\, Flottiljvägen 56\, Tullinge\, 146 38\, Sweden
GEO:59.193432193406;17.901717405743
X-APPLE-STRUCTURED-LOCATION;VALUE=URI;X-ADDRESS=TSK-klubbstugan Flottiljvägen 56 Tullinge 146 38 Sweden;X-APPLE-RADIUS=500;X-TITLE=Flottiljvägen 56:geo:17.901717405743,59.193432193406
END:VEVENT
BEGIN:VEVENT
DTSTART;TZID=Europe/Stockholm:20270706T180000
DTEND;TZID=Europe/Stockholm:20270706T200000
DTSTAMP:20260423T012656
CREATED:20260413T183550Z
LAST-MODIFIED:20260413T183550Z
UID:10001086-1814896800-1814904000@www.tullingesk.se
SUMMARY:HD17
DESCRIPTION:Intervaller på spåret. \nAnsvarig Simon/Matthew
URL:https://www.tullingesk.se/aktivitet/hd17-34-17/2027-07-06/
LOCATION:TSK-klubbstugan\, Flottiljvägen 56\, Tullinge\, 146 38\, Sweden
GEO:59.193432193406;17.901717405743
X-APPLE-STRUCTURED-LOCATION;VALUE=URI;X-ADDRESS=TSK-klubbstugan Flottiljvägen 56 Tullinge 146 38 Sweden;X-APPLE-RADIUS=500;X-TITLE=Flottiljvägen 56:geo:17.901717405743,59.193432193406
END:VEVENT
BEGIN:VEVENT
DTSTART;TZID=Europe/Stockholm:20270713T180000
DTEND;TZID=Europe/Stockholm:20270713T190000
DTSTAMP:20260423T012656
CREATED:20260315T172514Z
LAST-MODIFIED:20260315T172514Z
UID:10003067-1815501600-1815505200@www.tullingesk.se
SUMMARY:Grupp4-tisdagsträning
DESCRIPTION:Grupp 4 – tisdagsträning \nGruppen för alla som inte väljer annan grupp  \nAnsvarig denna vecka: \nV12 A-K Ohlsson och Anna Perneby \n  \n  \n  \nFör anvisningar och lista över ansvariga: https://www.tullingesk.se/bredd-motionar/
URL:https://www.tullingesk.se/aktivitet/grupp4-tisdagstraning/2027-07-13/
LOCATION:TSK-klubbstugan\, Flottiljvägen 56\, Tullinge\, 146 38\, Sweden
GEO:59.193432193406;17.901717405743
X-APPLE-STRUCTURED-LOCATION;VALUE=URI;X-ADDRESS=TSK-klubbstugan Flottiljvägen 56 Tullinge 146 38 Sweden;X-APPLE-RADIUS=500;X-TITLE=Flottiljvägen 56:geo:17.901717405743,59.193432193406
END:VEVENT
BEGIN:VEVENT
DTSTART;TZID=Europe/Stockholm:20270713T180000
DTEND;TZID=Europe/Stockholm:20270713T200000
DTSTAMP:20260423T012656
CREATED:20260413T183550Z
LAST-MODIFIED:20260413T183550Z
UID:10001087-1815501600-1815508800@www.tullingesk.se
SUMMARY:HD17
DESCRIPTION:Intervaller på spåret. \nAnsvarig Simon/Matthew
URL:https://www.tullingesk.se/aktivitet/hd17-34-17/2027-07-13/
LOCATION:TSK-klubbstugan\, Flottiljvägen 56\, Tullinge\, 146 38\, Sweden
GEO:59.193432193406;17.901717405743
X-APPLE-STRUCTURED-LOCATION;VALUE=URI;X-ADDRESS=TSK-klubbstugan Flottiljvägen 56 Tullinge 146 38 Sweden;X-APPLE-RADIUS=500;X-TITLE=Flottiljvägen 56:geo:17.901717405743,59.193432193406
END:VEVENT
BEGIN:VEVENT
DTSTART;TZID=Europe/Stockholm:20270720T180000
DTEND;TZID=Europe/Stockholm:20270720T200000
DTSTAMP:20260423T012656
CREATED:20260413T183550Z
LAST-MODIFIED:20260413T183550Z
UID:10001088-1816106400-1816113600@www.tullingesk.se
SUMMARY:HD17
DESCRIPTION:Intervaller på spåret. \nAnsvarig Simon/Matthew
URL:https://www.tullingesk.se/aktivitet/hd17-34-17/2027-07-20/
LOCATION:TSK-klubbstugan\, Flottiljvägen 56\, Tullinge\, 146 38\, Sweden
GEO:59.193432193406;17.901717405743
X-APPLE-STRUCTURED-LOCATION;VALUE=URI;X-ADDRESS=TSK-klubbstugan Flottiljvägen 56 Tullinge 146 38 Sweden;X-APPLE-RADIUS=500;X-TITLE=Flottiljvägen 56:geo:17.901717405743,59.193432193406
END:VEVENT
BEGIN:VEVENT
DTSTART;TZID=Europe/Stockholm:20270727T180000
DTEND;TZID=Europe/Stockholm:20270727T200000
DTSTAMP:20260423T012656
CREATED:20260413T183550Z
LAST-MODIFIED:20260413T183550Z
UID:10001089-1816711200-1816718400@www.tullingesk.se
SUMMARY:HD17
DESCRIPTION:Intervaller på spåret. \nAnsvarig Simon/Matthew
URL:https://www.tullingesk.se/aktivitet/hd17-34-17/2027-07-27/
LOCATION:TSK-klubbstugan\, Flottiljvägen 56\, Tullinge\, 146 38\, Sweden
GEO:59.193432193406;17.901717405743
X-APPLE-STRUCTURED-LOCATION;VALUE=URI;X-ADDRESS=TSK-klubbstugan Flottiljvägen 56 Tullinge 146 38 Sweden;X-APPLE-RADIUS=500;X-TITLE=Flottiljvägen 56:geo:17.901717405743,59.193432193406
END:VEVENT
BEGIN:VEVENT
DTSTART;TZID=Europe/Stockholm:20270803T180000
DTEND;TZID=Europe/Stockholm:20270803T190000
DTSTAMP:20260423T012656
CREATED:20260315T172514Z
LAST-MODIFIED:20260315T172514Z
UID:10003068-1817316000-1817319600@www.tullingesk.se
SUMMARY:Grupp4-tisdagsträning
DESCRIPTION:Grupp 4 – tisdagsträning \nGruppen för alla som inte väljer annan grupp  \nAnsvarig denna vecka: \nV12 A-K Ohlsson och Anna Perneby \n  \n  \n  \nFör anvisningar och lista över ansvariga: https://www.tullingesk.se/bredd-motionar/
URL:https://www.tullingesk.se/aktivitet/grupp4-tisdagstraning/2027-08-03/
LOCATION:TSK-klubbstugan\, Flottiljvägen 56\, Tullinge\, 146 38\, Sweden
GEO:59.193432193406;17.901717405743
X-APPLE-STRUCTURED-LOCATION;VALUE=URI;X-ADDRESS=TSK-klubbstugan Flottiljvägen 56 Tullinge 146 38 Sweden;X-APPLE-RADIUS=500;X-TITLE=Flottiljvägen 56:geo:17.901717405743,59.193432193406
END:VEVENT
BEGIN:VEVENT
DTSTART;TZID=Europe/Stockholm:20270803T180000
DTEND;TZID=Europe/Stockholm:20270803T200000
DTSTAMP:20260423T012656
CREATED:20260413T183550Z
LAST-MODIFIED:20260413T183550Z
UID:10000930-1817316000-1817323200@www.tullingesk.se
SUMMARY:HD17
DESCRIPTION:Intervaller på spåret. \nAnsvarig Simon/Matthew
URL:https://www.tullingesk.se/aktivitet/hd17-34-17/2027-08-03/
LOCATION:TSK-klubbstugan\, Flottiljvägen 56\, Tullinge\, 146 38\, Sweden
GEO:59.193432193406;17.901717405743
X-APPLE-STRUCTURED-LOCATION;VALUE=URI;X-ADDRESS=TSK-klubbstugan Flottiljvägen 56 Tullinge 146 38 Sweden;X-APPLE-RADIUS=500;X-TITLE=Flottiljvägen 56:geo:17.901717405743,59.193432193406
END:VEVENT
BEGIN:VEVENT
DTSTART;TZID=Europe/Stockholm:20270810T180000
DTEND;TZID=Europe/Stockholm:20270810T200000
DTSTAMP:20260423T012656
CREATED:20260413T183550Z
LAST-MODIFIED:20260413T183550Z
UID:10001090-1817920800-1817928000@www.tullingesk.se
SUMMARY:HD17
DESCRIPTION:Intervaller på spåret. \nAnsvarig Simon/Matthew
URL:https://www.tullingesk.se/aktivitet/hd17-34-17/2027-08-10/
LOCATION:TSK-klubbstugan\, Flottiljvägen 56\, Tullinge\, 146 38\, Sweden
GEO:59.193432193406;17.901717405743
X-APPLE-STRUCTURED-LOCATION;VALUE=URI;X-ADDRESS=TSK-klubbstugan Flottiljvägen 56 Tullinge 146 38 Sweden;X-APPLE-RADIUS=500;X-TITLE=Flottiljvägen 56:geo:17.901717405743,59.193432193406
END:VEVENT
BEGIN:VEVENT
DTSTART;TZID=Europe/Stockholm:20270817T180000
DTEND;TZID=Europe/Stockholm:20270817T200000
DTSTAMP:20260423T012656
CREATED:20260413T183550Z
LAST-MODIFIED:20260413T183550Z
UID:10001091-1818525600-1818532800@www.tullingesk.se
SUMMARY:HD17
DESCRIPTION:Intervaller på spåret. \nAnsvarig Simon/Matthew
URL:https://www.tullingesk.se/aktivitet/hd17-34-17/2027-08-17/
LOCATION:TSK-klubbstugan\, Flottiljvägen 56\, Tullinge\, 146 38\, Sweden
GEO:59.193432193406;17.901717405743
X-APPLE-STRUCTURED-LOCATION;VALUE=URI;X-ADDRESS=TSK-klubbstugan Flottiljvägen 56 Tullinge 146 38 Sweden;X-APPLE-RADIUS=500;X-TITLE=Flottiljvägen 56:geo:17.901717405743,59.193432193406
END:VEVENT
BEGIN:VEVENT
DTSTART;TZID=Europe/Stockholm:20270824T180000
DTEND;TZID=Europe/Stockholm:20270824T190000
DTSTAMP:20260423T012656
CREATED:20260315T172514Z
LAST-MODIFIED:20260315T172514Z
UID:10003069-1819130400-1819134000@www.tullingesk.se
SUMMARY:Grupp4-tisdagsträning
DESCRIPTION:Grupp 4 – tisdagsträning \nGruppen för alla som inte väljer annan grupp  \nAnsvarig denna vecka: \nV12 A-K Ohlsson och Anna Perneby \n  \n  \n  \nFör anvisningar och lista över ansvariga: https://www.tullingesk.se/bredd-motionar/
URL:https://www.tullingesk.se/aktivitet/grupp4-tisdagstraning/2027-08-24/
LOCATION:TSK-klubbstugan\, Flottiljvägen 56\, Tullinge\, 146 38\, Sweden
GEO:59.193432193406;17.901717405743
X-APPLE-STRUCTURED-LOCATION;VALUE=URI;X-ADDRESS=TSK-klubbstugan Flottiljvägen 56 Tullinge 146 38 Sweden;X-APPLE-RADIUS=500;X-TITLE=Flottiljvägen 56:geo:17.901717405743,59.193432193406
END:VEVENT
BEGIN:VEVENT
DTSTART;TZID=Europe/Stockholm:20270824T180000
DTEND;TZID=Europe/Stockholm:20270824T200000
DTSTAMP:20260423T012656
CREATED:20260413T183550Z
LAST-MODIFIED:20260413T183550Z
UID:10001092-1819130400-1819137600@www.tullingesk.se
SUMMARY:HD17
DESCRIPTION:Intervaller på spåret. \nAnsvarig Simon/Matthew
URL:https://www.tullingesk.se/aktivitet/hd17-34-17/2027-08-24/
LOCATION:TSK-klubbstugan\, Flottiljvägen 56\, Tullinge\, 146 38\, Sweden
GEO:59.193432193406;17.901717405743
X-APPLE-STRUCTURED-LOCATION;VALUE=URI;X-ADDRESS=TSK-klubbstugan Flottiljvägen 56 Tullinge 146 38 Sweden;X-APPLE-RADIUS=500;X-TITLE=Flottiljvägen 56:geo:17.901717405743,59.193432193406
END:VEVENT
BEGIN:VEVENT
DTSTART;TZID=Europe/Stockholm:20270831T180000
DTEND;TZID=Europe/Stockholm:20270831T200000
DTSTAMP:20260423T012656
CREATED:20260413T183550Z
LAST-MODIFIED:20260413T183550Z
UID:10001093-1819735200-1819742400@www.tullingesk.se
SUMMARY:HD17
DESCRIPTION:Intervaller på spåret. \nAnsvarig Simon/Matthew
URL:https://www.tullingesk.se/aktivitet/hd17-34-17/2027-08-31/
LOCATION:TSK-klubbstugan\, Flottiljvägen 56\, Tullinge\, 146 38\, Sweden
GEO:59.193432193406;17.901717405743
X-APPLE-STRUCTURED-LOCATION;VALUE=URI;X-ADDRESS=TSK-klubbstugan Flottiljvägen 56 Tullinge 146 38 Sweden;X-APPLE-RADIUS=500;X-TITLE=Flottiljvägen 56:geo:17.901717405743,59.193432193406
END:VEVENT
BEGIN:VEVENT
DTSTART;TZID=Europe/Stockholm:20270907T180000
DTEND;TZID=Europe/Stockholm:20270907T200000
DTSTAMP:20260423T012656
CREATED:20260413T183550Z
LAST-MODIFIED:20260413T183550Z
UID:10001094-1820340000-1820347200@www.tullingesk.se
SUMMARY:HD17
DESCRIPTION:Intervaller på spåret. \nAnsvarig Simon/Matthew
URL:https://www.tullingesk.se/aktivitet/hd17-34-17/2027-09-07/
LOCATION:TSK-klubbstugan\, Flottiljvägen 56\, Tullinge\, 146 38\, Sweden
GEO:59.193432193406;17.901717405743
X-APPLE-STRUCTURED-LOCATION;VALUE=URI;X-ADDRESS=TSK-klubbstugan Flottiljvägen 56 Tullinge 146 38 Sweden;X-APPLE-RADIUS=500;X-TITLE=Flottiljvägen 56:geo:17.901717405743,59.193432193406
END:VEVENT
BEGIN:VEVENT
DTSTART;TZID=Europe/Stockholm:20270914T180000
DTEND;TZID=Europe/Stockholm:20270914T190000
DTSTAMP:20260423T012656
CREATED:20260315T172514Z
LAST-MODIFIED:20260315T172514Z
UID:10003070-1820944800-1820948400@www.tullingesk.se
SUMMARY:Grupp4-tisdagsträning
DESCRIPTION:Grupp 4 – tisdagsträning \nGruppen för alla som inte väljer annan grupp  \nAnsvarig denna vecka: \nV12 A-K Ohlsson och Anna Perneby \n  \n  \n  \nFör anvisningar och lista över ansvariga: https://www.tullingesk.se/bredd-motionar/
URL:https://www.tullingesk.se/aktivitet/grupp4-tisdagstraning/2027-09-14/
LOCATION:TSK-klubbstugan\, Flottiljvägen 56\, Tullinge\, 146 38\, Sweden
GEO:59.193432193406;17.901717405743
X-APPLE-STRUCTURED-LOCATION;VALUE=URI;X-ADDRESS=TSK-klubbstugan Flottiljvägen 56 Tullinge 146 38 Sweden;X-APPLE-RADIUS=500;X-TITLE=Flottiljvägen 56:geo:17.901717405743,59.193432193406
END:VEVENT
BEGIN:VEVENT
DTSTART;TZID=Europe/Stockholm:20270914T180000
DTEND;TZID=Europe/Stockholm:20270914T200000
DTSTAMP:20260423T012656
CREATED:20260413T183550Z
LAST-MODIFIED:20260413T183550Z
UID:10000931-1820944800-1820952000@www.tullingesk.se
SUMMARY:HD17
DESCRIPTION:Intervaller på spåret. \nAnsvarig Simon/Matthew
URL:https://www.tullingesk.se/aktivitet/hd17-34-17/2027-09-14/
LOCATION:TSK-klubbstugan\, Flottiljvägen 56\, Tullinge\, 146 38\, Sweden
GEO:59.193432193406;17.901717405743
X-APPLE-STRUCTURED-LOCATION;VALUE=URI;X-ADDRESS=TSK-klubbstugan Flottiljvägen 56 Tullinge 146 38 Sweden;X-APPLE-RADIUS=500;X-TITLE=Flottiljvägen 56:geo:17.901717405743,59.193432193406
END:VEVENT
BEGIN:VEVENT
DTSTART;TZID=Europe/Stockholm:20270921T180000
DTEND;TZID=Europe/Stockholm:20270921T200000
DTSTAMP:20260423T012656
CREATED:20260413T183550Z
LAST-MODIFIED:20260413T183550Z
UID:10001095-1821549600-1821556800@www.tullingesk.se
SUMMARY:HD17
DESCRIPTION:Intervaller på spåret. \nAnsvarig Simon/Matthew
URL:https://www.tullingesk.se/aktivitet/hd17-34-17/2027-09-21/
LOCATION:TSK-klubbstugan\, Flottiljvägen 56\, Tullinge\, 146 38\, Sweden
GEO:59.193432193406;17.901717405743
X-APPLE-STRUCTURED-LOCATION;VALUE=URI;X-ADDRESS=TSK-klubbstugan Flottiljvägen 56 Tullinge 146 38 Sweden;X-APPLE-RADIUS=500;X-TITLE=Flottiljvägen 56:geo:17.901717405743,59.193432193406
END:VEVENT
BEGIN:VEVENT
DTSTART;TZID=Europe/Stockholm:20270928T180000
DTEND;TZID=Europe/Stockholm:20270928T200000
DTSTAMP:20260423T012656
CREATED:20260413T183550Z
LAST-MODIFIED:20260413T183550Z
UID:10001096-1822154400-1822161600@www.tullingesk.se
SUMMARY:HD17
DESCRIPTION:Intervaller på spåret. \nAnsvarig Simon/Matthew
URL:https://www.tullingesk.se/aktivitet/hd17-34-17/2027-09-28/
LOCATION:TSK-klubbstugan\, Flottiljvägen 56\, Tullinge\, 146 38\, Sweden
GEO:59.193432193406;17.901717405743
X-APPLE-STRUCTURED-LOCATION;VALUE=URI;X-ADDRESS=TSK-klubbstugan Flottiljvägen 56 Tullinge 146 38 Sweden;X-APPLE-RADIUS=500;X-TITLE=Flottiljvägen 56:geo:17.901717405743,59.193432193406
END:VEVENT
BEGIN:VEVENT
DTSTART;TZID=Europe/Stockholm:20271005T180000
DTEND;TZID=Europe/Stockholm:20271005T190000
DTSTAMP:20260423T012656
CREATED:20260315T172514Z
LAST-MODIFIED:20260315T172514Z
UID:10003071-1822759200-1822762800@www.tullingesk.se
SUMMARY:Grupp4-tisdagsträning
DESCRIPTION:Grupp 4 – tisdagsträning \nGruppen för alla som inte väljer annan grupp  \nAnsvarig denna vecka: \nV12 A-K Ohlsson och Anna Perneby \n  \n  \n  \nFör anvisningar och lista över ansvariga: https://www.tullingesk.se/bredd-motionar/
URL:https://www.tullingesk.se/aktivitet/grupp4-tisdagstraning/2027-10-05/
LOCATION:TSK-klubbstugan\, Flottiljvägen 56\, Tullinge\, 146 38\, Sweden
GEO:59.193432193406;17.901717405743
X-APPLE-STRUCTURED-LOCATION;VALUE=URI;X-ADDRESS=TSK-klubbstugan Flottiljvägen 56 Tullinge 146 38 Sweden;X-APPLE-RADIUS=500;X-TITLE=Flottiljvägen 56:geo:17.901717405743,59.193432193406
END:VEVENT
BEGIN:VEVENT
DTSTART;TZID=Europe/Stockholm:20271005T180000
DTEND;TZID=Europe/Stockholm:20271005T200000
DTSTAMP:20260423T012656
CREATED:20260413T183550Z
LAST-MODIFIED:20260413T183550Z
UID:10001097-1822759200-1822766400@www.tullingesk.se
SUMMARY:HD17
DESCRIPTION:Intervaller på spåret. \nAnsvarig Simon/Matthew
URL:https://www.tullingesk.se/aktivitet/hd17-34-17/2027-10-05/
LOCATION:TSK-klubbstugan\, Flottiljvägen 56\, Tullinge\, 146 38\, Sweden
GEO:59.193432193406;17.901717405743
X-APPLE-STRUCTURED-LOCATION;VALUE=URI;X-ADDRESS=TSK-klubbstugan Flottiljvägen 56 Tullinge 146 38 Sweden;X-APPLE-RADIUS=500;X-TITLE=Flottiljvägen 56:geo:17.901717405743,59.193432193406
END:VEVENT
END:VCALENDAR