BEGIN:VCALENDAR
VERSION:2.0
PRODID:-//Tullinge SK - ECPv6.15.20//NONSGML v1.0//EN
CALSCALE:GREGORIAN
METHOD:PUBLISH
X-WR-CALNAME:Tullinge SK
X-ORIGINAL-URL:https://www.tullingesk.se
X-WR-CALDESC:Händelser för Tullinge SK
REFRESH-INTERVAL;VALUE=DURATION:PT1H
X-Robots-Tag:noindex
X-PUBLISHED-TTL:PT1H
BEGIN:VTIMEZONE
TZID:Europe/Stockholm
BEGIN:DAYLIGHT
TZOFFSETFROM:+0100
TZOFFSETTO:+0200
TZNAME:CEST
DTSTART:20230326T010000
END:DAYLIGHT
BEGIN:STANDARD
TZOFFSETFROM:+0200
TZOFFSETTO:+0100
TZNAME:CET
DTSTART:20231029T010000
END:STANDARD
BEGIN:DAYLIGHT
TZOFFSETFROM:+0100
TZOFFSETTO:+0200
TZNAME:CEST
DTSTART:20240331T010000
END:DAYLIGHT
BEGIN:STANDARD
TZOFFSETFROM:+0200
TZOFFSETTO:+0100
TZNAME:CET
DTSTART:20241027T010000
END:STANDARD
BEGIN:DAYLIGHT
TZOFFSETFROM:+0100
TZOFFSETTO:+0200
TZNAME:CEST
DTSTART:20250330T010000
END:DAYLIGHT
BEGIN:STANDARD
TZOFFSETFROM:+0200
TZOFFSETTO:+0100
TZNAME:CET
DTSTART:20251026T010000
END:STANDARD
END:VTIMEZONE
BEGIN:VEVENT
DTSTART;TZID=Europe/Stockholm:20240426T100000
DTEND;TZID=Europe/Stockholm:20240426T150000
DTSTAMP:20260420T105151
CREATED:20240316T120227Z
LAST-MODIFIED:20240316T120227Z
UID:10001162-1714125600-1714143600@www.tullingesk.se
SUMMARY:Storstuga/kök bokad/ TSK-veteranerna
DESCRIPTION:Storstuga/kök bokad/ TSK-veteranerna\, lagkuvert 10mila
URL:https://www.tullingesk.se/aktivitet/storstuga-kok-bokad-tsk-veteranerna-2/
LOCATION:TSK-klubbstugan\, Flottiljvägen 56\, Tullinge\, 146 38\, Sweden
CATEGORIES:Uthyrning klubbstugan
GEO:59.193432193406;17.901717405743
X-APPLE-STRUCTURED-LOCATION;VALUE=URI;X-ADDRESS=TSK-klubbstugan Flottiljvägen 56 Tullinge 146 38 Sweden;X-APPLE-RADIUS=500;X-TITLE=Flottiljvägen 56:geo:17.901717405743,59.193432193406
END:VEVENT
BEGIN:VEVENT
DTSTART;VALUE=DATE:20240426
DTEND;VALUE=DATE:20240427
DTSTAMP:20260420T105151
CREATED:20240202T111508Z
LAST-MODIFIED:20240202T111508Z
UID:10000822-1714089600-1714175999@www.tullingesk.se
SUMMARY:VM-test\, individuell sprintdistans
DESCRIPTION:
URL:https://www.tullingesk.se/aktivitet/vm-test-individuell-sprintdistans/
CATEGORIES:Orienteringstävling
END:VEVENT
BEGIN:VEVENT
DTSTART;VALUE=DATE:20240426
DTEND;VALUE=DATE:20240427
DTSTAMP:20260420T105151
CREATED:20240202T111508Z
LAST-MODIFIED:20240202T111508Z
UID:10000823-1714089600-1714175999@www.tullingesk.se
SUMMARY:Publiktävling VM-test\, sprint
DESCRIPTION:
URL:https://www.tullingesk.se/aktivitet/publiktavling-vm-test-sprint/
CATEGORIES:Orienteringstävling
END:VEVENT
BEGIN:VEVENT
DTSTART;TZID=Europe/Stockholm:20240425T180000
DTEND;TZID=Europe/Stockholm:20240425T190000
DTSTAMP:20260420T105151
CREATED:20240404T060239Z
LAST-MODIFIED:20240423T120305Z
UID:10001178-1714068000-1714071600@www.tullingesk.se
SUMMARY:Teknikträning Rikstens gård / Lida
DESCRIPTION:Teknikträning vid Rikstens gård / Lida \nAnmälan senast onsdag kl 12 via Eventor: https://eventor.orientering.se/Activities/Show/20830 \nSamling: Parkeringen Lida \nBanor/tema: \nSvart – stafett-träning med masstart kl 18:05 – gafflade banor\, max 9\,3 km men avkortningsbar\nFör den som inte vill köra masstart finns möjlighet att välja svart bana lång (9\,3)\, mellan (5\,7) eller kort (3\,6)\nPå de svarta banorna är småstigarna borttagna från kartan. \nVit 2\,3 km – vanlig bana\nGul 2\,7 km – vanlig bana men våga gena\nOrange 3\,3 km – vanliga bana men nyttja möjligheten att förstora för att lättare hitta kontrollen – oftast finns en större höjd eller annat större terrängföremål i närheten – försök hitta den och underlätta hittandet av kontrollen \nSvart stafetträning har skala 1:10000 övriga banor skala 1:7500 \nKontrollmarkeringar är rödvit plastsnitsel. Kontroller som ingår i vit och gul bana har kodsiffra skriven på snitseln. Kontrollmarkeringarna beräknas sitta kvar till 3/5. Vissa banor för även upplagda i filarkivet för egen utskrift/träning. \nAnsvariga ledare:\n9-12 Ledare: Frida och Rickard\, Närvaro: Ava P\n13-16 Ledare: Calle \nBanläggare:\nRickard \nInplockning:\nFam Aasa \nLivelox: https://www.livelox.com/Events/Show/126206/Sydsam-vast-v-17
URL:https://www.tullingesk.se/aktivitet/tekniktraning-rikstens-gard-lida/
END:VEVENT
BEGIN:VEVENT
DTSTART;TZID=Europe/Stockholm:20240425T100000
DTEND;TZID=Europe/Stockholm:20240425T150000
DTSTAMP:20260420T105151
CREATED:20240316T120119Z
LAST-MODIFIED:20240316T120119Z
UID:10001161-1714039200-1714057200@www.tullingesk.se
SUMMARY:Storstuga/kök bokad/ TSK-veteranerna
DESCRIPTION:Storstuga/kök bokad/ TSK-veteranerna\, lagkuvert 10mila
URL:https://www.tullingesk.se/aktivitet/storstuga-kok-bokad-tsk-veteranerna/
LOCATION:TSK-klubbstugan\, Flottiljvägen 56\, Tullinge\, 146 38\, Sweden
CATEGORIES:Uthyrning klubbstugan
GEO:59.193432193406;17.901717405743
X-APPLE-STRUCTURED-LOCATION;VALUE=URI;X-ADDRESS=TSK-klubbstugan Flottiljvägen 56 Tullinge 146 38 Sweden;X-APPLE-RADIUS=500;X-TITLE=Flottiljvägen 56:geo:17.901717405743,59.193432193406
END:VEVENT
BEGIN:VEVENT
DTSTART;TZID=Europe/Stockholm:20240424T190000
DTEND;TZID=Europe/Stockholm:20240424T203000
DTSTAMP:20260420T105151
CREATED:20240422T163432Z
LAST-MODIFIED:20240422T163432Z
UID:10001188-1713985200-1713990600@www.tullingesk.se
SUMMARY:Mötesrum v entrén bokad /Kerstin o Emil
DESCRIPTION:
URL:https://www.tullingesk.se/aktivitet/motesrum-v-entren-bokad-kerstin-o-emil/
LOCATION:TSK-klubbstugan\, Flottiljvägen 56\, Tullinge\, 146 38\, Sweden
CATEGORIES:Uthyrning klubbstugan
GEO:59.193432193406;17.901717405743
X-APPLE-STRUCTURED-LOCATION;VALUE=URI;X-ADDRESS=TSK-klubbstugan Flottiljvägen 56 Tullinge 146 38 Sweden;X-APPLE-RADIUS=500;X-TITLE=Flottiljvägen 56:geo:17.901717405743,59.193432193406
END:VEVENT
BEGIN:VEVENT
DTSTART;TZID=Europe/Stockholm:20240424T180000
DTEND;TZID=Europe/Stockholm:20240424T210000
DTSTAMP:20260420T105151
CREATED:20240414T135718Z
LAST-MODIFIED:20240414T135718Z
UID:10001180-1713981600-1713992400@www.tullingesk.se
SUMMARY:Storstugan bokad/ALMA
DESCRIPTION:Storstugan bokad\, ALMA PA Forsberg
URL:https://www.tullingesk.se/aktivitet/storstugan-bokad-alma/
LOCATION:TSK-klubbstugan\, Flottiljvägen 56\, Tullinge\, 146 38\, Sweden
CATEGORIES:Uthyrning klubbstugan
GEO:59.193432193406;17.901717405743
X-APPLE-STRUCTURED-LOCATION;VALUE=URI;X-ADDRESS=TSK-klubbstugan Flottiljvägen 56 Tullinge 146 38 Sweden;X-APPLE-RADIUS=500;X-TITLE=Flottiljvägen 56:geo:17.901717405743,59.193432193406
END:VEVENT
BEGIN:VEVENT
DTSTART;TZID=Europe/Stockholm:20240423T193000
DTEND;TZID=Europe/Stockholm:20240423T210000
DTSTAMP:20260420T105151
CREATED:20240422T163309Z
LAST-MODIFIED:20240422T163646Z
UID:10001187-1713900600-1713906000@www.tullingesk.se
SUMMARY:Mötesrum v entren bokad/Karin Lundberg
DESCRIPTION:
URL:https://www.tullingesk.se/aktivitet/motesrum-v-entren-bokad-karin-lundberg/
LOCATION:TSK-klubbstugan\, Flottiljvägen 56\, Tullinge\, 146 38\, Sweden
CATEGORIES:Uthyrning klubbstugan
GEO:59.193432193406;17.901717405743
X-APPLE-STRUCTURED-LOCATION;VALUE=URI;X-ADDRESS=TSK-klubbstugan Flottiljvägen 56 Tullinge 146 38 Sweden;X-APPLE-RADIUS=500;X-TITLE=Flottiljvägen 56:geo:17.901717405743,59.193432193406
END:VEVENT
BEGIN:VEVENT
DTSTART;TZID=Europe/Stockholm:20240423T193000
DTEND;TZID=Europe/Stockholm:20240423T203000
DTSTAMP:20260420T105151
CREATED:20240422T174536Z
LAST-MODIFIED:20240422T174536Z
UID:10001190-1713900600-1713904200@www.tullingesk.se
SUMMARY:Styrelserummet bokat
DESCRIPTION:Prata mera sport \n/Yvonne
URL:https://www.tullingesk.se/aktivitet/styrelserummet-bokat-5/
LOCATION:TSK-klubbstugan\, Flottiljvägen 56\, Tullinge\, 146 38\, Sweden
CATEGORIES:Elitkommittén
GEO:59.193432193406;17.901717405743
X-APPLE-STRUCTURED-LOCATION;VALUE=URI;X-ADDRESS=TSK-klubbstugan Flottiljvägen 56 Tullinge 146 38 Sweden;X-APPLE-RADIUS=500;X-TITLE=Flottiljvägen 56:geo:17.901717405743,59.193432193406
END:VEVENT
BEGIN:VEVENT
DTSTART;TZID=Europe/Stockholm:20240423T180000
DTEND;TZID=Europe/Stockholm:20240423T210000
DTSTAMP:20260420T105151
CREATED:20240310T081108Z
LAST-MODIFIED:20240422T175042Z
UID:10000885-1713895200-1713906000@www.tullingesk.se
SUMMARY:Soppa och städa
DESCRIPTION:Soppa: J+A Aasa/C Stenson/Å Rimsjö Sand/P Sannicolo \nStäda Dam: Kerstin Imark och Madara Brice \nStäda Herr: Andreas Aasa och Johan Ställberg
URL:https://www.tullingesk.se/aktivitet/soppa-och-stada-28/
LOCATION:TSK-klubbstugan\, Flottiljvägen 56\, Tullinge\, 146 38\, Sweden
GEO:59.193432193406;17.901717405743
X-APPLE-STRUCTURED-LOCATION;VALUE=URI;X-ADDRESS=TSK-klubbstugan Flottiljvägen 56 Tullinge 146 38 Sweden;X-APPLE-RADIUS=500;X-TITLE=Flottiljvägen 56:geo:17.901717405743,59.193432193406
END:VEVENT
BEGIN:VEVENT
DTSTART;TZID=Europe/Stockholm:20240423T180000
DTEND;TZID=Europe/Stockholm:20240423T200000
DTSTAMP:20260420T105151
CREATED:20240414T185818Z
LAST-MODIFIED:20240421T195931Z
UID:10000947-1713895200-1713902400@www.tullingesk.se
SUMMARY:HD17: 4x (3\,2\,1) vila 60
DESCRIPTION:Intervaller på spåret\, 4x (3\,2\,1)
URL:https://www.tullingesk.se/aktivitet/hd17-38/
LOCATION:TSK-klubbstugan\, Flottiljvägen 56\, Tullinge\, 146 38\, Sweden
GEO:59.193432193406;17.901717405743
X-APPLE-STRUCTURED-LOCATION;VALUE=URI;X-ADDRESS=TSK-klubbstugan Flottiljvägen 56 Tullinge 146 38 Sweden;X-APPLE-RADIUS=500;X-TITLE=Flottiljvägen 56:geo:17.901717405743,59.193432193406
END:VEVENT
BEGIN:VEVENT
DTSTART;TZID=Europe/Stockholm:20240423T180000
DTEND;TZID=Europe/Stockholm:20240423T191500
DTSTAMP:20260420T105151
CREATED:20240421T160837Z
LAST-MODIFIED:20240421T160837Z
UID:10001186-1713895200-1713899700@www.tullingesk.se
SUMMARY:9-12 tisdagsträning
DESCRIPTION:
URL:https://www.tullingesk.se/aktivitet/9-12-tisdagstraning-8/
LOCATION:TSK-klubbstugan\, Flottiljvägen 56\, Tullinge\, 146 38\, Sweden
GEO:59.193432193406;17.901717405743
X-APPLE-STRUCTURED-LOCATION;VALUE=URI;X-ADDRESS=TSK-klubbstugan Flottiljvägen 56 Tullinge 146 38 Sweden;X-APPLE-RADIUS=500;X-TITLE=Flottiljvägen 56:geo:17.901717405743,59.193432193406
END:VEVENT
BEGIN:VEVENT
DTSTART;TZID=Europe/Stockholm:20240423T180000
DTEND;TZID=Europe/Stockholm:20240423T190000
DTSTAMP:20260420T105151
CREATED:20240401T061111Z
LAST-MODIFIED:20240422T064721Z
UID:10000403-1713895200-1713898800@www.tullingesk.se
SUMMARY:Grupp 4
DESCRIPTION:Vi kör Kenneths träning från påsklovet då det var få som sprang den då. Alla banor är i 1:7500\, A3-format\, så medtag plastficka. Det finns 15-20 exemplar av varje bana\, så först till kvarn. Avkortningsmöjligheter finns\, korta banan har en kontroll som inte finns med på mellan och långa. \nKorta: 3\,8km\nMellan: 5\,4km\nLånga: 6\,6km \nv17 Daniel Helander & Henrik Bladh
URL:https://www.tullingesk.se/aktivitet/grupp-4-2-30/
LOCATION:TSK-klubbstugan\, Flottiljvägen 56\, Tullinge\, 146 38\, Sweden
GEO:59.193432193406;17.901717405743
X-APPLE-STRUCTURED-LOCATION;VALUE=URI;X-ADDRESS=TSK-klubbstugan Flottiljvägen 56 Tullinge 146 38 Sweden;X-APPLE-RADIUS=500;X-TITLE=Flottiljvägen 56:geo:17.901717405743,59.193432193406
END:VEVENT
BEGIN:VEVENT
DTSTART;VALUE=DATE:20240421
DTEND;VALUE=DATE:20240422
DTSTAMP:20260420T105151
CREATED:20240202T110254Z
LAST-MODIFIED:20240202T110254Z
UID:10000757-1713657600-1713743999@www.tullingesk.se
SUMMARY:Uppsala möte\, lång
DESCRIPTION:
URL:https://www.tullingesk.se/aktivitet/uppsala-mote-lang/
CATEGORIES:Orienteringstävling
END:VEVENT
BEGIN:VEVENT
DTSTART;VALUE=DATE:20240421
DTEND;VALUE=DATE:20240422
DTSTAMP:20260420T105151
CREATED:20240202T110254Z
LAST-MODIFIED:20240202T110254Z
UID:10000756-1713657600-1713743999@www.tullingesk.se
SUMMARY:Strängnäsdubbeln\, dag 2\, lång
DESCRIPTION:
URL:https://www.tullingesk.se/aktivitet/strangnasdubbeln-dag-2-lang/
CATEGORIES:Orienteringstävling
END:VEVENT
BEGIN:VEVENT
DTSTART;VALUE=DATE:20240420
DTEND;VALUE=DATE:20240421
DTSTAMP:20260420T105151
CREATED:20240202T110708Z
LAST-MODIFIED:20240202T110708Z
UID:10000791-1713571200-1713657599@www.tullingesk.se
SUMMARY:Uppsala möte\, medel
DESCRIPTION:
URL:https://www.tullingesk.se/aktivitet/uppsala-mote-medel/
CATEGORIES:Orienteringstävling
END:VEVENT
BEGIN:VEVENT
DTSTART;VALUE=DATE:20240420
DTEND;VALUE=DATE:20240421
DTSTAMP:20260420T105151
CREATED:20240202T110254Z
LAST-MODIFIED:20240202T110254Z
UID:10000755-1713571200-1713657599@www.tullingesk.se
SUMMARY:Strängnäsdubbeln\, dag 1\, medel
DESCRIPTION:
URL:https://www.tullingesk.se/aktivitet/strangnasdubbeln-dag-1-medel/
CATEGORIES:Orienteringstävling
END:VEVENT
BEGIN:VEVENT
DTSTART;VALUE=DATE:20240419
DTEND;VALUE=DATE:20240420
DTSTAMP:20260420T105151
CREATED:20240202T110500Z
LAST-MODIFIED:20240202T110500Z
UID:10000781-1713484800-1713571199@www.tullingesk.se
SUMMARY:Uppsala möte\, natt
DESCRIPTION:
URL:https://www.tullingesk.se/aktivitet/uppsala-mote-natt/
CATEGORIES:Orienteringstävling
END:VEVENT
BEGIN:VEVENT
DTSTART;TZID=Europe/Stockholm:20240418T180000
DTEND;TZID=Europe/Stockholm:20240418T193000
DTSTAMP:20260420T105151
CREATED:20240404T055958Z
LAST-MODIFIED:20240412T060853Z
UID:10001177-1713463200-1713468600@www.tullingesk.se
SUMMARY:Teknikträning Mörtsjön
DESCRIPTION:Teknikträning vid Mörtsjön \nAnmälan senast onsdag kl 12 via Eventor: https://eventor.orientering.se/Activities/Show/20756 \nSamling: Vinkeln Mörtsjövägen/Flintvägen https://kartor.eniro.se/m/XocTP \nBanor/tema:\nSvart och orange: Kontrollplock/korridor och brunbild\nGul: Stjärnorientering med fokus på sista säkra\nVit: Stjärnorientering \nBanlängder:\nSvart 8\,2 (- 3\,6) km avkortningsbar på flera sätt\nOrange 3\,1 km \nAnsvariga ledare:\n9-12 Ledare: Mats och Fredrik\, Närvaro: Ture P\n13-16 Ledare: Anna \nBanläggare:\nSvart och orange: Sydsam\nGul och vit: Mats B \nInplockning vit och gul: Anders S \nKartor orange och svart finns i filarkivet för egen träning också\nLivelox:https://www.livelox.com/Events/Show/124978/Tekniktraningssamarbe tet-Syd-vast-vecka-16
URL:https://www.tullingesk.se/aktivitet/tekniktraning-mortsjon-2/
LOCATION:Mörtsjön
END:VEVENT
BEGIN:VEVENT
DTSTART;VALUE=DATE:20240418
DTEND;VALUE=DATE:20240419
DTSTAMP:20260420T105151
CREATED:20240202T110409Z
LAST-MODIFIED:20240202T110409Z
UID:10000769-1713398400-1713484799@www.tullingesk.se
SUMMARY:Knivstasprinten
DESCRIPTION:
URL:https://www.tullingesk.se/aktivitet/knivstasprinten/
CATEGORIES:Orienteringstävling
END:VEVENT
BEGIN:VEVENT
DTSTART;VALUE=DATE:20240417
DTEND;VALUE=DATE:20240418
DTSTAMP:20260420T105151
CREATED:20240202T110908Z
LAST-MODIFIED:20240202T110908Z
UID:10000793-1713312000-1713398399@www.tullingesk.se
SUMMARY:Tiomilarepet
DESCRIPTION:
URL:https://www.tullingesk.se/aktivitet/tiomilarepet/
CATEGORIES:Orienteringstävling
END:VEVENT
BEGIN:VEVENT
DTSTART;TZID=Europe/Stockholm:20240416T193000
DTEND;TZID=Europe/Stockholm:20240416T210000
DTSTAMP:20260420T105151
CREATED:20240325T195822Z
LAST-MODIFIED:20240325T195822Z
UID:10001170-1713295800-1713301200@www.tullingesk.se
SUMMARY:EK-Månadsmöte
DESCRIPTION:Lilla mötesrummet
URL:https://www.tullingesk.se/aktivitet/ek-manadsmote/
LOCATION:TSK-klubbstugan\, Flottiljvägen 56\, Tullinge\, 146 38\, Sweden
CATEGORIES:Elitkommittén
GEO:59.193432193406;17.901717405743
X-APPLE-STRUCTURED-LOCATION;VALUE=URI;X-ADDRESS=TSK-klubbstugan Flottiljvägen 56 Tullinge 146 38 Sweden;X-APPLE-RADIUS=500;X-TITLE=Flottiljvägen 56:geo:17.901717405743,59.193432193406
END:VEVENT
BEGIN:VEVENT
DTSTART;TZID=Europe/Stockholm:20240416T180000
DTEND;TZID=Europe/Stockholm:20240416T210000
DTSTAMP:20260420T105151
CREATED:20240310T080741Z
LAST-MODIFIED:20240310T080741Z
UID:10000884-1713290400-1713301200@www.tullingesk.se
SUMMARY:Soppa och städa
DESCRIPTION:Soppa: L+B Normark/H Bladh/J Ohlin/K Lundberg \nStäda Dam: Pia-Lena Putkonen och Marie Heinrup \nStäda Herr: Thomas Sundberg och David Nygren
URL:https://www.tullingesk.se/aktivitet/soppa-och-stada-27/
LOCATION:TSK-klubbstugan\, Flottiljvägen 56\, Tullinge\, 146 38\, Sweden
GEO:59.193432193406;17.901717405743
X-APPLE-STRUCTURED-LOCATION;VALUE=URI;X-ADDRESS=TSK-klubbstugan Flottiljvägen 56 Tullinge 146 38 Sweden;X-APPLE-RADIUS=500;X-TITLE=Flottiljvägen 56:geo:17.901717405743,59.193432193406
END:VEVENT
BEGIN:VEVENT
DTSTART;TZID=Europe/Stockholm:20240416T180000
DTEND;TZID=Europe/Stockholm:20240416T200000
DTSTAMP:20260420T105151
CREATED:20240414T185808Z
LAST-MODIFIED:20240414T190859Z
UID:10000946-1713290400-1713297600@www.tullingesk.se
SUMMARY:HD17: 6x Dubbelbacke på spåret (upp och ner för "5K höjden")
DESCRIPTION:6x Dubbelbake på spåret (upp och ner för ”5K höjden”)
URL:https://www.tullingesk.se/aktivitet/hd17-37/
LOCATION:TSK-klubbstugan\, Flottiljvägen 56\, Tullinge\, 146 38\, Sweden
GEO:59.193432193406;17.901717405743
X-APPLE-STRUCTURED-LOCATION;VALUE=URI;X-ADDRESS=TSK-klubbstugan Flottiljvägen 56 Tullinge 146 38 Sweden;X-APPLE-RADIUS=500;X-TITLE=Flottiljvägen 56:geo:17.901717405743,59.193432193406
END:VEVENT
BEGIN:VEVENT
DTSTART;TZID=Europe/Stockholm:20240416T180000
DTEND;TZID=Europe/Stockholm:20240416T191500
DTSTAMP:20260420T105151
CREATED:20240415T053714Z
LAST-MODIFIED:20240415T053714Z
UID:10001184-1713290400-1713294900@www.tullingesk.se
SUMMARY:1316-gruppen OL-intervaller
DESCRIPTION:5x ca 500m (vila ca 2 min) \nFart! \n(Johan & Andreas)
URL:https://www.tullingesk.se/aktivitet/1316-gruppen-ol-intervaller/
LOCATION:TSK-klubbstugan\, Flottiljvägen 56\, Tullinge\, 146 38\, Sweden
GEO:59.193432193406;17.901717405743
X-APPLE-STRUCTURED-LOCATION;VALUE=URI;X-ADDRESS=TSK-klubbstugan Flottiljvägen 56 Tullinge 146 38 Sweden;X-APPLE-RADIUS=500;X-TITLE=Flottiljvägen 56:geo:17.901717405743,59.193432193406
END:VEVENT
BEGIN:VEVENT
DTSTART;TZID=Europe/Stockholm:20240416T180000
DTEND;TZID=Europe/Stockholm:20240416T191500
DTSTAMP:20260420T105151
CREATED:20240414T184042Z
LAST-MODIFIED:20240414T184042Z
UID:10001182-1713290400-1713294900@www.tullingesk.se
SUMMARY:9-12 Tisdagsträning
DESCRIPTION:
URL:https://www.tullingesk.se/aktivitet/9-12-tisdagstraning-7/
LOCATION:TSK-klubbstugan\, Flottiljvägen 56\, Tullinge\, 146 38\, Sweden
GEO:59.193432193406;17.901717405743
X-APPLE-STRUCTURED-LOCATION;VALUE=URI;X-ADDRESS=TSK-klubbstugan Flottiljvägen 56 Tullinge 146 38 Sweden;X-APPLE-RADIUS=500;X-TITLE=Flottiljvägen 56:geo:17.901717405743,59.193432193406
END:VEVENT
BEGIN:VEVENT
DTSTART;TZID=Europe/Stockholm:20240416T180000
DTEND;TZID=Europe/Stockholm:20240416T190000
DTSTAMP:20260420T105151
CREATED:20240401T060901Z
LAST-MODIFIED:20240415T202237Z
UID:10000402-1713290400-1713294000@www.tullingesk.se
SUMMARY:Grupp 4
DESCRIPTION:v16 Rickard Andersson & Peter Mattila \nDet blir orienteringsslingor i området nära Ica Riksten \nDet är nästan samma grupp4träning som vi körde i början av december men då var det snöstorm\, mörkt och få deltagare så vi kör denna en gång till\, men nu med en ny slinga tillagd. Uthängda vita snitslar (utom på en slinga som heter ej uthängt där vissa kontrollpunkter saknar snitsel). Slingorna är ca 0\,6 -1\,5 km per st.\nMedtag plastficka för A4 och kör hårt!
URL:https://www.tullingesk.se/aktivitet/grupp-4-2-29/
LOCATION:TSK-klubbstugan\, Flottiljvägen 56\, Tullinge\, 146 38\, Sweden
GEO:59.193432193406;17.901717405743
X-APPLE-STRUCTURED-LOCATION;VALUE=URI;X-ADDRESS=TSK-klubbstugan Flottiljvägen 56 Tullinge 146 38 Sweden;X-APPLE-RADIUS=500;X-TITLE=Flottiljvägen 56:geo:17.901717405743,59.193432193406
END:VEVENT
BEGIN:VEVENT
DTSTART;TZID=Europe/Stockholm:20240415T180000
DTEND;TZID=Europe/Stockholm:20240415T210000
DTSTAMP:20260420T105151
CREATED:20240302T085029Z
LAST-MODIFIED:20240302T085029Z
UID:10000870-1713204000-1713214800@www.tullingesk.se
SUMMARY:Stugan uthyrd/TSS
DESCRIPTION:Möte TSS Lars Berggren
URL:https://www.tullingesk.se/aktivitet/stugan-uthyrd-tss-5/
LOCATION:TSK-klubbstugan\, Flottiljvägen 56\, Tullinge\, 146 38\, Sweden
CATEGORIES:Uthyrning klubbstugan
GEO:59.193432193406;17.901717405743
X-APPLE-STRUCTURED-LOCATION;VALUE=URI;X-ADDRESS=TSK-klubbstugan Flottiljvägen 56 Tullinge 146 38 Sweden;X-APPLE-RADIUS=500;X-TITLE=Flottiljvägen 56:geo:17.901717405743,59.193432193406
END:VEVENT
BEGIN:VEVENT
DTSTART;VALUE=DATE:20240414
DTEND;VALUE=DATE:20240415
DTSTAMP:20260420T105152
CREATED:20240202T110309Z
LAST-MODIFIED:20240202T110309Z
UID:10000762-1713052800-1713139199@www.tullingesk.se
SUMMARY:Enenracet
DESCRIPTION:
URL:https://www.tullingesk.se/aktivitet/enenracet/
CATEGORIES:Orienteringstävling
END:VEVENT
BEGIN:VEVENT
DTSTART;VALUE=DATE:20240414
DTEND;VALUE=DATE:20240415
DTSTAMP:20260420T105152
CREATED:20240202T110206Z
LAST-MODIFIED:20240202T110206Z
UID:10000739-1713052800-1713139199@www.tullingesk.se
SUMMARY:Stigtomtakavlen\, individuella öppna klasser
DESCRIPTION:
URL:https://www.tullingesk.se/aktivitet/stigtomtakavlen-individuella-oppna-klasser/
CATEGORIES:Orienteringstävling
END:VEVENT
END:VCALENDAR