BEGIN:VCALENDAR
VERSION:2.0
PRODID:-//Tullinge SK - ECPv6.15.20//NONSGML v1.0//EN
CALSCALE:GREGORIAN
METHOD:PUBLISH
X-ORIGINAL-URL:https://www.tullingesk.se
X-WR-CALDESC:Händelser för Tullinge SK
REFRESH-INTERVAL;VALUE=DURATION:PT1H
X-Robots-Tag:noindex
X-PUBLISHED-TTL:PT1H
BEGIN:VTIMEZONE
TZID:Europe/Stockholm
BEGIN:DAYLIGHT
TZOFFSETFROM:+0100
TZOFFSETTO:+0200
TZNAME:CEST
DTSTART:20240331T010000
END:DAYLIGHT
BEGIN:STANDARD
TZOFFSETFROM:+0200
TZOFFSETTO:+0100
TZNAME:CET
DTSTART:20241027T010000
END:STANDARD
BEGIN:DAYLIGHT
TZOFFSETFROM:+0100
TZOFFSETTO:+0200
TZNAME:CEST
DTSTART:20250330T010000
END:DAYLIGHT
BEGIN:STANDARD
TZOFFSETFROM:+0200
TZOFFSETTO:+0100
TZNAME:CET
DTSTART:20251026T010000
END:STANDARD
BEGIN:DAYLIGHT
TZOFFSETFROM:+0100
TZOFFSETTO:+0200
TZNAME:CEST
DTSTART:20260329T010000
END:DAYLIGHT
BEGIN:STANDARD
TZOFFSETFROM:+0200
TZOFFSETTO:+0100
TZNAME:CET
DTSTART:20261025T010000
END:STANDARD
END:VTIMEZONE
BEGIN:VEVENT
DTSTART;TZID=Europe/Stockholm:20251114T080000
DTEND;TZID=Europe/Stockholm:20251114T170000
DTSTAMP:20260423T003800
CREATED:20251105T190806Z
LAST-MODIFIED:20251105T190806Z
UID:10002704-1763107200-1763139600@www.tullingesk.se
SUMMARY:Stugan bokad /SOFT utbildning Lena S
DESCRIPTION:
URL:https://www.tullingesk.se/aktivitet/stugan-bokad-soft-utbildning-lena-s/
LOCATION:TSK-klubbstugan\, Flottiljvägen 56\, Tullinge\, 146 38\, Sweden
CATEGORIES:Uthyrning klubbstugan
GEO:59.193432193406;17.901717405743
X-APPLE-STRUCTURED-LOCATION;VALUE=URI;X-ADDRESS=TSK-klubbstugan Flottiljvägen 56 Tullinge 146 38 Sweden;X-APPLE-RADIUS=500;X-TITLE=Flottiljvägen 56:geo:17.901717405743,59.193432193406
END:VEVENT
BEGIN:VEVENT
DTSTART;VALUE=DATE:20251115
DTEND;VALUE=DATE:20251116
DTSTAMP:20260423T003800
CREATED:20250828T183537Z
LAST-MODIFIED:20250828T183537Z
UID:10002040-1763164800-1763251199@www.tullingesk.se
SUMMARY:Stugan uthyrd/SOFT
DESCRIPTION:
URL:https://www.tullingesk.se/aktivitet/stugan-uthyrd-soft/
LOCATION:TSK-klubbstugan\, Flottiljvägen 56\, Tullinge\, 146 38\, Sweden
CATEGORIES:Uthyrning klubbstugan
GEO:59.193432193406;17.901717405743
X-APPLE-STRUCTURED-LOCATION;VALUE=URI;X-ADDRESS=TSK-klubbstugan Flottiljvägen 56 Tullinge 146 38 Sweden;X-APPLE-RADIUS=500;X-TITLE=Flottiljvägen 56:geo:17.901717405743,59.193432193406
END:VEVENT
BEGIN:VEVENT
DTSTART;TZID=Europe/Stockholm:20251116T090000
DTEND;TZID=Europe/Stockholm:20251116T140000
DTSTAMP:20260423T003800
CREATED:20250915T150127Z
LAST-MODIFIED:20250915T150127Z
UID:10002315-1763283600-1763301600@www.tullingesk.se
SUMMARY:Tipspromenad från TSK-stugan\, Brantbrinks IP
DESCRIPTION:Tipspromenad med barn och vuxenfrågor.\nMotionsbingo\nStart kl10-12\nFikaservering kl.10-13\nLotterier\nVälkomna!\nSupporterklubben
URL:https://www.tullingesk.se/aktivitet/tipspromenad-fran-tsk-stugan-brantbrinks-ip-18/
LOCATION:TSK-klubbstugan\, Flottiljvägen 56\, Tullinge\, 146 38\, Sweden
GEO:59.193432193406;17.901717405743
X-APPLE-STRUCTURED-LOCATION;VALUE=URI;X-ADDRESS=TSK-klubbstugan Flottiljvägen 56 Tullinge 146 38 Sweden;X-APPLE-RADIUS=500;X-TITLE=Flottiljvägen 56:geo:17.901717405743,59.193432193406
END:VEVENT
BEGIN:VEVENT
DTSTART;TZID=Europe/Stockholm:20251116T100000
DTEND;TZID=Europe/Stockholm:20251116T120000
DTSTAMP:20260423T003800
CREATED:20251110T185422Z
LAST-MODIFIED:20251110T185422Z
UID:10002707-1763287200-1763294400@www.tullingesk.se
SUMMARY:Långpass från Brantan
DESCRIPTION:Ansvarig: Lugo/Yvonne
URL:https://www.tullingesk.se/aktivitet/langpass-fran-brantan-2/
LOCATION:TSK-klubbstugan\, Flottiljvägen 56\, Tullinge\, 146 38\, Sweden
GEO:59.193432193406;17.901717405743
X-APPLE-STRUCTURED-LOCATION;VALUE=URI;X-ADDRESS=TSK-klubbstugan Flottiljvägen 56 Tullinge 146 38 Sweden;X-APPLE-RADIUS=500;X-TITLE=Flottiljvägen 56:geo:17.901717405743,59.193432193406
END:VEVENT
BEGIN:VEVENT
DTSTART;TZID=Europe/Stockholm:20251117T180000
DTEND;TZID=Europe/Stockholm:20251117T210000
DTSTAMP:20260423T003800
CREATED:20250929T170545Z
LAST-MODIFIED:20250929T170545Z
UID:10002600-1763402400-1763413200@www.tullingesk.se
SUMMARY:Stugan uthyrd/Ulf Neumann
DESCRIPTION:
URL:https://www.tullingesk.se/aktivitet/stugan-uthyrd-ulf-neumann/
LOCATION:TSK-klubbstugan\, Flottiljvägen 56\, Tullinge\, 146 38\, Sweden
GEO:59.193432193406;17.901717405743
X-APPLE-STRUCTURED-LOCATION;VALUE=URI;X-ADDRESS=TSK-klubbstugan Flottiljvägen 56 Tullinge 146 38 Sweden;X-APPLE-RADIUS=500;X-TITLE=Flottiljvägen 56:geo:17.901717405743,59.193432193406
END:VEVENT
BEGIN:VEVENT
DTSTART;TZID=Europe/Stockholm:20251117T190000
DTEND;TZID=Europe/Stockholm:20251117T200000
DTSTAMP:20260423T003800
CREATED:20251003T073124Z
LAST-MODIFIED:20260330T145355Z
UID:10002609-1763406000-1763409600@www.tullingesk.se
SUMMARY:Styrkegympa -för alla!
DESCRIPTION:Tid: Måndagar kl 19-20\nPlats: Parkhemsskolans gympahall\nVem: TSK-medlemmar\nTa med: Inneskor & vattenflaska\nFörkunskaper: INGA! Alla kan vara med på sin nivå!\nVad: Styrka för hela kroppen. Enkla övningar\, oftast med egna kroppen som vikt men ibland även med gummiband (finns på plats). \n  \n  \n 
URL:https://www.tullingesk.se/aktivitet/tsk-gympa/2025-11-17/
LOCATION:Parkhemsskolans gympahall
END:VEVENT
BEGIN:VEVENT
DTSTART;TZID=Europe/Stockholm:20251118T180000
DTEND;TZID=Europe/Stockholm:20251118T190000
DTSTAMP:20260423T003800
CREATED:20251113T204201Z
LAST-MODIFIED:20251117T085131Z
UID:10001612-1763488800-1763492400@www.tullingesk.se
SUMMARY:Grupp 4 - Nattfjärilsbanan "Bergmans bästa"
DESCRIPTION:V47 Karin & P-A Forsberg \nNattfjärilsbana med 5 bon och uthängda reflexer\, även kallad ”Bergmans bästa”.\n5 km\, 8 km eller 9\,5 km (ytterligare avkortningsmöjligheter finns) \n  \n 
URL:https://www.tullingesk.se/aktivitet/grupp-4-tisdagar-47/
LOCATION:TSK-klubbstugan\, Flottiljvägen 56\, Tullinge\, 146 38\, Sweden
GEO:59.193432193406;17.901717405743
X-APPLE-STRUCTURED-LOCATION;VALUE=URI;X-ADDRESS=TSK-klubbstugan Flottiljvägen 56 Tullinge 146 38 Sweden;X-APPLE-RADIUS=500;X-TITLE=Flottiljvägen 56:geo:17.901717405743,59.193432193406
END:VEVENT
BEGIN:VEVENT
DTSTART;TZID=Europe/Stockholm:20251118T180000
DTEND;TZID=Europe/Stockholm:20251118T191500
DTSTAMP:20260423T003800
CREATED:20251117T132857Z
LAST-MODIFIED:20251117T132857Z
UID:10002724-1763488800-1763493300@www.tullingesk.se
SUMMARY:1316-gruppen: Korta intervaller på tallheden och spåret (ol/trail-skor + pannlampa)
DESCRIPTION:10×45″/15″ + 10x100m
URL:https://www.tullingesk.se/aktivitet/1316-gruppen-korta-intervaller-pa-tallheden-och-sparet-ol-trail-skor-pannlampa/
LOCATION:TSK-klubbstugan\, Flottiljvägen 56\, Tullinge\, 146 38\, Sweden
GEO:59.193432193406;17.901717405743
X-APPLE-STRUCTURED-LOCATION;VALUE=URI;X-ADDRESS=TSK-klubbstugan Flottiljvägen 56 Tullinge 146 38 Sweden;X-APPLE-RADIUS=500;X-TITLE=Flottiljvägen 56:geo:17.901717405743,59.193432193406
END:VEVENT
BEGIN:VEVENT
DTSTART;TZID=Europe/Stockholm:20251118T180000
DTEND;TZID=Europe/Stockholm:20251118T200000
DTSTAMP:20260423T003800
CREATED:20250831T155544Z
LAST-MODIFIED:20250831T155544Z
UID:10001015-1763488800-1763496000@www.tullingesk.se
SUMMARY:HD17
DESCRIPTION:4×8 min\, vila 2 min. Vi springer på spåret. \nAnsvarig: Matthew
URL:https://www.tullingesk.se/aktivitet/hd17-86/
LOCATION:TSK-klubbstugan\, Flottiljvägen 56\, Tullinge\, 146 38\, Sweden
GEO:59.193432193406;17.901717405743
X-APPLE-STRUCTURED-LOCATION;VALUE=URI;X-ADDRESS=TSK-klubbstugan Flottiljvägen 56 Tullinge 146 38 Sweden;X-APPLE-RADIUS=500;X-TITLE=Flottiljvägen 56:geo:17.901717405743,59.193432193406
END:VEVENT
BEGIN:VEVENT
DTSTART;TZID=Europe/Stockholm:20251118T180000
DTEND;TZID=Europe/Stockholm:20251118T210000
DTSTAMP:20260423T003800
CREATED:20250810T130432Z
LAST-MODIFIED:20250817T133207Z
UID:10001941-1763488800-1763499600@www.tullingesk.se
SUMMARY:Soppa och städa
DESCRIPTION:Soppa: L+H Sundqvist/K Tonring/U Tonring/J Dyberg/R Hossain Dyberg \nStäd Dam: Anna Karin Ohlsson och Barbro Lönnkvist \nStäd Herr: Simon Imark och Tomas Janovsky
URL:https://www.tullingesk.se/aktivitet/soppa-och-stada-89/
LOCATION:TSK-klubbstugan\, Flottiljvägen 56\, Tullinge\, 146 38\, Sweden
GEO:59.193432193406;17.901717405743
X-APPLE-STRUCTURED-LOCATION;VALUE=URI;X-ADDRESS=TSK-klubbstugan Flottiljvägen 56 Tullinge 146 38 Sweden;X-APPLE-RADIUS=500;X-TITLE=Flottiljvägen 56:geo:17.901717405743,59.193432193406
END:VEVENT
BEGIN:VEVENT
DTSTART;TZID=Europe/Stockholm:20251118T193000
DTEND;TZID=Europe/Stockholm:20251118T213000
DTSTAMP:20260423T003800
CREATED:20251105T203220Z
LAST-MODIFIED:20251105T203220Z
UID:10002706-1763494200-1763501400@www.tullingesk.se
SUMMARY:Mötesrummet vid entren bokat/Trivselkommittén
DESCRIPTION:
URL:https://www.tullingesk.se/aktivitet/motesrummet-vid-entren-bokat-trivselkommitten/
LOCATION:TSK-klubbstugan\, Flottiljvägen 56\, Tullinge\, 146 38\, Sweden
GEO:59.193432193406;17.901717405743
X-APPLE-STRUCTURED-LOCATION;VALUE=URI;X-ADDRESS=TSK-klubbstugan Flottiljvägen 56 Tullinge 146 38 Sweden;X-APPLE-RADIUS=500;X-TITLE=Flottiljvägen 56:geo:17.901717405743,59.193432193406
END:VEVENT
BEGIN:VEVENT
DTSTART;TZID=Europe/Stockholm:20251119T173000
DTEND;TZID=Europe/Stockholm:20251119T210000
DTSTAMP:20260423T003800
CREATED:20251018T075900Z
LAST-MODIFIED:20251018T075900Z
UID:10002688-1763573400-1763586000@www.tullingesk.se
SUMMARY:Nattugglan #1
DESCRIPTION:Nattugglan  #1 vid Röda Kaffestugan Söderby Gårdsväg nära E4. \nBanläggare: Ander Kärrström \nAnmälan  och information: https://eventor.orientering.se/Events/Show/56155
URL:https://www.tullingesk.se/aktivitet/nattugglan-1/
LOCATION:TSK-klubbstugan\, Flottiljvägen 56\, Tullinge\, 146 38\, Sweden
CATEGORIES:Elitkommittén
GEO:59.193432193406;17.901717405743
X-APPLE-STRUCTURED-LOCATION;VALUE=URI;X-ADDRESS=TSK-klubbstugan Flottiljvägen 56 Tullinge 146 38 Sweden;X-APPLE-RADIUS=500;X-TITLE=Flottiljvägen 56:geo:17.901717405743,59.193432193406
END:VEVENT
BEGIN:VEVENT
DTSTART;TZID=Europe/Stockholm:20251119T173000
DTEND;TZID=Europe/Stockholm:20251119T220000
DTSTAMP:20260423T003800
CREATED:20251115T145514Z
LAST-MODIFIED:20251115T150032Z
UID:10002723-1763573400-1763589600@www.tullingesk.se
SUMMARY:Supporterklubbens arbetskväll - storstugan bokad
DESCRIPTION:Supporterklubbens arbetskväll inför luciaracet.\nStorstugan bokad
URL:https://www.tullingesk.se/aktivitet/supporterklubbens-arbetskvall-storstugan-bokad/
LOCATION:TSK-klubbstugan\, Flottiljvägen 56\, Tullinge\, 146 38\, Sweden
CATEGORIES:Supporterklubben
GEO:59.193432193406;17.901717405743
X-APPLE-STRUCTURED-LOCATION;VALUE=URI;X-ADDRESS=TSK-klubbstugan Flottiljvägen 56 Tullinge 146 38 Sweden;X-APPLE-RADIUS=500;X-TITLE=Flottiljvägen 56:geo:17.901717405743,59.193432193406
END:VEVENT
BEGIN:VEVENT
DTSTART;TZID=Europe/Stockholm:20251119T190000
DTEND;TZID=Europe/Stockholm:20251119T210000
DTSTAMP:20260423T003800
CREATED:20251029T183314Z
LAST-MODIFIED:20251029T183314Z
UID:10002697-1763578800-1763586000@www.tullingesk.se
SUMMARY:Lilla mötesrummet bokat/Kerstin I
DESCRIPTION:
URL:https://www.tullingesk.se/aktivitet/lilla-motesrummet-bokat-kerstin-i/
LOCATION:TSK-klubbstugan\, Flottiljvägen 56\, Tullinge\, 146 38\, Sweden
CATEGORIES:Uthyrning klubbstugan
GEO:59.193432193406;17.901717405743
X-APPLE-STRUCTURED-LOCATION;VALUE=URI;X-ADDRESS=TSK-klubbstugan Flottiljvägen 56 Tullinge 146 38 Sweden;X-APPLE-RADIUS=500;X-TITLE=Flottiljvägen 56:geo:17.901717405743,59.193432193406
END:VEVENT
BEGIN:VEVENT
DTSTART;TZID=Europe/Stockholm:20251119T200000
DTEND;TZID=Europe/Stockholm:20251119T210000
DTSTAMP:20260423T003800
CREATED:20251119T182004Z
LAST-MODIFIED:20251119T182004Z
UID:10002726-1763582400-1763586000@www.tullingesk.se
SUMMARY:Stugan bokad/Kalle Kula
DESCRIPTION:
URL:https://www.tullingesk.se/aktivitet/stugan-bokad-kalle-kula/
LOCATION:TSK-klubbstugan\, Flottiljvägen 56\, Tullinge\, 146 38\, Sweden
CATEGORIES:Uthyrning klubbstugan
GEO:59.193432193406;17.901717405743
X-APPLE-STRUCTURED-LOCATION;VALUE=URI;X-ADDRESS=TSK-klubbstugan Flottiljvägen 56 Tullinge 146 38 Sweden;X-APPLE-RADIUS=500;X-TITLE=Flottiljvägen 56:geo:17.901717405743,59.193432193406
END:VEVENT
BEGIN:VEVENT
DTSTART;TZID=Europe/Stockholm:20251120T170000
DTEND;TZID=Europe/Stockholm:20251120T210000
DTSTAMP:20260423T003800
CREATED:20251105T183327Z
LAST-MODIFIED:20251105T183327Z
UID:10002703-1763658000-1763672400@www.tullingesk.se
SUMMARY:Stugan bokad /Nov tävl TSK
DESCRIPTION:
URL:https://www.tullingesk.se/aktivitet/stugan-bokad-nov-tavl-tsk-2/
LOCATION:TSK-klubbstugan\, Flottiljvägen 56\, Tullinge\, 146 38\, Sweden
GEO:59.193432193406;17.901717405743
X-APPLE-STRUCTURED-LOCATION;VALUE=URI;X-ADDRESS=TSK-klubbstugan Flottiljvägen 56 Tullinge 146 38 Sweden;X-APPLE-RADIUS=500;X-TITLE=Flottiljvägen 56:geo:17.901717405743,59.193432193406
END:VEVENT
BEGIN:VEVENT
DTSTART;VALUE=DATE:20251121
DTEND;VALUE=DATE:20251124
DTSTAMP:20260423T003800
CREATED:20250905T195119Z
LAST-MODIFIED:20251019T083054Z
UID:10002043-1763683200-1763942399@www.tullingesk.se
SUMMARY:Stugan bokad /Nov tävl TSK
DESCRIPTION:
URL:https://www.tullingesk.se/aktivitet/stugan-bokad-nov-tavl-tsk/
LOCATION:TSK-klubbstugan\, Flottiljvägen 56\, Tullinge\, 146 38\, Sweden
CATEGORIES:Uthyrning klubbstugan
GEO:59.193432193406;17.901717405743
X-APPLE-STRUCTURED-LOCATION;VALUE=URI;X-ADDRESS=TSK-klubbstugan Flottiljvägen 56 Tullinge 146 38 Sweden;X-APPLE-RADIUS=500;X-TITLE=Flottiljvägen 56:geo:17.901717405743,59.193432193406
END:VEVENT
BEGIN:VEVENT
DTSTART;TZID=Europe/Stockholm:20251123T090000
DTEND;TZID=Europe/Stockholm:20251123T140000
DTSTAMP:20260423T003800
CREATED:20250915T150144Z
LAST-MODIFIED:20250915T150144Z
UID:10002316-1763888400-1763906400@www.tullingesk.se
SUMMARY:Tipspromenad från TSK-stugan\, Brantbrinks IP
DESCRIPTION:Tipspromenad med barn och vuxenfrågor.\nMotionsbingo\nStart kl10-12\nFikaservering kl.10-13\nLotterier\nVälkomna!\nSupporterklubben
URL:https://www.tullingesk.se/aktivitet/tipspromenad-fran-tsk-stugan-brantbrinks-ip-19/
LOCATION:TSK-klubbstugan\, Flottiljvägen 56\, Tullinge\, 146 38\, Sweden
GEO:59.193432193406;17.901717405743
X-APPLE-STRUCTURED-LOCATION;VALUE=URI;X-ADDRESS=TSK-klubbstugan Flottiljvägen 56 Tullinge 146 38 Sweden;X-APPLE-RADIUS=500;X-TITLE=Flottiljvägen 56:geo:17.901717405743,59.193432193406
END:VEVENT
BEGIN:VEVENT
DTSTART;TZID=Europe/Stockholm:20251124T180000
DTEND;TZID=Europe/Stockholm:20251124T210000
DTSTAMP:20260423T003800
CREATED:20251018T064703Z
LAST-MODIFIED:20251110T181710Z
UID:10002687-1764007200-1764018000@www.tullingesk.se
SUMMARY:Stugan uthyrd/Lars Berggren TSS
DESCRIPTION:
URL:https://www.tullingesk.se/aktivitet/stugan-uthyrd-lars-berggren-tss-4/
LOCATION:TSK-klubbstugan\, Flottiljvägen 56\, Tullinge\, 146 38\, Sweden
CATEGORIES:Uthyrning klubbstugan
GEO:59.193432193406;17.901717405743
X-APPLE-STRUCTURED-LOCATION;VALUE=URI;X-ADDRESS=TSK-klubbstugan Flottiljvägen 56 Tullinge 146 38 Sweden;X-APPLE-RADIUS=500;X-TITLE=Flottiljvägen 56:geo:17.901717405743,59.193432193406
END:VEVENT
BEGIN:VEVENT
DTSTART;TZID=Europe/Stockholm:20251124T190000
DTEND;TZID=Europe/Stockholm:20251124T200000
DTSTAMP:20260423T003800
CREATED:20251003T073124Z
LAST-MODIFIED:20260330T145355Z
UID:10002610-1764010800-1764014400@www.tullingesk.se
SUMMARY:Styrkegympa -för alla!
DESCRIPTION:Tid: Måndagar kl 19-20\nPlats: Parkhemsskolans gympahall\nVem: TSK-medlemmar\nTa med: Inneskor & vattenflaska\nFörkunskaper: INGA! Alla kan vara med på sin nivå!\nVad: Styrka för hela kroppen. Enkla övningar\, oftast med egna kroppen som vikt men ibland även med gummiband (finns på plats). \n  \n  \n 
URL:https://www.tullingesk.se/aktivitet/tsk-gympa/2025-11-24/
LOCATION:Parkhemsskolans gympahall
END:VEVENT
BEGIN:VEVENT
DTSTART;TZID=Europe/Stockholm:20251125T180000
DTEND;TZID=Europe/Stockholm:20251125T190000
DTSTAMP:20260423T003800
CREATED:20251113T204327Z
LAST-MODIFIED:20251113T204328Z
UID:10001613-1764093600-1764097200@www.tullingesk.se
SUMMARY:Grupp 4 tisdagar
DESCRIPTION:Grupp 4 – gruppen för alla! \nFör instruktioner och lista över alla ansvariga:  https://www.tullingesk.se/bredd-motionar/ \n  \n  \nV48 Jörgen Ohlin & Karin Lundberg \n  \n 
URL:https://www.tullingesk.se/aktivitet/grupp-4-tisdagar-48/
LOCATION:TSK-klubbstugan\, Flottiljvägen 56\, Tullinge\, 146 38\, Sweden
GEO:59.193432193406;17.901717405743
X-APPLE-STRUCTURED-LOCATION;VALUE=URI;X-ADDRESS=TSK-klubbstugan Flottiljvägen 56 Tullinge 146 38 Sweden;X-APPLE-RADIUS=500;X-TITLE=Flottiljvägen 56:geo:17.901717405743,59.193432193406
END:VEVENT
BEGIN:VEVENT
DTSTART;TZID=Europe/Stockholm:20251125T180000
DTEND;TZID=Europe/Stockholm:20251125T200000
DTSTAMP:20260423T003800
CREATED:20250831T155122Z
LAST-MODIFIED:20251125T113419Z
UID:10001016-1764093600-1764100800@www.tullingesk.se
SUMMARY:HD17
DESCRIPTION:10×3 min\, vila 1 min. Vi springer på cykelbanan med start från ICA Riksten.  \nAnsvarig: Simon
URL:https://www.tullingesk.se/aktivitet/hd17-34-3/
LOCATION:TSK-klubbstugan\, Flottiljvägen 56\, Tullinge\, 146 38\, Sweden
GEO:59.193432193406;17.901717405743
X-APPLE-STRUCTURED-LOCATION;VALUE=URI;X-ADDRESS=TSK-klubbstugan Flottiljvägen 56 Tullinge 146 38 Sweden;X-APPLE-RADIUS=500;X-TITLE=Flottiljvägen 56:geo:17.901717405743,59.193432193406
END:VEVENT
BEGIN:VEVENT
DTSTART;TZID=Europe/Stockholm:20251125T180000
DTEND;TZID=Europe/Stockholm:20251125T200000
DTSTAMP:20260423T003800
CREATED:20251110T185805Z
LAST-MODIFIED:20251110T185805Z
UID:10002708-1764093600-1764100800@www.tullingesk.se
SUMMARY:Hela Klubben intervaller HD 13 och uppåt
DESCRIPTION:Ansvarig : EK \nVi kör Intervaller som alla kan vara med på. Går att modifiera efter nivå och ambition.
URL:https://www.tullingesk.se/aktivitet/hela-klubben-intervaller-hd-13-och-uppat/
LOCATION:TSK-klubbstugan\, Flottiljvägen 56\, Tullinge\, 146 38\, Sweden
GEO:59.193432193406;17.901717405743
X-APPLE-STRUCTURED-LOCATION;VALUE=URI;X-ADDRESS=TSK-klubbstugan Flottiljvägen 56 Tullinge 146 38 Sweden;X-APPLE-RADIUS=500;X-TITLE=Flottiljvägen 56:geo:17.901717405743,59.193432193406
END:VEVENT
BEGIN:VEVENT
DTSTART;TZID=Europe/Stockholm:20251125T180000
DTEND;TZID=Europe/Stockholm:20251125T210000
DTSTAMP:20260423T003800
CREATED:20250810T130641Z
LAST-MODIFIED:20250810T130641Z
UID:10001942-1764093600-1764104400@www.tullingesk.se
SUMMARY:Soppa och städa
DESCRIPTION:Soppa: B Kärrström/J Ställberg/S Sundström/C Ronge/G Längheim \nStäd Dam: Emilie Hedin Villarroel och Sofia Sandberg \nStäd Herr: Fredrik Forsberg och Per Arne Forsberg
URL:https://www.tullingesk.se/aktivitet/soppa-och-stada-90/
LOCATION:TSK-klubbstugan\, Flottiljvägen 56\, Tullinge\, 146 38\, Sweden
CATEGORIES:Städvecka / tisdagssoppa
GEO:59.193432193406;17.901717405743
X-APPLE-STRUCTURED-LOCATION;VALUE=URI;X-ADDRESS=TSK-klubbstugan Flottiljvägen 56 Tullinge 146 38 Sweden;X-APPLE-RADIUS=500;X-TITLE=Flottiljvägen 56:geo:17.901717405743,59.193432193406
END:VEVENT
BEGIN:VEVENT
DTSTART;TZID=Europe/Stockholm:20251126T180000
DTEND;TZID=Europe/Stockholm:20251126T200000
DTSTAMP:20260423T003800
CREATED:20251113T182652Z
LAST-MODIFIED:20251113T182652Z
UID:10002721-1764180000-1764187200@www.tullingesk.se
SUMMARY:Stugan bokad/ALMA
DESCRIPTION:
URL:https://www.tullingesk.se/aktivitet/stugan-bokad-alma-2/
LOCATION:TSK-klubbstugan\, Flottiljvägen 56\, Tullinge\, 146 38\, Sweden
CATEGORIES:Uthyrning klubbstugan
GEO:59.193432193406;17.901717405743
X-APPLE-STRUCTURED-LOCATION;VALUE=URI;X-ADDRESS=TSK-klubbstugan Flottiljvägen 56 Tullinge 146 38 Sweden;X-APPLE-RADIUS=500;X-TITLE=Flottiljvägen 56:geo:17.901717405743,59.193432193406
END:VEVENT
BEGIN:VEVENT
DTSTART;TZID=Europe/Stockholm:20251127T080000
DTEND;TZID=Europe/Stockholm:20251127T120000
DTSTAMP:20260423T003800
CREATED:20251113T182758Z
LAST-MODIFIED:20251113T182758Z
UID:10002722-1764230400-1764244800@www.tullingesk.se
SUMMARY:Stugan bokad/Eklid fritids
DESCRIPTION:
URL:https://www.tullingesk.se/aktivitet/stugan-bokad-eklid-fritids-4/
LOCATION:TSK-klubbstugan\, Flottiljvägen 56\, Tullinge\, 146 38\, Sweden
CATEGORIES:Uthyrning klubbstugan
GEO:59.193432193406;17.901717405743
X-APPLE-STRUCTURED-LOCATION;VALUE=URI;X-ADDRESS=TSK-klubbstugan Flottiljvägen 56 Tullinge 146 38 Sweden;X-APPLE-RADIUS=500;X-TITLE=Flottiljvägen 56:geo:17.901717405743,59.193432193406
END:VEVENT
BEGIN:VEVENT
DTSTART;TZID=Europe/Stockholm:20251127T180000
DTEND;TZID=Europe/Stockholm:20251127T190000
DTSTAMP:20260423T003800
CREATED:20251126T110132Z
LAST-MODIFIED:20251126T110132Z
UID:10002728-1764266400-1764270000@www.tullingesk.se
SUMMARY:13-16 Natt-OL
DESCRIPTION:Orientering nattbanor med bon med många kontroller runt varje bo. Medtag pannlampa\, kompass och orienteringsskor.
URL:https://www.tullingesk.se/aktivitet/13-16-natt-ol/
LOCATION:TSK-klubbstugan\, Flottiljvägen 56\, Tullinge\, 146 38\, Sweden
GEO:59.193432193406;17.901717405743
X-APPLE-STRUCTURED-LOCATION;VALUE=URI;X-ADDRESS=TSK-klubbstugan Flottiljvägen 56 Tullinge 146 38 Sweden;X-APPLE-RADIUS=500;X-TITLE=Flottiljvägen 56:geo:17.901717405743,59.193432193406
END:VEVENT
BEGIN:VEVENT
DTSTART;TZID=Europe/Stockholm:20251128T180000
DTEND;TZID=Europe/Stockholm:20251130T080000
DTSTAMP:20260423T003800
CREATED:20250610T190317Z
LAST-MODIFIED:20251019T083200Z
UID:10001911-1764352800-1764489600@www.tullingesk.se
SUMMARY:Stugan bokad/Årsfest TSK\, trivselkomm.
DESCRIPTION:
URL:https://www.tullingesk.se/aktivitet/stugan-bokad-arsfest-tsk-trivselkomm/
LOCATION:TSK-klubbstugan\, Flottiljvägen 56\, Tullinge\, 146 38\, Sweden
CATEGORIES:Uthyrning klubbstugan
GEO:59.193432193406;17.901717405743
X-APPLE-STRUCTURED-LOCATION;VALUE=URI;X-ADDRESS=TSK-klubbstugan Flottiljvägen 56 Tullinge 146 38 Sweden;X-APPLE-RADIUS=500;X-TITLE=Flottiljvägen 56:geo:17.901717405743,59.193432193406
END:VEVENT
BEGIN:VEVENT
DTSTART;TZID=Europe/Stockholm:20251128T180000
DTEND;TZID=Europe/Stockholm:20251130T080000
DTSTAMP:20260423T003800
CREATED:20251019T082656Z
LAST-MODIFIED:20251019T082656Z
UID:10002689-1764352800-1764489600@www.tullingesk.se
SUMMARY:Stugan bokad
DESCRIPTION:
URL:https://www.tullingesk.se/aktivitet/stugan-bokad-12/
LOCATION:TSK-klubbstugan\, Flottiljvägen 56\, Tullinge\, 146 38\, Sweden
GEO:59.193432193406;17.901717405743
X-APPLE-STRUCTURED-LOCATION;VALUE=URI;X-ADDRESS=TSK-klubbstugan Flottiljvägen 56 Tullinge 146 38 Sweden;X-APPLE-RADIUS=500;X-TITLE=Flottiljvägen 56:geo:17.901717405743,59.193432193406
END:VEVENT
BEGIN:VEVENT
DTSTART;TZID=Europe/Stockholm:20251129T001000
DTEND;TZID=Europe/Stockholm:20251129T140000
DTSTAMP:20260423T003800
CREATED:20251110T190239Z
LAST-MODIFIED:20251123T172535Z
UID:10002709-1764375000-1764424800@www.tullingesk.se
SUMMARY:HD 17 Samling - Planering och mål 2026
DESCRIPTION:Eklidsskolan \nAnmäl: Eventor – Aktivitet: HD17 Kick off Planering och mål 2026 \n  \nTräning kl. 10 – Nedförsbacke OL Intervaller – Flottsbro \n4-6 banor cirka 1.3km varje. OL ner 800m\, spring upp 500m. \nSamling 9:55 Eklid\, spring till Flottsbro 2.5km\, start kl. 10:30. \nAlternativ samling Stendalsbadet parkeringsplats kl. 10:15 – https://maps.app.goo.gl/Vv21bjYj5VRUL8TY7
URL:https://www.tullingesk.se/aktivitet/hd-17-samling-planering-och-mal-2026/
LOCATION:TSK-klubbstugan\, Flottiljvägen 56\, Tullinge\, 146 38\, Sweden
GEO:59.193432193406;17.901717405743
X-APPLE-STRUCTURED-LOCATION;VALUE=URI;X-ADDRESS=TSK-klubbstugan Flottiljvägen 56 Tullinge 146 38 Sweden;X-APPLE-RADIUS=500;X-TITLE=Flottiljvägen 56:geo:17.901717405743,59.193432193406
END:VEVENT
END:VCALENDAR