BEGIN:VCALENDAR
VERSION:2.0
PRODID:-//Tullinge SK - ECPv6.15.20//NONSGML v1.0//EN
CALSCALE:GREGORIAN
METHOD:PUBLISH
X-WR-CALNAME:Tullinge SK
X-ORIGINAL-URL:https://www.tullingesk.se
X-WR-CALDESC:Händelser för Tullinge SK
REFRESH-INTERVAL;VALUE=DURATION:PT1H
X-Robots-Tag:noindex
X-PUBLISHED-TTL:PT1H
BEGIN:VTIMEZONE
TZID:Europe/Stockholm
BEGIN:DAYLIGHT
TZOFFSETFROM:+0100
TZOFFSETTO:+0200
TZNAME:CEST
DTSTART:20250330T010000
END:DAYLIGHT
BEGIN:STANDARD
TZOFFSETFROM:+0200
TZOFFSETTO:+0100
TZNAME:CET
DTSTART:20251026T010000
END:STANDARD
BEGIN:DAYLIGHT
TZOFFSETFROM:+0100
TZOFFSETTO:+0200
TZNAME:CEST
DTSTART:20260329T010000
END:DAYLIGHT
BEGIN:STANDARD
TZOFFSETFROM:+0200
TZOFFSETTO:+0100
TZNAME:CET
DTSTART:20261025T010000
END:STANDARD
BEGIN:DAYLIGHT
TZOFFSETFROM:+0100
TZOFFSETTO:+0200
TZNAME:CEST
DTSTART:20270328T010000
END:DAYLIGHT
BEGIN:STANDARD
TZOFFSETFROM:+0200
TZOFFSETTO:+0100
TZNAME:CET
DTSTART:20271031T010000
END:STANDARD
END:VTIMEZONE
BEGIN:VEVENT
DTSTART;TZID=Europe/Stockholm:20260428T180000
DTEND;TZID=Europe/Stockholm:20260428T190000
DTSTAMP:20260422T133231
CREATED:20260309T174321Z
LAST-MODIFIED:20260309T174321Z
UID:10003034-1777399200-1777402800@www.tullingesk.se
SUMMARY:Träsktrollen
DESCRIPTION:Barn födda 2019 & 2018. \nLenka\, Zdeněk & Micke
URL:https://www.tullingesk.se/aktivitet/trasktrollen-7/2026-04-28/
LOCATION:TSK-klubbstugan\, Flottiljvägen 56\, Tullinge\, 146 38\, Sweden
GEO:59.193432193406;17.901717405743
X-APPLE-STRUCTURED-LOCATION;VALUE=URI;X-ADDRESS=TSK-klubbstugan Flottiljvägen 56 Tullinge 146 38 Sweden;X-APPLE-RADIUS=500;X-TITLE=Flottiljvägen 56:geo:17.901717405743,59.193432193406
END:VEVENT
BEGIN:VEVENT
DTSTART;TZID=Europe/Stockholm:20260505T180000
DTEND;TZID=Europe/Stockholm:20260505T190000
DTSTAMP:20260422T133231
CREATED:20260309T174321Z
LAST-MODIFIED:20260309T174321Z
UID:10003035-1778004000-1778007600@www.tullingesk.se
SUMMARY:Träsktrollen
DESCRIPTION:Barn födda 2019 & 2018. \nLenka\, Zdeněk & Micke
URL:https://www.tullingesk.se/aktivitet/trasktrollen-7/2026-05-05/
LOCATION:TSK-klubbstugan\, Flottiljvägen 56\, Tullinge\, 146 38\, Sweden
GEO:59.193432193406;17.901717405743
X-APPLE-STRUCTURED-LOCATION;VALUE=URI;X-ADDRESS=TSK-klubbstugan Flottiljvägen 56 Tullinge 146 38 Sweden;X-APPLE-RADIUS=500;X-TITLE=Flottiljvägen 56:geo:17.901717405743,59.193432193406
END:VEVENT
BEGIN:VEVENT
DTSTART;TZID=Europe/Stockholm:20260512T180000
DTEND;TZID=Europe/Stockholm:20260512T190000
DTSTAMP:20260422T133231
CREATED:20260309T174321Z
LAST-MODIFIED:20260309T174321Z
UID:10003036-1778608800-1778612400@www.tullingesk.se
SUMMARY:Träsktrollen
DESCRIPTION:Barn födda 2019 & 2018. \nLenka\, Zdeněk & Micke
URL:https://www.tullingesk.se/aktivitet/trasktrollen-7/2026-05-12/
LOCATION:TSK-klubbstugan\, Flottiljvägen 56\, Tullinge\, 146 38\, Sweden
GEO:59.193432193406;17.901717405743
X-APPLE-STRUCTURED-LOCATION;VALUE=URI;X-ADDRESS=TSK-klubbstugan Flottiljvägen 56 Tullinge 146 38 Sweden;X-APPLE-RADIUS=500;X-TITLE=Flottiljvägen 56:geo:17.901717405743,59.193432193406
END:VEVENT
BEGIN:VEVENT
DTSTART;TZID=Europe/Stockholm:20260519T180000
DTEND;TZID=Europe/Stockholm:20260519T190000
DTSTAMP:20260422T133231
CREATED:20260309T174321Z
LAST-MODIFIED:20260309T174321Z
UID:10003037-1779213600-1779217200@www.tullingesk.se
SUMMARY:Träsktrollen
DESCRIPTION:Barn födda 2019 & 2018. \nLenka\, Zdeněk & Micke
URL:https://www.tullingesk.se/aktivitet/trasktrollen-7/2026-05-19/
LOCATION:TSK-klubbstugan\, Flottiljvägen 56\, Tullinge\, 146 38\, Sweden
GEO:59.193432193406;17.901717405743
X-APPLE-STRUCTURED-LOCATION;VALUE=URI;X-ADDRESS=TSK-klubbstugan Flottiljvägen 56 Tullinge 146 38 Sweden;X-APPLE-RADIUS=500;X-TITLE=Flottiljvägen 56:geo:17.901717405743,59.193432193406
END:VEVENT
BEGIN:VEVENT
DTSTART;TZID=Europe/Stockholm:20260526T180000
DTEND;TZID=Europe/Stockholm:20260526T190000
DTSTAMP:20260422T133231
CREATED:20260309T174321Z
LAST-MODIFIED:20260309T174321Z
UID:10003038-1779818400-1779822000@www.tullingesk.se
SUMMARY:Träsktrollen
DESCRIPTION:Barn födda 2019 & 2018. \nLenka\, Zdeněk & Micke
URL:https://www.tullingesk.se/aktivitet/trasktrollen-7/2026-05-26/
LOCATION:TSK-klubbstugan\, Flottiljvägen 56\, Tullinge\, 146 38\, Sweden
GEO:59.193432193406;17.901717405743
X-APPLE-STRUCTURED-LOCATION;VALUE=URI;X-ADDRESS=TSK-klubbstugan Flottiljvägen 56 Tullinge 146 38 Sweden;X-APPLE-RADIUS=500;X-TITLE=Flottiljvägen 56:geo:17.901717405743,59.193432193406
END:VEVENT
BEGIN:VEVENT
DTSTART;TZID=Europe/Stockholm:20260602T180000
DTEND;TZID=Europe/Stockholm:20260602T190000
DTSTAMP:20260422T133231
CREATED:20260309T174321Z
LAST-MODIFIED:20260309T174321Z
UID:10003039-1780423200-1780426800@www.tullingesk.se
SUMMARY:Träsktrollen
DESCRIPTION:Barn födda 2019 & 2018. \nLenka\, Zdeněk & Micke
URL:https://www.tullingesk.se/aktivitet/trasktrollen-7/2026-06-02/
LOCATION:TSK-klubbstugan\, Flottiljvägen 56\, Tullinge\, 146 38\, Sweden
GEO:59.193432193406;17.901717405743
X-APPLE-STRUCTURED-LOCATION;VALUE=URI;X-ADDRESS=TSK-klubbstugan Flottiljvägen 56 Tullinge 146 38 Sweden;X-APPLE-RADIUS=500;X-TITLE=Flottiljvägen 56:geo:17.901717405743,59.193432193406
END:VEVENT
BEGIN:VEVENT
DTSTART;TZID=Europe/Stockholm:20260609T180000
DTEND;TZID=Europe/Stockholm:20260609T190000
DTSTAMP:20260422T133231
CREATED:20260309T174321Z
LAST-MODIFIED:20260309T174321Z
UID:10003040-1781028000-1781031600@www.tullingesk.se
SUMMARY:Träsktrollen
DESCRIPTION:Barn födda 2019 & 2018. \nLenka\, Zdeněk & Micke
URL:https://www.tullingesk.se/aktivitet/trasktrollen-7/2026-06-09/
LOCATION:TSK-klubbstugan\, Flottiljvägen 56\, Tullinge\, 146 38\, Sweden
GEO:59.193432193406;17.901717405743
X-APPLE-STRUCTURED-LOCATION;VALUE=URI;X-ADDRESS=TSK-klubbstugan Flottiljvägen 56 Tullinge 146 38 Sweden;X-APPLE-RADIUS=500;X-TITLE=Flottiljvägen 56:geo:17.901717405743,59.193432193406
END:VEVENT
END:VCALENDAR