BEGIN:VCALENDAR
VERSION:2.0
PRODID:-//Tullinge SK - ECPv6.15.20//NONSGML v1.0//EN
CALSCALE:GREGORIAN
METHOD:PUBLISH
X-WR-CALNAME:Tullinge SK
X-ORIGINAL-URL:https://www.tullingesk.se
X-WR-CALDESC:Händelser för Tullinge SK
REFRESH-INTERVAL;VALUE=DURATION:PT1H
X-Robots-Tag:noindex
X-PUBLISHED-TTL:PT1H
BEGIN:VTIMEZONE
TZID:Europe/Stockholm
BEGIN:DAYLIGHT
TZOFFSETFROM:+0100
TZOFFSETTO:+0200
TZNAME:CEST
DTSTART:20240331T010000
END:DAYLIGHT
BEGIN:STANDARD
TZOFFSETFROM:+0200
TZOFFSETTO:+0100
TZNAME:CET
DTSTART:20241027T010000
END:STANDARD
BEGIN:DAYLIGHT
TZOFFSETFROM:+0100
TZOFFSETTO:+0200
TZNAME:CEST
DTSTART:20250330T010000
END:DAYLIGHT
BEGIN:STANDARD
TZOFFSETFROM:+0200
TZOFFSETTO:+0100
TZNAME:CET
DTSTART:20251026T010000
END:STANDARD
BEGIN:DAYLIGHT
TZOFFSETFROM:+0100
TZOFFSETTO:+0200
TZNAME:CEST
DTSTART:20260329T010000
END:DAYLIGHT
BEGIN:STANDARD
TZOFFSETFROM:+0200
TZOFFSETTO:+0100
TZNAME:CET
DTSTART:20261025T010000
END:STANDARD
END:VTIMEZONE
BEGIN:VEVENT
DTSTART;TZID=Europe/Stockholm:20251201T190000
DTEND;TZID=Europe/Stockholm:20251201T200000
DTSTAMP:20260422T070226
CREATED:20251003T073124Z
LAST-MODIFIED:20260330T145355Z
UID:10002611-1764615600-1764619200@www.tullingesk.se
SUMMARY:Styrkegympa -för alla!
DESCRIPTION:Tid: Måndagar kl 19-20\nPlats: Parkhemsskolans gympahall\nVem: TSK-medlemmar\nTa med: Inneskor & vattenflaska\nFörkunskaper: INGA! Alla kan vara med på sin nivå!\nVad: Styrka för hela kroppen. Enkla övningar\, oftast med egna kroppen som vikt men ibland även med gummiband (finns på plats). \n  \n  \n 
URL:https://www.tullingesk.se/aktivitet/tsk-gympa/2025-12-01/
LOCATION:Parkhemsskolans gympahall
END:VEVENT
BEGIN:VEVENT
DTSTART;TZID=Europe/Stockholm:20251202T180000
DTEND;TZID=Europe/Stockholm:20251202T190000
DTSTAMP:20260422T070226
CREATED:20251125T063249Z
LAST-MODIFIED:20251125T063250Z
UID:10001614-1764698400-1764702000@www.tullingesk.se
SUMMARY:Grupp 4 tisdagar
DESCRIPTION:Grupp 4 – gruppen för alla! \nFör instruktioner och lista över alla ansvariga:  https://www.tullingesk.se/bredd-motionar/ \nV49 Lena & Hasse Sundquist
URL:https://www.tullingesk.se/aktivitet/grupp-4-tisdagar-49/
LOCATION:TSK-klubbstugan\, Flottiljvägen 56\, Tullinge\, 146 38\, Sweden
GEO:59.193432193406;17.901717405743
X-APPLE-STRUCTURED-LOCATION;VALUE=URI;X-ADDRESS=TSK-klubbstugan Flottiljvägen 56 Tullinge 146 38 Sweden;X-APPLE-RADIUS=500;X-TITLE=Flottiljvägen 56:geo:17.901717405743,59.193432193406
END:VEVENT
BEGIN:VEVENT
DTSTART;TZID=Europe/Stockholm:20251202T180000
DTEND;TZID=Europe/Stockholm:20251202T191500
DTSTAMP:20260422T070226
CREATED:20251202T061614Z
LAST-MODIFIED:20251202T061614Z
UID:10002736-1764698400-1764702900@www.tullingesk.se
SUMMARY:1316-gruppen: backe på elljusspåret
DESCRIPTION:Löparskor
URL:https://www.tullingesk.se/aktivitet/1316-gruppen-backe-pa-elljussparet/
LOCATION:TSK-klubbstugan\, Flottiljvägen 56\, Tullinge\, 146 38\, Sweden
GEO:59.193432193406;17.901717405743
X-APPLE-STRUCTURED-LOCATION;VALUE=URI;X-ADDRESS=TSK-klubbstugan Flottiljvägen 56 Tullinge 146 38 Sweden;X-APPLE-RADIUS=500;X-TITLE=Flottiljvägen 56:geo:17.901717405743,59.193432193406
END:VEVENT
BEGIN:VEVENT
DTSTART;TZID=Europe/Stockholm:20251202T180000
DTEND;TZID=Europe/Stockholm:20251202T200000
DTSTAMP:20260422T070226
CREATED:20250831T155832Z
LAST-MODIFIED:20251202T064834Z
UID:10001017-1764698400-1764705600@www.tullingesk.se
SUMMARY:HD17
DESCRIPTION:Backe. Vi springer på elljusspåret.  \nAnsvarig: Simon
URL:https://www.tullingesk.se/aktivitet/hd17-87/
LOCATION:TSK-klubbstugan\, Flottiljvägen 56\, Tullinge\, 146 38\, Sweden
GEO:59.193432193406;17.901717405743
X-APPLE-STRUCTURED-LOCATION;VALUE=URI;X-ADDRESS=TSK-klubbstugan Flottiljvägen 56 Tullinge 146 38 Sweden;X-APPLE-RADIUS=500;X-TITLE=Flottiljvägen 56:geo:17.901717405743,59.193432193406
END:VEVENT
BEGIN:VEVENT
DTSTART;TZID=Europe/Stockholm:20251202T180000
DTEND;TZID=Europe/Stockholm:20251202T210000
DTSTAMP:20260422T070226
CREATED:20250810T130840Z
LAST-MODIFIED:20251030T143752Z
UID:10001943-1764698400-1764709200@www.tullingesk.se
SUMMARY:Soppa och städa
DESCRIPTION:Soppa: N+J Däckfors/A-S+B Nybäck/S+H Sandberg \nStäd Dam: Frida Forsberg och Karin Forsberg \nStäd Herr: Peo Persson och David Nygren
URL:https://www.tullingesk.se/aktivitet/soppa-och-stada-91/
LOCATION:TSK-klubbstugan\, Flottiljvägen 56\, Tullinge\, 146 38\, Sweden
CATEGORIES:Städvecka / tisdagssoppa
GEO:59.193432193406;17.901717405743
X-APPLE-STRUCTURED-LOCATION;VALUE=URI;X-ADDRESS=TSK-klubbstugan Flottiljvägen 56 Tullinge 146 38 Sweden;X-APPLE-RADIUS=500;X-TITLE=Flottiljvägen 56:geo:17.901717405743,59.193432193406
END:VEVENT
BEGIN:VEVENT
DTSTART;TZID=Europe/Stockholm:20251202T194500
DTEND;TZID=Europe/Stockholm:20251202T210000
DTSTAMP:20260422T070226
CREATED:20251202T080223Z
LAST-MODIFIED:20251202T080223Z
UID:10002737-1764704700-1764709200@www.tullingesk.se
SUMMARY:Styrelserummet bokat av Arrangemangskommittén
DESCRIPTION:
URL:https://www.tullingesk.se/aktivitet/styrelserummet-bokat-av-arrangemangskommitten/
LOCATION:TSK-klubbstugan\, Flottiljvägen 56\, Tullinge\, 146 38\, Sweden
GEO:59.193432193406;17.901717405743
X-APPLE-STRUCTURED-LOCATION;VALUE=URI;X-ADDRESS=TSK-klubbstugan Flottiljvägen 56 Tullinge 146 38 Sweden;X-APPLE-RADIUS=500;X-TITLE=Flottiljvägen 56:geo:17.901717405743,59.193432193406
END:VEVENT
BEGIN:VEVENT
DTSTART;TZID=Europe/Stockholm:20251203T183000
DTEND;TZID=Europe/Stockholm:20251203T203000
DTSTAMP:20260422T070226
CREATED:20251110T190615Z
LAST-MODIFIED:20251110T190615Z
UID:10002711-1764786600-1764793800@www.tullingesk.se
SUMMARY:Snättringe nattcup #1
DESCRIPTION:
URL:https://www.tullingesk.se/aktivitet/snattringe-nattcup-1/
LOCATION:TSK-klubbstugan\, Flottiljvägen 56\, Tullinge\, 146 38\, Sweden
GEO:59.193432193406;17.901717405743
X-APPLE-STRUCTURED-LOCATION;VALUE=URI;X-ADDRESS=TSK-klubbstugan Flottiljvägen 56 Tullinge 146 38 Sweden;X-APPLE-RADIUS=500;X-TITLE=Flottiljvägen 56:geo:17.901717405743,59.193432193406
END:VEVENT
BEGIN:VEVENT
DTSTART;TZID=Europe/Stockholm:20251204T180000
DTEND;TZID=Europe/Stockholm:20251204T190000
DTSTAMP:20260422T070226
CREATED:20251203T075802Z
LAST-MODIFIED:20251203T075802Z
UID:10002738-1764871200-1764874800@www.tullingesk.se
SUMMARY:1316-gruppen: stigdistans
DESCRIPTION:Ol/trailskor + lampa
URL:https://www.tullingesk.se/aktivitet/1316-gruppen-stigdistans/
LOCATION:TSK-klubbstugan\, Flottiljvägen 56\, Tullinge\, 146 38\, Sweden
GEO:59.193432193406;17.901717405743
X-APPLE-STRUCTURED-LOCATION;VALUE=URI;X-ADDRESS=TSK-klubbstugan Flottiljvägen 56 Tullinge 146 38 Sweden;X-APPLE-RADIUS=500;X-TITLE=Flottiljvägen 56:geo:17.901717405743,59.193432193406
END:VEVENT
BEGIN:VEVENT
DTSTART;TZID=Europe/Stockholm:20251205T080000
DTEND;TZID=Europe/Stockholm:20251205T150000
DTSTAMP:20260422T070226
CREATED:20251105T190918Z
LAST-MODIFIED:20251110T181808Z
UID:10002705-1764921600-1764946800@www.tullingesk.se
SUMMARY:Stugan bokad/Botkyrka kommun Lennart Agen
DESCRIPTION:
URL:https://www.tullingesk.se/aktivitet/stugan-bokad-botkyrka-kommun-lennart-agen/
LOCATION:TSK-klubbstugan\, Flottiljvägen 56\, Tullinge\, 146 38\, Sweden
CATEGORIES:Uthyrning klubbstugan
GEO:59.193432193406;17.901717405743
X-APPLE-STRUCTURED-LOCATION;VALUE=URI;X-ADDRESS=TSK-klubbstugan Flottiljvägen 56 Tullinge 146 38 Sweden;X-APPLE-RADIUS=500;X-TITLE=Flottiljvägen 56:geo:17.901717405743,59.193432193406
END:VEVENT
BEGIN:VEVENT
DTSTART;TZID=Europe/Stockholm:20251205T170000
DTEND;TZID=Europe/Stockholm:20251206T210000
DTSTAMP:20260422T070226
CREATED:20241215T085908Z
LAST-MODIFIED:20251129T121352Z
UID:10001504-1764954000-1765054800@www.tullingesk.se
SUMMARY:Stugan uthyrd/ P-A Forsberg
DESCRIPTION:
URL:https://www.tullingesk.se/aktivitet/stugan-uthyrd-p-a-forsberg/
LOCATION:TSK-klubbstugan\, Flottiljvägen 56\, Tullinge\, 146 38\, Sweden
CATEGORIES:Uthyrning klubbstugan
GEO:59.193432193406;17.901717405743
X-APPLE-STRUCTURED-LOCATION;VALUE=URI;X-ADDRESS=TSK-klubbstugan Flottiljvägen 56 Tullinge 146 38 Sweden;X-APPLE-RADIUS=500;X-TITLE=Flottiljvägen 56:geo:17.901717405743,59.193432193406
END:VEVENT
BEGIN:VEVENT
DTSTART;TZID=Europe/Stockholm:20251206T100000
DTEND;TZID=Europe/Stockholm:20251206T120000
DTSTAMP:20260422T070226
CREATED:20251110T190845Z
LAST-MODIFIED:20251130T192801Z
UID:10002712-1765015200-1765022400@www.tullingesk.se
SUMMARY:OL teknik
DESCRIPTION:
URL:https://www.tullingesk.se/aktivitet/ol-teknik-4/
LOCATION:TSK-klubbstugan\, Flottiljvägen 56\, Tullinge\, 146 38\, Sweden
GEO:59.193432193406;17.901717405743
X-APPLE-STRUCTURED-LOCATION;VALUE=URI;X-ADDRESS=TSK-klubbstugan Flottiljvägen 56 Tullinge 146 38 Sweden;X-APPLE-RADIUS=500;X-TITLE=Flottiljvägen 56:geo:17.901717405743,59.193432193406
END:VEVENT
BEGIN:VEVENT
DTSTART;TZID=Europe/Stockholm:20251206T100000
DTEND;TZID=Europe/Stockholm:20251206T150000
DTSTAMP:20260422T070226
CREATED:20251130T192729Z
LAST-MODIFIED:20251130T192729Z
UID:10002732-1765015200-1765033200@www.tullingesk.se
SUMMARY:13-16 träningsdag
DESCRIPTION:https://eventor.orientering.se/Activities/Show/24973
URL:https://www.tullingesk.se/aktivitet/13-16-traningsdag-2/
LOCATION:TSK-klubbstugan\, Flottiljvägen 56\, Tullinge\, 146 38\, Sweden
GEO:59.193432193406;17.901717405743
X-APPLE-STRUCTURED-LOCATION;VALUE=URI;X-ADDRESS=TSK-klubbstugan Flottiljvägen 56 Tullinge 146 38 Sweden;X-APPLE-RADIUS=500;X-TITLE=Flottiljvägen 56:geo:17.901717405743,59.193432193406
END:VEVENT
BEGIN:VEVENT
DTSTART;TZID=Europe/Stockholm:20251207T090000
DTEND;TZID=Europe/Stockholm:20251207T140000
DTSTAMP:20260422T070226
CREATED:20250915T150222Z
LAST-MODIFIED:20250915T150222Z
UID:10002318-1765098000-1765116000@www.tullingesk.se
SUMMARY:Tipspromenad från TSK-stugan\, Brantbrinks IP
DESCRIPTION:Tipspromenad med barn och vuxenfrågor.\nMotionsbingo\nStart kl10-12\nFikaservering kl.10-13\nLotterier\nVälkomna!\nSupporterklubben
URL:https://www.tullingesk.se/aktivitet/tipspromenad-fran-tsk-stugan-brantbrinks-ip-21/
LOCATION:TSK-klubbstugan\, Flottiljvägen 56\, Tullinge\, 146 38\, Sweden
GEO:59.193432193406;17.901717405743
X-APPLE-STRUCTURED-LOCATION;VALUE=URI;X-ADDRESS=TSK-klubbstugan Flottiljvägen 56 Tullinge 146 38 Sweden;X-APPLE-RADIUS=500;X-TITLE=Flottiljvägen 56:geo:17.901717405743,59.193432193406
END:VEVENT
BEGIN:VEVENT
DTSTART;TZID=Europe/Stockholm:20251207T100000
DTEND;TZID=Europe/Stockholm:20251207T120000
DTSTAMP:20260422T070226
CREATED:20251110T192030Z
LAST-MODIFIED:20251205T194426Z
UID:10002716-1765101600-1765108800@www.tullingesk.se
SUMMARY:Långpass Stendal/Flottsbro
DESCRIPTION:Välkomna på långpass i skogarna kring Flottsbro.\nVi samlas vid korsningen Nibblebacken-Älggräsvägen\, se länk https://maps.app.goo.gl/ijdN3igwQRiSLht3A\nBanor på 4-7-9 och 12 km erbjuds. Vätska mellan K7 och K8 + slalom uppför + extra slinga för den som vill köra lite längre.\nVi ses på söndag!\nmvh Peter och Fanny
URL:https://www.tullingesk.se/aktivitet/langpass-20/
LOCATION:TSK-klubbstugan\, Flottiljvägen 56\, Tullinge\, 146 38\, Sweden
GEO:59.193432193406;17.901717405743
X-APPLE-STRUCTURED-LOCATION;VALUE=URI;X-ADDRESS=TSK-klubbstugan Flottiljvägen 56 Tullinge 146 38 Sweden;X-APPLE-RADIUS=500;X-TITLE=Flottiljvägen 56:geo:17.901717405743,59.193432193406
END:VEVENT
BEGIN:VEVENT
DTSTART;TZID=Europe/Stockholm:20251208T190000
DTEND;TZID=Europe/Stockholm:20251208T200000
DTSTAMP:20260422T070226
CREATED:20251003T073124Z
LAST-MODIFIED:20260330T145355Z
UID:10002612-1765220400-1765224000@www.tullingesk.se
SUMMARY:Styrkegympa -för alla!
DESCRIPTION:Tid: Måndagar kl 19-20\nPlats: Parkhemsskolans gympahall\nVem: TSK-medlemmar\nTa med: Inneskor & vattenflaska\nFörkunskaper: INGA! Alla kan vara med på sin nivå!\nVad: Styrka för hela kroppen. Enkla övningar\, oftast med egna kroppen som vikt men ibland även med gummiband (finns på plats). \n  \n  \n 
URL:https://www.tullingesk.se/aktivitet/tsk-gympa/2025-12-08/
LOCATION:Parkhemsskolans gympahall
END:VEVENT
BEGIN:VEVENT
DTSTART;TZID=Europe/Stockholm:20251209T180000
DTEND;TZID=Europe/Stockholm:20251209T190000
DTSTAMP:20260422T070226
CREATED:20251206T062340Z
LAST-MODIFIED:20251207T142742Z
UID:10001615-1765303200-1765306800@www.tullingesk.se
SUMMARY:Grupp 4 tisdagar
DESCRIPTION:Grupp 4 – gruppen för alla! \nFör instruktioner och lista över alla ansvariga:  https://www.tullingesk.se/bredd-motionar/ \nV50 Tina & Johnny Junegaard: OL-bana med uthängda snitslar! Välkomna!
URL:https://www.tullingesk.se/aktivitet/grupp-4-tisdagar-50/
LOCATION:TSK-klubbstugan\, Flottiljvägen 56\, Tullinge\, 146 38\, Sweden
GEO:59.193432193406;17.901717405743
X-APPLE-STRUCTURED-LOCATION;VALUE=URI;X-ADDRESS=TSK-klubbstugan Flottiljvägen 56 Tullinge 146 38 Sweden;X-APPLE-RADIUS=500;X-TITLE=Flottiljvägen 56:geo:17.901717405743,59.193432193406
END:VEVENT
BEGIN:VEVENT
DTSTART;TZID=Europe/Stockholm:20251209T180000
DTEND;TZID=Europe/Stockholm:20251209T190000
DTSTAMP:20260422T070226
CREATED:20251208T173000Z
LAST-MODIFIED:20251208T173000Z
UID:10002741-1765303200-1765306800@www.tullingesk.se
SUMMARY:1316-gruppen korta intervaller på spåret
DESCRIPTION:Klöparskor
URL:https://www.tullingesk.se/aktivitet/1316-gruppen-korta-intervaller-pa-sparet/
LOCATION:TSK-klubbstugan\, Flottiljvägen 56\, Tullinge\, 146 38\, Sweden
GEO:59.193432193406;17.901717405743
X-APPLE-STRUCTURED-LOCATION;VALUE=URI;X-ADDRESS=TSK-klubbstugan Flottiljvägen 56 Tullinge 146 38 Sweden;X-APPLE-RADIUS=500;X-TITLE=Flottiljvägen 56:geo:17.901717405743,59.193432193406
END:VEVENT
BEGIN:VEVENT
DTSTART;TZID=Europe/Stockholm:20251209T180000
DTEND;TZID=Europe/Stockholm:20251209T200000
DTSTAMP:20260422T070226
CREATED:20250831T155716Z
LAST-MODIFIED:20251208T081350Z
UID:10001018-1765303200-1765310400@www.tullingesk.se
SUMMARY:HD17
DESCRIPTION:Intervaller på stig. Lampa behövs.  \nAnsvarig: Matthew
URL:https://www.tullingesk.se/aktivitet/hd17-34-4/
LOCATION:TSK-klubbstugan\, Flottiljvägen 56\, Tullinge\, 146 38\, Sweden
GEO:59.193432193406;17.901717405743
X-APPLE-STRUCTURED-LOCATION;VALUE=URI;X-ADDRESS=TSK-klubbstugan Flottiljvägen 56 Tullinge 146 38 Sweden;X-APPLE-RADIUS=500;X-TITLE=Flottiljvägen 56:geo:17.901717405743,59.193432193406
END:VEVENT
BEGIN:VEVENT
DTSTART;TZID=Europe/Stockholm:20251209T180000
DTEND;TZID=Europe/Stockholm:20251209T210000
DTSTAMP:20260422T070226
CREATED:20250810T131034Z
LAST-MODIFIED:20250810T131034Z
UID:10001944-1765303200-1765314000@www.tullingesk.se
SUMMARY:Soppa och städa
DESCRIPTION:Soppa: M Bratt/R Nilsson/P-O Melinder/L Agén/L Fryxell \nStäd Dam: Linda Bergman och Camilla Axonius \nStäd Herr: Rikard Imark och Markus Wistrand
URL:https://www.tullingesk.se/aktivitet/soppa-och-stada-92/
LOCATION:TSK-klubbstugan\, Flottiljvägen 56\, Tullinge\, 146 38\, Sweden
CATEGORIES:Städvecka / tisdagssoppa
GEO:59.193432193406;17.901717405743
X-APPLE-STRUCTURED-LOCATION;VALUE=URI;X-ADDRESS=TSK-klubbstugan Flottiljvägen 56 Tullinge 146 38 Sweden;X-APPLE-RADIUS=500;X-TITLE=Flottiljvägen 56:geo:17.901717405743,59.193432193406
END:VEVENT
BEGIN:VEVENT
DTSTART;TZID=Europe/Stockholm:20251209T193000
DTEND;TZID=Europe/Stockholm:20251209T210000
DTSTAMP:20260422T070226
CREATED:20251021T185908Z
LAST-MODIFIED:20251102T151432Z
UID:10002691-1765308600-1765314000@www.tullingesk.se
SUMMARY:EK möte lilla mötesrummet
DESCRIPTION:
URL:https://www.tullingesk.se/aktivitet/ek-mote-lilla-motesrummet/
LOCATION:TSK-klubbstugan\, Flottiljvägen 56\, Tullinge\, 146 38\, Sweden
GEO:59.193432193406;17.901717405743
X-APPLE-STRUCTURED-LOCATION;VALUE=URI;X-ADDRESS=TSK-klubbstugan Flottiljvägen 56 Tullinge 146 38 Sweden;X-APPLE-RADIUS=500;X-TITLE=Flottiljvägen 56:geo:17.901717405743,59.193432193406
END:VEVENT
BEGIN:VEVENT
DTSTART;TZID=Europe/Stockholm:20251209T194500
DTEND;TZID=Europe/Stockholm:20251209T213000
DTSTAMP:20260422T070226
CREATED:20251203T185330Z
LAST-MODIFIED:20251203T185330Z
UID:10002739-1765309500-1765315800@www.tullingesk.se
SUMMARY:Styrelserummet bokat/ungdomskommittén
DESCRIPTION:
URL:https://www.tullingesk.se/aktivitet/styrelserummet-bokat-ungdomskommitten/
LOCATION:TSK-klubbstugan\, Flottiljvägen 56\, Tullinge\, 146 38\, Sweden
GEO:59.193432193406;17.901717405743
X-APPLE-STRUCTURED-LOCATION;VALUE=URI;X-ADDRESS=TSK-klubbstugan Flottiljvägen 56 Tullinge 146 38 Sweden;X-APPLE-RADIUS=500;X-TITLE=Flottiljvägen 56:geo:17.901717405743,59.193432193406
END:VEVENT
BEGIN:VEVENT
DTSTART;TZID=Europe/Stockholm:20251211T180000
DTEND;TZID=Europe/Stockholm:20251211T190000
DTSTAMP:20260422T070226
CREATED:20251210T130221Z
LAST-MODIFIED:20251210T131444Z
UID:10002750-1765476000-1765479600@www.tullingesk.se
SUMMARY:13-16 Ol-bana
DESCRIPTION:Vi kör ol-banor. Pannlampa\, kompass och ol-skor. Samling vid klubbstugan.
URL:https://www.tullingesk.se/aktivitet/13-16-ol-bana/
LOCATION:TSK-klubbstugan\, Flottiljvägen 56\, Tullinge\, 146 38\, Sweden
GEO:59.193432193406;17.901717405743
X-APPLE-STRUCTURED-LOCATION;VALUE=URI;X-ADDRESS=TSK-klubbstugan Flottiljvägen 56 Tullinge 146 38 Sweden;X-APPLE-RADIUS=500;X-TITLE=Flottiljvägen 56:geo:17.901717405743,59.193432193406
END:VEVENT
BEGIN:VEVENT
DTSTART;TZID=Europe/Stockholm:20251213T100000
DTEND;TZID=Europe/Stockholm:20251213T120000
DTSTAMP:20260422T070226
CREATED:20251211T184753Z
LAST-MODIFIED:20251211T203711Z
UID:10002754-1765620000-1765627200@www.tullingesk.se
SUMMARY:HD17\, Ol-int. - alla välkomna!
DESCRIPTION:6 st på Visättra\, 0\,6-1\,3 km\nSamling klubbstugan\, gemensam uppvärmning till startpunkten\, ca 3km…>
URL:https://www.tullingesk.se/aktivitet/hd17-ol-intervaller-3/
LOCATION:TSK-klubbstugan\, Flottiljvägen 56\, Tullinge\, 146 38\, Sweden
GEO:59.193432193406;17.901717405743
X-APPLE-STRUCTURED-LOCATION;VALUE=URI;X-ADDRESS=TSK-klubbstugan Flottiljvägen 56 Tullinge 146 38 Sweden;X-APPLE-RADIUS=500;X-TITLE=Flottiljvägen 56:geo:17.901717405743,59.193432193406
END:VEVENT
BEGIN:VEVENT
DTSTART;TZID=Europe/Stockholm:20251213T150000
DTEND;TZID=Europe/Stockholm:20251213T180000
DTSTAMP:20260422T070226
CREATED:20250915T151435Z
LAST-MODIFIED:20250915T151435Z
UID:10002330-1765638000-1765648800@www.tullingesk.se
SUMMARY:Dukning inför luciafirandet
DESCRIPTION:Stugan bokad för förberedelse inför luciaracet och luciafirandet på söndag den 14:e.
URL:https://www.tullingesk.se/aktivitet/dukning-infor-luciafirandet-2/
LOCATION:TSK-klubbstugan\, Flottiljvägen 56\, Tullinge\, 146 38\, Sweden
CATEGORIES:Supporterklubben
GEO:59.193432193406;17.901717405743
X-APPLE-STRUCTURED-LOCATION;VALUE=URI;X-ADDRESS=TSK-klubbstugan Flottiljvägen 56 Tullinge 146 38 Sweden;X-APPLE-RADIUS=500;X-TITLE=Flottiljvägen 56:geo:17.901717405743,59.193432193406
END:VEVENT
BEGIN:VEVENT
DTSTART;TZID=Europe/Stockholm:20251214T080000
DTEND;TZID=Europe/Stockholm:20251214T150000
DTSTAMP:20260422T070226
CREATED:20250915T151317Z
LAST-MODIFIED:20250915T151317Z
UID:10002329-1765699200-1765724400@www.tullingesk.se
SUMMARY:Årets Luciarace och luciafirande
DESCRIPTION:Årets klurigaste orienteringstävling?\nÄr det du som står som vinnare i år? \nEfter tävlingen firar vi traditionsenligt med luciafika\, lotterier och kanske någon hemlig gäst!\nSupporterklubbens medlemmar bjuds på fikat och övriga gäster kan köpa fika för en mindre avgift. \nHåll utkik på hemsidan för mer information när det närmar sig!
URL:https://www.tullingesk.se/aktivitet/arets-luciarace-och-luciafirande-2/
LOCATION:TSK-klubbstugan\, Flottiljvägen 56\, Tullinge\, 146 38\, Sweden
CATEGORIES:Supporterklubben
GEO:59.193432193406;17.901717405743
X-APPLE-STRUCTURED-LOCATION;VALUE=URI;X-ADDRESS=TSK-klubbstugan Flottiljvägen 56 Tullinge 146 38 Sweden;X-APPLE-RADIUS=500;X-TITLE=Flottiljvägen 56:geo:17.901717405743,59.193432193406
END:VEVENT
BEGIN:VEVENT
DTSTART;TZID=Europe/Stockholm:20251215T180000
DTEND;TZID=Europe/Stockholm:20251215T190000
DTSTAMP:20260422T070226
CREATED:20251209T120519Z
LAST-MODIFIED:20251209T120519Z
UID:10002742-1765821600-1765825200@www.tullingesk.se
SUMMARY:Träsktrollen - inomhusträning
DESCRIPTION:Barn födda 2017-2018 \nLekar och inomhusorientering.
URL:https://www.tullingesk.se/aktivitet/trasktrollen-inomhustraning/
LOCATION:Parkhemsskolans gympahall
END:VEVENT
BEGIN:VEVENT
DTSTART;TZID=Europe/Stockholm:20251215T190000
DTEND;TZID=Europe/Stockholm:20251215T200000
DTSTAMP:20260422T070226
CREATED:20251003T073124Z
LAST-MODIFIED:20260330T145355Z
UID:10002613-1765825200-1765828800@www.tullingesk.se
SUMMARY:Styrkegympa -för alla!
DESCRIPTION:Tid: Måndagar kl 19-20\nPlats: Parkhemsskolans gympahall\nVem: TSK-medlemmar\nTa med: Inneskor & vattenflaska\nFörkunskaper: INGA! Alla kan vara med på sin nivå!\nVad: Styrka för hela kroppen. Enkla övningar\, oftast med egna kroppen som vikt men ibland även med gummiband (finns på plats). \n  \n  \n 
URL:https://www.tullingesk.se/aktivitet/tsk-gympa/2025-12-15/
LOCATION:Parkhemsskolans gympahall
END:VEVENT
BEGIN:VEVENT
DTSTART;TZID=Europe/Stockholm:20251216T180000
DTEND;TZID=Europe/Stockholm:20251216T190000
DTSTAMP:20260422T070226
CREATED:20251206T062601Z
LAST-MODIFIED:20251206T062602Z
UID:10001616-1765908000-1765911600@www.tullingesk.se
SUMMARY:Grupp 4 tisdagar
DESCRIPTION:Grupp 4 – gruppen för alla! \nFör instruktioner och lista över alla ansvariga:  https://www.tullingesk.se/bredd-motionar/ \n  \nV51 Erik Berggren & Kenneth Jönsson
URL:https://www.tullingesk.se/aktivitet/grupp-4-tisdagar-51/
LOCATION:TSK-klubbstugan\, Flottiljvägen 56\, Tullinge\, 146 38\, Sweden
GEO:59.193432193406;17.901717405743
X-APPLE-STRUCTURED-LOCATION;VALUE=URI;X-ADDRESS=TSK-klubbstugan Flottiljvägen 56 Tullinge 146 38 Sweden;X-APPLE-RADIUS=500;X-TITLE=Flottiljvägen 56:geo:17.901717405743,59.193432193406
END:VEVENT
BEGIN:VEVENT
DTSTART;TZID=Europe/Stockholm:20251216T180000
DTEND;TZID=Europe/Stockholm:20251216T191500
DTSTAMP:20260422T070226
CREATED:20251215T132540Z
LAST-MODIFIED:20251215T132540Z
UID:10002761-1765908000-1765912500@www.tullingesk.se
SUMMARY:1316-gruppen: Backe2000
DESCRIPTION:Med HD17 \nLöparskor och reflexväst
URL:https://www.tullingesk.se/aktivitet/1316-gruppen-backe2000/
LOCATION:TSK-klubbstugan\, Flottiljvägen 56\, Tullinge\, 146 38\, Sweden
GEO:59.193432193406;17.901717405743
X-APPLE-STRUCTURED-LOCATION;VALUE=URI;X-ADDRESS=TSK-klubbstugan Flottiljvägen 56 Tullinge 146 38 Sweden;X-APPLE-RADIUS=500;X-TITLE=Flottiljvägen 56:geo:17.901717405743,59.193432193406
END:VEVENT
BEGIN:VEVENT
DTSTART;TZID=Europe/Stockholm:20251216T180000
DTEND;TZID=Europe/Stockholm:20251216T200000
DTSTAMP:20260422T070226
CREATED:20250831T155936Z
LAST-MODIFIED:20250831T160007Z
UID:10001019-1765908000-1765915200@www.tullingesk.se
SUMMARY:HD17
DESCRIPTION:Backe 3000 \nAnsvarig: Matthew
URL:https://www.tullingesk.se/aktivitet/hd17-101/
LOCATION:TSK-klubbstugan\, Flottiljvägen 56\, Tullinge\, 146 38\, Sweden
GEO:59.193432193406;17.901717405743
X-APPLE-STRUCTURED-LOCATION;VALUE=URI;X-ADDRESS=TSK-klubbstugan Flottiljvägen 56 Tullinge 146 38 Sweden;X-APPLE-RADIUS=500;X-TITLE=Flottiljvägen 56:geo:17.901717405743,59.193432193406
END:VEVENT
END:VCALENDAR