BEGIN:VCALENDAR
VERSION:2.0
PRODID:-//Tullinge SK - ECPv6.15.20//NONSGML v1.0//EN
CALSCALE:GREGORIAN
METHOD:PUBLISH
X-ORIGINAL-URL:https://www.tullingesk.se
X-WR-CALDESC:Händelser för Tullinge SK
REFRESH-INTERVAL;VALUE=DURATION:PT1H
X-Robots-Tag:noindex
X-PUBLISHED-TTL:PT1H
BEGIN:VTIMEZONE
TZID:Europe/Stockholm
BEGIN:DAYLIGHT
TZOFFSETFROM:+0100
TZOFFSETTO:+0200
TZNAME:CEST
DTSTART:20250330T010000
END:DAYLIGHT
BEGIN:STANDARD
TZOFFSETFROM:+0200
TZOFFSETTO:+0100
TZNAME:CET
DTSTART:20251026T010000
END:STANDARD
BEGIN:DAYLIGHT
TZOFFSETFROM:+0100
TZOFFSETTO:+0200
TZNAME:CEST
DTSTART:20260329T010000
END:DAYLIGHT
BEGIN:STANDARD
TZOFFSETFROM:+0200
TZOFFSETTO:+0100
TZNAME:CET
DTSTART:20261025T010000
END:STANDARD
BEGIN:DAYLIGHT
TZOFFSETFROM:+0100
TZOFFSETTO:+0200
TZNAME:CEST
DTSTART:20270328T010000
END:DAYLIGHT
BEGIN:STANDARD
TZOFFSETFROM:+0200
TZOFFSETTO:+0100
TZNAME:CET
DTSTART:20271031T010000
END:STANDARD
END:VTIMEZONE
BEGIN:VEVENT
DTSTART;TZID=Europe/Stockholm:20260127T180000
DTEND;TZID=Europe/Stockholm:20260127T190000
DTSTAMP:20260423T004516
CREATED:20260104T083403Z
LAST-MODIFIED:20260104T083404Z
UID:10002796-1769536800-1769540400@www.tullingesk.se
SUMMARY:Grupp 4 - tisdagsträning
DESCRIPTION:Grupp 4 – tisdagsträning \nGruppen för alla som inte väljer annan grupp 🙂 \nAnsvarig denna vecka: \nv5: Rickard Andersson & Peter Mattila \n  \nFör anvisningar och lista över ansvariga: https://www.tullingesk.se/bredd-motionar/
URL:https://www.tullingesk.se/aktivitet/grupp-4-tisdagstraning-4/
LOCATION:TSK-klubbstugan\, Flottiljvägen 56\, Tullinge\, 146 38\, Sweden
CATEGORIES:Tullinge SK
GEO:59.193432193406;17.901717405743
X-APPLE-STRUCTURED-LOCATION;VALUE=URI;X-ADDRESS=TSK-klubbstugan Flottiljvägen 56 Tullinge 146 38 Sweden;X-APPLE-RADIUS=500;X-TITLE=Flottiljvägen 56:geo:17.901717405743,59.193432193406
END:VEVENT
BEGIN:VEVENT
DTSTART;TZID=Europe/Stockholm:20260127T180000
DTEND;TZID=Europe/Stockholm:20260127T193000
DTSTAMP:20260423T004516
CREATED:20260127T134120Z
LAST-MODIFIED:20260127T134120Z
UID:10002937-1769536800-1769542200@www.tullingesk.se
SUMMARY:1316-gruppen: backe (reflexväst)
DESCRIPTION:Backe på gångvägen mellan Rodret och Grindstugan. \nOL/trial/löparskor. \n/Johan & Calle
URL:https://www.tullingesk.se/aktivitet/1316-gruppen-backe-reflexvast/
LOCATION:TSK-klubbstugan\, Flottiljvägen 56\, Tullinge\, 146 38\, Sweden
CATEGORIES:Ungdomskommittén
GEO:59.193432193406;17.901717405743
X-APPLE-STRUCTURED-LOCATION;VALUE=URI;X-ADDRESS=TSK-klubbstugan Flottiljvägen 56 Tullinge 146 38 Sweden;X-APPLE-RADIUS=500;X-TITLE=Flottiljvägen 56:geo:17.901717405743,59.193432193406
END:VEVENT
BEGIN:VEVENT
DTSTART;TZID=Europe/Stockholm:20260127T180000
DTEND;TZID=Europe/Stockholm:20260127T200000
DTSTAMP:20260423T004516
CREATED:20260127T143947Z
LAST-MODIFIED:20260127T152958Z
UID:10001024-1769536800-1769544000@www.tullingesk.se
SUMMARY:HD17
DESCRIPTION:10 min\, 2 min vila\, 10×1 min (1 min vila)\, 2 min vila\, 10 min. \nPå vägen.
URL:https://www.tullingesk.se/aktivitet/hd17-34-9/
LOCATION:TSK-klubbstugan\, Flottiljvägen 56\, Tullinge\, 146 38\, Sweden
GEO:59.193432193406;17.901717405743
X-APPLE-STRUCTURED-LOCATION;VALUE=URI;X-ADDRESS=TSK-klubbstugan Flottiljvägen 56 Tullinge 146 38 Sweden;X-APPLE-RADIUS=500;X-TITLE=Flottiljvägen 56:geo:17.901717405743,59.193432193406
END:VEVENT
BEGIN:VEVENT
DTSTART;TZID=Europe/Stockholm:20260127T193000
DTEND;TZID=Europe/Stockholm:20260127T203000
DTSTAMP:20260423T004516
CREATED:20260126T183630Z
LAST-MODIFIED:20260126T183630Z
UID:10002936-1769542200-1769545800@www.tullingesk.se
SUMMARY:Mötesrummet vid hallen bokat /BSKK
DESCRIPTION:Lilla mötesrummet bokat av kartkommittén.
URL:https://www.tullingesk.se/aktivitet/motesrummet-vid-hallen-bokat-bskk/
LOCATION:TSK-klubbstugan\, Flottiljvägen 56\, Tullinge\, 146 38\, Sweden
GEO:59.193432193406;17.901717405743
X-APPLE-STRUCTURED-LOCATION;VALUE=URI;X-ADDRESS=TSK-klubbstugan Flottiljvägen 56 Tullinge 146 38 Sweden;X-APPLE-RADIUS=500;X-TITLE=Flottiljvägen 56:geo:17.901717405743,59.193432193406
END:VEVENT
BEGIN:VEVENT
DTSTART;TZID=Europe/Stockholm:20260128T180000
DTEND;TZID=Europe/Stockholm:20260128T203000
DTSTAMP:20260423T004516
CREATED:20260102T170806Z
LAST-MODIFIED:20260127T204616Z
UID:10002781-1769623200-1769632200@www.tullingesk.se
SUMMARY:OL-intervaller Svartviksskogen tillsammans med SSK
DESCRIPTION:Eftersom Ullmax nattcup är inställd så inbjuder SSK till: \nOL-intervaller\, Svartviksskogen | Snättringe SK \n  \nAnmälan senat onsdag lunch: anders.g.hedman(a)gmail.com
URL:https://www.tullingesk.se/aktivitet/snattring-nattcup-3/
LOCATION:TSK-klubbstugan\, Flottiljvägen 56\, Tullinge\, 146 38\, Sweden
GEO:59.193432193406;17.901717405743
X-APPLE-STRUCTURED-LOCATION;VALUE=URI;X-ADDRESS=TSK-klubbstugan Flottiljvägen 56 Tullinge 146 38 Sweden;X-APPLE-RADIUS=500;X-TITLE=Flottiljvägen 56:geo:17.901717405743,59.193432193406
END:VEVENT
BEGIN:VEVENT
DTSTART;TZID=Europe/Stockholm:20260129T180000
DTEND;TZID=Europe/Stockholm:20260129T190000
DTSTAMP:20260423T004516
CREATED:20260129T074831Z
LAST-MODIFIED:20260129T074831Z
UID:10002995-1769709600-1769713200@www.tullingesk.se
SUMMARY:1316-gruppen: Väg-OL (reflexväst\, liten lampa\, löpar/trailskor)
DESCRIPTION:Banor 4\,5-7\,5 km \n/Mats & Johan
URL:https://www.tullingesk.se/aktivitet/1316-gruppen-vag-ol-reflexvast-liten-lampa-lopar-trailskor/
LOCATION:TSK-klubbstugan\, Flottiljvägen 56\, Tullinge\, 146 38\, Sweden
GEO:59.193432193406;17.901717405743
X-APPLE-STRUCTURED-LOCATION;VALUE=URI;X-ADDRESS=TSK-klubbstugan Flottiljvägen 56 Tullinge 146 38 Sweden;X-APPLE-RADIUS=500;X-TITLE=Flottiljvägen 56:geo:17.901717405743,59.193432193406
END:VEVENT
BEGIN:VEVENT
DTSTART;TZID=Europe/Stockholm:20260129T180000
DTEND;TZID=Europe/Stockholm:20260129T210000
DTSTAMP:20260423T004516
CREATED:20260114T170259Z
LAST-MODIFIED:20260114T170259Z
UID:10002865-1769709600-1769720400@www.tullingesk.se
SUMMARY:Styrelserummet bokat - Kassör
DESCRIPTION:Ekonomimöte med revisorna. \n 
URL:https://www.tullingesk.se/aktivitet/styrelserummet-bokat-kassor/
LOCATION:TSK-klubbstugan\, Flottiljvägen 56\, Tullinge\, 146 38\, Sweden
CATEGORIES:Tullinge SK
GEO:59.193432193406;17.901717405743
X-APPLE-STRUCTURED-LOCATION;VALUE=URI;X-ADDRESS=TSK-klubbstugan Flottiljvägen 56 Tullinge 146 38 Sweden;X-APPLE-RADIUS=500;X-TITLE=Flottiljvägen 56:geo:17.901717405743,59.193432193406
END:VEVENT
BEGIN:VEVENT
DTSTART;TZID=Europe/Stockholm:20260130T170000
DTEND;TZID=Europe/Stockholm:20260130T170000
DTSTAMP:20260423T004516
CREATED:20260122T082923Z
LAST-MODIFIED:20260302T083013Z
UID:10002878-1769792400-1769792400@www.tullingesk.se
SUMMARY:Skidträning 912 & 1316
DESCRIPTION:Ansvarig: Pelle
URL:https://www.tullingesk.se/aktivitet/skidtraning-912-1316-2/2026-01-30/
LOCATION:Lida Frilufsgård\, Lidavägen 1\, Tullinge\, 14633\, Sverige
CATEGORIES:Skidor
GEO:59.163433851931;17.88166904719
X-APPLE-STRUCTURED-LOCATION;VALUE=URI;X-ADDRESS=Lida Frilufsgård Lidavägen 1 Tullinge 14633 Sverige;X-APPLE-RADIUS=500;X-TITLE=Lidavägen 1:geo:17.88166904719,59.163433851931
END:VEVENT
BEGIN:VEVENT
DTSTART;TZID=Europe/Stockholm:20260130T173000
DTEND;TZID=Europe/Stockholm:20260130T183000
DTSTAMP:20260423T004516
CREATED:20260127T134453Z
LAST-MODIFIED:20260302T083101Z
UID:10002938-1769794200-1769797800@www.tullingesk.se
SUMMARY:Skidträning Träsktrollen
DESCRIPTION:Ansvarig: Henrik
URL:https://www.tullingesk.se/aktivitet/skidtraning-trasktrollen/2026-01-30/
LOCATION:Lida Frilufsgård\, Lidavägen 1\, Tullinge\, 14633\, Sverige
CATEGORIES:Skidor
GEO:59.163433851931;17.88166904719
X-APPLE-STRUCTURED-LOCATION;VALUE=URI;X-ADDRESS=Lida Frilufsgård Lidavägen 1 Tullinge 14633 Sverige;X-APPLE-RADIUS=500;X-TITLE=Lidavägen 1:geo:17.88166904719,59.163433851931
END:VEVENT
BEGIN:VEVENT
DTSTART;TZID=Europe/Stockholm:20260131T093000
DTEND;TZID=Europe/Stockholm:20260131T153000
DTSTAMP:20260423T004516
CREATED:20251227T154343Z
LAST-MODIFIED:20251227T154343Z
UID:10002765-1769851800-1769873400@www.tullingesk.se
SUMMARY:Klubbstugan bokad ungkom
DESCRIPTION:Klubbstugan bokad för aktivitetsdag ungdom
URL:https://www.tullingesk.se/aktivitet/klubbstugan-bokad-ungkom/
LOCATION:TSK-klubbstugan\, Flottiljvägen 56\, Tullinge\, 146 38\, Sweden
GEO:59.193432193406;17.901717405743
X-APPLE-STRUCTURED-LOCATION;VALUE=URI;X-ADDRESS=TSK-klubbstugan Flottiljvägen 56 Tullinge 146 38 Sweden;X-APPLE-RADIUS=500;X-TITLE=Flottiljvägen 56:geo:17.901717405743,59.193432193406
END:VEVENT
BEGIN:VEVENT
DTSTART;TZID=Europe/Stockholm:20260131T100000
DTEND;TZID=Europe/Stockholm:20260131T120000
DTSTAMP:20260423T004516
CREATED:20260102T170911Z
LAST-MODIFIED:20260127T205146Z
UID:10002782-1769853600-1769860800@www.tullingesk.se
SUMMARY:Lördagsbacke eller liknande tillsammans med SSK
DESCRIPTION:Ansvarig: Matthew
URL:https://www.tullingesk.se/aktivitet/ol-teknik-5/
LOCATION:TSK-klubbstugan\, Flottiljvägen 56\, Tullinge\, 146 38\, Sweden
GEO:59.193432193406;17.901717405743
X-APPLE-STRUCTURED-LOCATION;VALUE=URI;X-ADDRESS=TSK-klubbstugan Flottiljvägen 56 Tullinge 146 38 Sweden;X-APPLE-RADIUS=500;X-TITLE=Flottiljvägen 56:geo:17.901717405743,59.193432193406
END:VEVENT
BEGIN:VEVENT
DTSTART;TZID=Europe/Stockholm:20260131T100000
DTEND;TZID=Europe/Stockholm:20260131T143000
DTSTAMP:20260423T004516
CREATED:20260116T185800Z
LAST-MODIFIED:20260116T185800Z
UID:10002866-1769853600-1769869800@www.tullingesk.se
SUMMARY:Aktivietetsdag ungdom med tårt-KM
DESCRIPTION:Samling 10:00 vid klubbstugan – slut ca 14:30\nAnmälan innan via https://eventor.orientering.se/Activities/Show/25359
URL:https://www.tullingesk.se/aktivitet/aktivietetsdag-ungdom-med-tart-km/
LOCATION:TSK-klubbstugan\, Flottiljvägen 56\, Tullinge\, 146 38\, Sweden
GEO:59.193432193406;17.901717405743
X-APPLE-STRUCTURED-LOCATION;VALUE=URI;X-ADDRESS=TSK-klubbstugan Flottiljvägen 56 Tullinge 146 38 Sweden;X-APPLE-RADIUS=500;X-TITLE=Flottiljvägen 56:geo:17.901717405743,59.193432193406
END:VEVENT
BEGIN:VEVENT
DTSTART;TZID=Europe/Stockholm:20260201T090000
DTEND;TZID=Europe/Stockholm:20260201T140000
DTSTAMP:20260423T004516
CREATED:20250915T150408Z
LAST-MODIFIED:20250915T150408Z
UID:10002322-1769936400-1769954400@www.tullingesk.se
SUMMARY:Tipspromenad från TSK-stugan\, Brantbrinks IP
DESCRIPTION:Tipspromenad med barn och vuxenfrågor.\nMotionsbingo\nStart kl10-12\nFikaservering kl.10-13\nLotterier\nVälkomna!\nSupporterklubben
URL:https://www.tullingesk.se/aktivitet/tipspromenad-fran-tsk-stugan-brantbrinks-ip-25/
LOCATION:TSK-klubbstugan\, Flottiljvägen 56\, Tullinge\, 146 38\, Sweden
GEO:59.193432193406;17.901717405743
X-APPLE-STRUCTURED-LOCATION;VALUE=URI;X-ADDRESS=TSK-klubbstugan Flottiljvägen 56 Tullinge 146 38 Sweden;X-APPLE-RADIUS=500;X-TITLE=Flottiljvägen 56:geo:17.901717405743,59.193432193406
END:VEVENT
BEGIN:VEVENT
DTSTART;TZID=Europe/Stockholm:20260201T100000
DTEND;TZID=Europe/Stockholm:20260201T130000
DTSTAMP:20260423T004516
CREATED:20260102T163500Z
LAST-MODIFIED:20260102T163500Z
UID:10002775-1769940000-1769950800@www.tullingesk.se
SUMMARY:Långpass från Brantan
DESCRIPTION:Ansvarig: Lin och Björn Normark
URL:https://www.tullingesk.se/aktivitet/langpass-fran-brantan-7/
LOCATION:TSK-klubbstugan\, Flottiljvägen 56\, Tullinge\, 146 38\, Sweden
GEO:59.193432193406;17.901717405743
X-APPLE-STRUCTURED-LOCATION;VALUE=URI;X-ADDRESS=TSK-klubbstugan Flottiljvägen 56 Tullinge 146 38 Sweden;X-APPLE-RADIUS=500;X-TITLE=Flottiljvägen 56:geo:17.901717405743,59.193432193406
END:VEVENT
BEGIN:VEVENT
DTSTART;TZID=Europe/Stockholm:20260201T100000
DTEND;TZID=Europe/Stockholm:20260201T170000
DTSTAMP:20260423T004516
CREATED:20260128T112701Z
LAST-MODIFIED:20260128T112701Z
UID:10002994-1769940000-1769965200@www.tullingesk.se
SUMMARY:Långpass
DESCRIPTION:Långpass på vägar mot Tullinge Östra / Flemingsberg. \nSamling Brantbrink kl.10 – Kartor finns utskrivna och hänger på anslagstavlan. Vätska plus överraskning vid Flaggplan. Olika slingor/längdalternativ finnes (4\, 6\, 8\, 13\, 15\, 17km) \nFinns även kartor vid Flaggplan – Klungan där ca: 10.15 \nKör hårt! \n  \nBjörn & Lin
URL:https://www.tullingesk.se/aktivitet/langpass-21/
LOCATION:TSK-klubbstugan\, Flottiljvägen 56\, Tullinge\, 146 38\, Sweden
GEO:59.193432193406;17.901717405743
X-APPLE-STRUCTURED-LOCATION;VALUE=URI;X-ADDRESS=TSK-klubbstugan Flottiljvägen 56 Tullinge 146 38 Sweden;X-APPLE-RADIUS=500;X-TITLE=Flottiljvägen 56:geo:17.901717405743,59.193432193406
END:VEVENT
BEGIN:VEVENT
DTSTART;TZID=Europe/Stockholm:20260202T180000
DTEND;TZID=Europe/Stockholm:20260202T190000
DTSTAMP:20260423T004516
CREATED:20251209T120757Z
LAST-MODIFIED:20251209T120757Z
UID:10002746-1770055200-1770058800@www.tullingesk.se
SUMMARY:Träsktrollen - inomhusträning
DESCRIPTION:Barn födda 2017-2018 \nLekar och inomhusorientering.
URL:https://www.tullingesk.se/aktivitet/trasktrollen-inomhustraning-2/2026-02-02/
LOCATION:Parkhemsskolans gympahall
END:VEVENT
BEGIN:VEVENT
DTSTART;TZID=Europe/Stockholm:20260202T190000
DTEND;TZID=Europe/Stockholm:20260202T200000
DTSTAMP:20260423T004516
CREATED:20251003T073124Z
LAST-MODIFIED:20260330T145355Z
UID:10002618-1770058800-1770062400@www.tullingesk.se
SUMMARY:Styrkegympa -för alla!
DESCRIPTION:Tid: Måndagar kl 19-20\nPlats: Parkhemsskolans gympahall\nVem: TSK-medlemmar\nTa med: Inneskor & vattenflaska\nFörkunskaper: INGA! Alla kan vara med på sin nivå!\nVad: Styrka för hela kroppen. Enkla övningar\, oftast med egna kroppen som vikt men ibland även med gummiband (finns på plats). \n  \n  \n 
URL:https://www.tullingesk.se/aktivitet/tsk-gympa/2026-02-02/
LOCATION:Parkhemsskolans gympahall
END:VEVENT
BEGIN:VEVENT
DTSTART;TZID=Europe/Stockholm:20260203T180000
DTEND;TZID=Europe/Stockholm:20260203T190000
DTSTAMP:20260423T004516
CREATED:20260130T184021Z
LAST-MODIFIED:20260130T184022Z
UID:10002797-1770141600-1770145200@www.tullingesk.se
SUMMARY:Grupp 4 - tisdagsträning
DESCRIPTION:Grupp 4 – tisdagsträning \nGruppen för alla som inte väljer annan grupp 🙂 \nAnsvarig denna vecka: \nV6 Daniel Helander & Henrik Bladh \n  \nFör anvisningar och lista över ansvariga: https://www.tullingesk.se/bredd-motionar/
URL:https://www.tullingesk.se/aktivitet/grupp-4-tisdagstraning-5/
LOCATION:TSK-klubbstugan\, Flottiljvägen 56\, Tullinge\, 146 38\, Sweden
CATEGORIES:Tullinge SK
GEO:59.193432193406;17.901717405743
X-APPLE-STRUCTURED-LOCATION;VALUE=URI;X-ADDRESS=TSK-klubbstugan Flottiljvägen 56 Tullinge 146 38 Sweden;X-APPLE-RADIUS=500;X-TITLE=Flottiljvägen 56:geo:17.901717405743,59.193432193406
END:VEVENT
BEGIN:VEVENT
DTSTART;TZID=Europe/Stockholm:20260203T180000
DTEND;TZID=Europe/Stockholm:20260203T193000
DTSTAMP:20260423T004516
CREATED:20260203T130404Z
LAST-MODIFIED:20260203T130404Z
UID:10002996-1770141600-1770147000@www.tullingesk.se
SUMMARY:1316-gruppen: hela-klubben-intervaller
DESCRIPTION:Reflexväst och löpar/trailskor \n/Johan\, Calle & Björn
URL:https://www.tullingesk.se/aktivitet/1316-gruppen-hela-klubben-intervaller/
LOCATION:TSK-klubbstugan\, Flottiljvägen 56\, Tullinge\, 146 38\, Sweden
GEO:59.193432193406;17.901717405743
X-APPLE-STRUCTURED-LOCATION;VALUE=URI;X-ADDRESS=TSK-klubbstugan Flottiljvägen 56 Tullinge 146 38 Sweden;X-APPLE-RADIUS=500;X-TITLE=Flottiljvägen 56:geo:17.901717405743,59.193432193406
END:VEVENT
BEGIN:VEVENT
DTSTART;TZID=Europe/Stockholm:20260203T180000
DTEND;TZID=Europe/Stockholm:20260203T200000
DTSTAMP:20260423T004516
CREATED:20260102T171314Z
LAST-MODIFIED:20260202T203729Z
UID:10000917-1770141600-1770148800@www.tullingesk.se
SUMMARY:HD17 Hela Klubben Intervaller
DESCRIPTION:Intervallstege – 1’+2’+3’+4’+5’+5’+4’+3’+2’+1′ \nAnsvarig: Matthew \nReflexväst!
URL:https://www.tullingesk.se/aktivitet/hd17-34-6/
LOCATION:TSK-klubbstugan\, Flottiljvägen 56\, Tullinge\, 146 38\, Sweden
GEO:59.193432193406;17.901717405743
X-APPLE-STRUCTURED-LOCATION;VALUE=URI;X-ADDRESS=TSK-klubbstugan Flottiljvägen 56 Tullinge 146 38 Sweden;X-APPLE-RADIUS=500;X-TITLE=Flottiljvägen 56:geo:17.901717405743,59.193432193406
END:VEVENT
BEGIN:VEVENT
DTSTART;TZID=Europe/Stockholm:20260203T190000
DTEND;TZID=Europe/Stockholm:20260203T210000
DTSTAMP:20260423T004516
CREATED:20251210T142039Z
LAST-MODIFIED:20251210T142420Z
UID:10002752-1770145200-1770152400@www.tullingesk.se
SUMMARY:Rummet vid hallen bokat/Styrelsen
DESCRIPTION:
URL:https://www.tullingesk.se/aktivitet/rummet-vid-hallen-bokat-styrelsen-2/
LOCATION:TSK-klubbstugan\, Flottiljvägen 56\, Tullinge\, 146 38\, Sweden
GEO:59.193432193406;17.901717405743
X-APPLE-STRUCTURED-LOCATION;VALUE=URI;X-ADDRESS=TSK-klubbstugan Flottiljvägen 56 Tullinge 146 38 Sweden;X-APPLE-RADIUS=500;X-TITLE=Flottiljvägen 56:geo:17.901717405743,59.193432193406
END:VEVENT
BEGIN:VEVENT
DTSTART;TZID=Europe/Stockholm:20260203T200000
DTEND;TZID=Europe/Stockholm:20260203T213000
DTSTAMP:20260423T004516
CREATED:20260125T132343Z
LAST-MODIFIED:20260125T132645Z
UID:10002935-1770148800-1770154200@www.tullingesk.se
SUMMARY:Supporterklubbens årsmöte 2026 - Styrelserummet bokat
DESCRIPTION:
URL:https://www.tullingesk.se/aktivitet/supporterklubbens-arsmote-2026-styrelserummet-bokat/
LOCATION:TSK-klubbstugan\, Flottiljvägen 56\, Tullinge\, 146 38\, Sweden
CATEGORIES:Supporterklubben
GEO:59.193432193406;17.901717405743
X-APPLE-STRUCTURED-LOCATION;VALUE=URI;X-ADDRESS=TSK-klubbstugan Flottiljvägen 56 Tullinge 146 38 Sweden;X-APPLE-RADIUS=500;X-TITLE=Flottiljvägen 56:geo:17.901717405743,59.193432193406
END:VEVENT
BEGIN:VEVENT
DTSTART;TZID=Europe/Stockholm:20260205T180000
DTEND;TZID=Europe/Stockholm:20260205T190000
DTSTAMP:20260423T004516
CREATED:20260205T092323Z
LAST-MODIFIED:20260205T092323Z
UID:10002997-1770314400-1770318000@www.tullingesk.se
SUMMARY:1316-gruppen: distanspass väg (reflexväst)
DESCRIPTION:/Johan & Calle
URL:https://www.tullingesk.se/aktivitet/1316-gruppen-distanspass-vag-reflexvast-2/
LOCATION:TSK-klubbstugan\, Flottiljvägen 56\, Tullinge\, 146 38\, Sweden
GEO:59.193432193406;17.901717405743
X-APPLE-STRUCTURED-LOCATION;VALUE=URI;X-ADDRESS=TSK-klubbstugan Flottiljvägen 56 Tullinge 146 38 Sweden;X-APPLE-RADIUS=500;X-TITLE=Flottiljvägen 56:geo:17.901717405743,59.193432193406
END:VEVENT
BEGIN:VEVENT
DTSTART;TZID=Europe/Stockholm:20260206T170000
DTEND;TZID=Europe/Stockholm:20260206T170000
DTSTAMP:20260423T004516
CREATED:20260122T082923Z
LAST-MODIFIED:20260302T083013Z
UID:10002879-1770397200-1770397200@www.tullingesk.se
SUMMARY:Skidträning 912 & 1316
DESCRIPTION:Ansvarig: Pelle
URL:https://www.tullingesk.se/aktivitet/skidtraning-912-1316-2/2026-02-06/
LOCATION:Lida Frilufsgård\, Lidavägen 1\, Tullinge\, 14633\, Sverige
CATEGORIES:Skidor
GEO:59.163433851931;17.88166904719
X-APPLE-STRUCTURED-LOCATION;VALUE=URI;X-ADDRESS=Lida Frilufsgård Lidavägen 1 Tullinge 14633 Sverige;X-APPLE-RADIUS=500;X-TITLE=Lidavägen 1:geo:17.88166904719,59.163433851931
END:VEVENT
BEGIN:VEVENT
DTSTART;TZID=Europe/Stockholm:20260206T173000
DTEND;TZID=Europe/Stockholm:20260206T183000
DTSTAMP:20260423T004516
CREATED:20260127T134453Z
LAST-MODIFIED:20260302T083101Z
UID:10002939-1770399000-1770402600@www.tullingesk.se
SUMMARY:Skidträning Träsktrollen
DESCRIPTION:Ansvarig: Henrik
URL:https://www.tullingesk.se/aktivitet/skidtraning-trasktrollen/2026-02-06/
LOCATION:Lida Frilufsgård\, Lidavägen 1\, Tullinge\, 14633\, Sverige
CATEGORIES:Skidor
GEO:59.163433851931;17.88166904719
X-APPLE-STRUCTURED-LOCATION;VALUE=URI;X-ADDRESS=Lida Frilufsgård Lidavägen 1 Tullinge 14633 Sverige;X-APPLE-RADIUS=500;X-TITLE=Lidavägen 1:geo:17.88166904719,59.163433851931
END:VEVENT
BEGIN:VEVENT
DTSTART;TZID=Europe/Stockholm:20260207T100000
DTEND;TZID=Europe/Stockholm:20260207T120000
DTSTAMP:20260423T004516
CREATED:20260102T171432Z
LAST-MODIFIED:20260206T190125Z
UID:10002783-1770458400-1770465600@www.tullingesk.se
SUMMARY:Lördagsbacke från Brantan
DESCRIPTION:Backe × 20\, 10+10 setvila 2 min \n40 sekunder upp\, fort upp och joggar ned \nAnsvarig: Olof och Viktor \n  \n  \n  \n 
URL:https://www.tullingesk.se/aktivitet/lordagstraning-2/
LOCATION:TSK-klubbstugan\, Flottiljvägen 56\, Tullinge\, 146 38\, Sweden
GEO:59.193432193406;17.901717405743
X-APPLE-STRUCTURED-LOCATION;VALUE=URI;X-ADDRESS=TSK-klubbstugan Flottiljvägen 56 Tullinge 146 38 Sweden;X-APPLE-RADIUS=500;X-TITLE=Flottiljvägen 56:geo:17.901717405743,59.193432193406
END:VEVENT
BEGIN:VEVENT
DTSTART;TZID=Europe/Stockholm:20260208T090000
DTEND;TZID=Europe/Stockholm:20260208T140000
DTSTAMP:20260423T004516
CREATED:20250915T150423Z
LAST-MODIFIED:20250915T150423Z
UID:10002323-1770541200-1770559200@www.tullingesk.se
SUMMARY:Tipspromenad från TSK-stugan\, Brantbrinks IP
DESCRIPTION:Tipspromenad med barn och vuxenfrågor.\nMotionsbingo\nStart kl10-12\nFikaservering kl.10-13\nLotterier\nVälkomna!\nSupporterklubben
URL:https://www.tullingesk.se/aktivitet/tipspromenad-fran-tsk-stugan-brantbrinks-ip-26/
LOCATION:TSK-klubbstugan\, Flottiljvägen 56\, Tullinge\, 146 38\, Sweden
GEO:59.193432193406;17.901717405743
X-APPLE-STRUCTURED-LOCATION;VALUE=URI;X-ADDRESS=TSK-klubbstugan Flottiljvägen 56 Tullinge 146 38 Sweden;X-APPLE-RADIUS=500;X-TITLE=Flottiljvägen 56:geo:17.901717405743,59.193432193406
END:VEVENT
BEGIN:VEVENT
DTSTART;TZID=Europe/Stockholm:20260208T100000
DTEND;TZID=Europe/Stockholm:20260208T130000
DTSTAMP:20260423T004516
CREATED:20260102T161944Z
LAST-MODIFIED:20260131T153818Z
UID:10002770-1770544800-1770555600@www.tullingesk.se
SUMMARY:Långpass fr Brantan
DESCRIPTION:Tillsammans med SNO och TMOK \nPå kuperade vägar\, och lite skog\, mot norra Tullinge och Tullingesjön. Varierande underlag. \nBanlängder 17\,1  14\,6  13\,1  11\,2 och  7\,8 km. \nAnsvarig: Rikard och Kerstin Imark
URL:https://www.tullingesk.se/aktivitet/langpass-fran-brantan-5/
LOCATION:TSK-klubbstugan\, Flottiljvägen 56\, Tullinge\, 146 38\, Sweden
GEO:59.193432193406;17.901717405743
X-APPLE-STRUCTURED-LOCATION;VALUE=URI;X-ADDRESS=TSK-klubbstugan Flottiljvägen 56 Tullinge 146 38 Sweden;X-APPLE-RADIUS=500;X-TITLE=Flottiljvägen 56:geo:17.901717405743,59.193432193406
END:VEVENT
BEGIN:VEVENT
DTSTART;TZID=Europe/Stockholm:20260209T180000
DTEND;TZID=Europe/Stockholm:20260209T190000
DTSTAMP:20260423T004516
CREATED:20251209T120757Z
LAST-MODIFIED:20251209T120757Z
UID:10002747-1770660000-1770663600@www.tullingesk.se
SUMMARY:Träsktrollen - inomhusträning
DESCRIPTION:Barn födda 2017-2018 \nLekar och inomhusorientering.
URL:https://www.tullingesk.se/aktivitet/trasktrollen-inomhustraning-2/2026-02-09/
LOCATION:Parkhemsskolans gympahall
END:VEVENT
BEGIN:VEVENT
DTSTART;TZID=Europe/Stockholm:20260209T190000
DTEND;TZID=Europe/Stockholm:20260209T200000
DTSTAMP:20260423T004516
CREATED:20251003T073124Z
LAST-MODIFIED:20260330T145355Z
UID:10002619-1770663600-1770667200@www.tullingesk.se
SUMMARY:Styrkegympa -för alla!
DESCRIPTION:Tid: Måndagar kl 19-20\nPlats: Parkhemsskolans gympahall\nVem: TSK-medlemmar\nTa med: Inneskor & vattenflaska\nFörkunskaper: INGA! Alla kan vara med på sin nivå!\nVad: Styrka för hela kroppen. Enkla övningar\, oftast med egna kroppen som vikt men ibland även med gummiband (finns på plats). \n  \n  \n 
URL:https://www.tullingesk.se/aktivitet/tsk-gympa/2026-02-09/
LOCATION:Parkhemsskolans gympahall
END:VEVENT
END:VCALENDAR