BEGIN:VCALENDAR
VERSION:2.0
PRODID:-//Tullinge SK - ECPv6.15.20//NONSGML v1.0//EN
CALSCALE:GREGORIAN
METHOD:PUBLISH
X-WR-CALNAME:Tullinge SK
X-ORIGINAL-URL:https://www.tullingesk.se
X-WR-CALDESC:Händelser för Tullinge SK
REFRESH-INTERVAL;VALUE=DURATION:PT1H
X-Robots-Tag:noindex
X-PUBLISHED-TTL:PT1H
BEGIN:VTIMEZONE
TZID:Europe/Stockholm
BEGIN:DAYLIGHT
TZOFFSETFROM:+0100
TZOFFSETTO:+0200
TZNAME:CEST
DTSTART:20240331T010000
END:DAYLIGHT
BEGIN:STANDARD
TZOFFSETFROM:+0200
TZOFFSETTO:+0100
TZNAME:CET
DTSTART:20241027T010000
END:STANDARD
BEGIN:DAYLIGHT
TZOFFSETFROM:+0100
TZOFFSETTO:+0200
TZNAME:CEST
DTSTART:20250330T010000
END:DAYLIGHT
BEGIN:STANDARD
TZOFFSETFROM:+0200
TZOFFSETTO:+0100
TZNAME:CET
DTSTART:20251026T010000
END:STANDARD
BEGIN:DAYLIGHT
TZOFFSETFROM:+0100
TZOFFSETTO:+0200
TZNAME:CEST
DTSTART:20260329T010000
END:DAYLIGHT
BEGIN:STANDARD
TZOFFSETFROM:+0200
TZOFFSETTO:+0100
TZNAME:CET
DTSTART:20261025T010000
END:STANDARD
BEGIN:DAYLIGHT
TZOFFSETFROM:+0100
TZOFFSETTO:+0200
TZNAME:CEST
DTSTART:20270328T010000
END:DAYLIGHT
BEGIN:STANDARD
TZOFFSETFROM:+0200
TZOFFSETTO:+0100
TZNAME:CET
DTSTART:20271031T010000
END:STANDARD
END:VTIMEZONE
BEGIN:VEVENT
DTSTART;TZID=Europe/Stockholm:20251230T180000
DTEND;TZID=Europe/Stockholm:20251230T190000
DTSTAMP:20260423T005230
CREATED:20251206T072107Z
LAST-MODIFIED:20251216T075349Z
UID:10001918-1767117600-1767121200@www.tullingesk.se
SUMMARY:Grupp 4 tisdagar
DESCRIPTION:Grupp 4 – gruppen för alla! \nFör instruktioner och lista över alla ansvariga:  https://www.tullingesk.se/bredd-motionar/ \nIngen organiserad träning denna kväll. \nGott nytt träningsår!  Nya tag i Januari!
URL:https://www.tullingesk.se/aktivitet/grupp-4-tisdagar-53/
LOCATION:TSK-klubbstugan\, Flottiljvägen 56\, Tullinge\, 146 38\, Sweden
GEO:59.193432193406;17.901717405743
X-APPLE-STRUCTURED-LOCATION;VALUE=URI;X-ADDRESS=TSK-klubbstugan Flottiljvägen 56 Tullinge 146 38 Sweden;X-APPLE-RADIUS=500;X-TITLE=Flottiljvägen 56:geo:17.901717405743,59.193432193406
END:VEVENT
BEGIN:VEVENT
DTSTART;TZID=Europe/Stockholm:20251230T180000
DTEND;TZID=Europe/Stockholm:20251230T200000
DTSTAMP:20260423T005230
CREATED:20240314T195715Z
LAST-MODIFIED:20260301T171427Z
UID:10001020-1767117600-1767124800@www.tullingesk.se
SUMMARY:HD17
DESCRIPTION:5×6 mins\, 90s vila.
URL:https://www.tullingesk.se/aktivitet/hd17-34/2025-12-30/
LOCATION:TSK-klubbstugan\, Flottiljvägen 56\, Tullinge\, 146 38\, Sweden
GEO:59.193432193406;17.901717405743
X-APPLE-STRUCTURED-LOCATION;VALUE=URI;X-ADDRESS=TSK-klubbstugan Flottiljvägen 56 Tullinge 146 38 Sweden;X-APPLE-RADIUS=500;X-TITLE=Flottiljvägen 56:geo:17.901717405743,59.193432193406
END:VEVENT
BEGIN:VEVENT
DTSTART;TZID=Europe/Stockholm:20260106T180000
DTEND;TZID=Europe/Stockholm:20260106T200000
DTSTAMP:20260423T005230
CREATED:20260102T165830Z
LAST-MODIFIED:20260102T165830Z
UID:10001021-1767722400-1767729600@www.tullingesk.se
SUMMARY:HD17
DESCRIPTION:
URL:https://www.tullingesk.se/aktivitet/hd17-102/
LOCATION:TSK-klubbstugan\, Flottiljvägen 56\, Tullinge\, 146 38\, Sweden
GEO:59.193432193406;17.901717405743
X-APPLE-STRUCTURED-LOCATION;VALUE=URI;X-ADDRESS=TSK-klubbstugan Flottiljvägen 56 Tullinge 146 38 Sweden;X-APPLE-RADIUS=500;X-TITLE=Flottiljvägen 56:geo:17.901717405743,59.193432193406
END:VEVENT
BEGIN:VEVENT
DTSTART;TZID=Europe/Stockholm:20260108T180000
DTEND;TZID=Europe/Stockholm:20260108T190000
DTSTAMP:20260423T005230
CREATED:20260107T132207Z
LAST-MODIFIED:20260107T132207Z
UID:10002862-1767895200-1767898800@www.tullingesk.se
SUMMARY:1316-gruppen - distanspass väg (reflexväst)
DESCRIPTION:Löpar/trailskor \n/Anna & Johan
URL:https://www.tullingesk.se/aktivitet/1316-gruppen-distanspass-vag-reflexvast/
LOCATION:TSK-klubbstugan\, Flottiljvägen 56\, Tullinge\, 146 38\, Sweden
GEO:59.193432193406;17.901717405743
X-APPLE-STRUCTURED-LOCATION;VALUE=URI;X-ADDRESS=TSK-klubbstugan Flottiljvägen 56 Tullinge 146 38 Sweden;X-APPLE-RADIUS=500;X-TITLE=Flottiljvägen 56:geo:17.901717405743,59.193432193406
END:VEVENT
BEGIN:VEVENT
DTSTART;TZID=Europe/Stockholm:20260108T183000
DTEND;TZID=Europe/Stockholm:20260108T203000
DTSTAMP:20260423T005230
CREATED:20251211T193642Z
LAST-MODIFIED:20251211T193642Z
UID:10002755-1767897000-1767904200@www.tullingesk.se
SUMMARY:EK möte lilla mötesrummet 8/1
DESCRIPTION:/Yvonne
URL:https://www.tullingesk.se/aktivitet/ek-mote-lilla-motesrummet-8-1/
LOCATION:TSK-klubbstugan\, Flottiljvägen 56\, Tullinge\, 146 38\, Sweden
GEO:59.193432193406;17.901717405743
X-APPLE-STRUCTURED-LOCATION;VALUE=URI;X-ADDRESS=TSK-klubbstugan Flottiljvägen 56 Tullinge 146 38 Sweden;X-APPLE-RADIUS=500;X-TITLE=Flottiljvägen 56:geo:17.901717405743,59.193432193406
END:VEVENT
BEGIN:VEVENT
DTSTART;TZID=Europe/Stockholm:20260110T100000
DTEND;TZID=Europe/Stockholm:20260110T120000
DTSTAMP:20260423T005230
CREATED:20260102T170104Z
LAST-MODIFIED:20260108T152915Z
UID:10002777-1768039200-1768046400@www.tullingesk.se
SUMMARY:Lördagsträning
DESCRIPTION:Klassisk skidåkning – 10x3min(1min vila) \nKl 10 från Brantbrink eller var du än befinner dig ❄️ \nAnsvarig: Madara och Laura
URL:https://www.tullingesk.se/aktivitet/lordagstraning/
LOCATION:TSK-klubbstugan\, Flottiljvägen 56\, Tullinge\, 146 38\, Sweden
GEO:59.193432193406;17.901717405743
X-APPLE-STRUCTURED-LOCATION;VALUE=URI;X-ADDRESS=TSK-klubbstugan Flottiljvägen 56 Tullinge 146 38 Sweden;X-APPLE-RADIUS=500;X-TITLE=Flottiljvägen 56:geo:17.901717405743,59.193432193406
END:VEVENT
BEGIN:VEVENT
DTSTART;TZID=Europe/Stockholm:20260111T090000
DTEND;TZID=Europe/Stockholm:20260111T140000
DTSTAMP:20260423T005230
CREATED:20250915T150311Z
LAST-MODIFIED:20250915T150311Z
UID:10002319-1768122000-1768140000@www.tullingesk.se
SUMMARY:Tipspromenad från TSK-stugan\, Brantbrinks IP
DESCRIPTION:Tipspromenad med barn och vuxenfrågor.\nMotionsbingo\nStart kl10-12\nFikaservering kl.10-13\nLotterier\nVälkomna!\nSupporterklubben
URL:https://www.tullingesk.se/aktivitet/tipspromenad-fran-tsk-stugan-brantbrinks-ip-22/
LOCATION:TSK-klubbstugan\, Flottiljvägen 56\, Tullinge\, 146 38\, Sweden
GEO:59.193432193406;17.901717405743
X-APPLE-STRUCTURED-LOCATION;VALUE=URI;X-ADDRESS=TSK-klubbstugan Flottiljvägen 56 Tullinge 146 38 Sweden;X-APPLE-RADIUS=500;X-TITLE=Flottiljvägen 56:geo:17.901717405743,59.193432193406
END:VEVENT
BEGIN:VEVENT
DTSTART;TZID=Europe/Stockholm:20260111T100000
DTEND;TZID=Europe/Stockholm:20260111T130000
DTSTAMP:20260423T005230
CREATED:20260102T161445Z
LAST-MODIFIED:20260106T205421Z
UID:10002767-1768125600-1768136400@www.tullingesk.se
SUMMARY:Långpass med SNO\, stadsorientering från Tveta
DESCRIPTION:Samling klockan 10:00 i Tveta. Långpasset är stadsorientering med mycket asfalt. \nhttps://www.sno.nu/Kalender/Handelser/2025-12/698-langpass/ \nBana 13\,8 km som kan kortas på många ställen. \n 
URL:https://www.tullingesk.se/aktivitet/langpass-med-sno/
LOCATION:TSK-klubbstugan\, Flottiljvägen 56\, Tullinge\, 146 38\, Sweden
GEO:59.193432193406;17.901717405743
X-APPLE-STRUCTURED-LOCATION;VALUE=URI;X-ADDRESS=TSK-klubbstugan Flottiljvägen 56 Tullinge 146 38 Sweden;X-APPLE-RADIUS=500;X-TITLE=Flottiljvägen 56:geo:17.901717405743,59.193432193406
END:VEVENT
BEGIN:VEVENT
DTSTART;TZID=Europe/Stockholm:20260112T180000
DTEND;TZID=Europe/Stockholm:20260112T190000
DTSTAMP:20260423T005230
CREATED:20251209T120757Z
LAST-MODIFIED:20251209T120757Z
UID:10002743-1768240800-1768244400@www.tullingesk.se
SUMMARY:Träsktrollen - inomhusträning
DESCRIPTION:Barn födda 2017-2018 \nLekar och inomhusorientering.
URL:https://www.tullingesk.se/aktivitet/trasktrollen-inomhustraning-2/2026-01-12/
LOCATION:Parkhemsskolans gympahall
END:VEVENT
BEGIN:VEVENT
DTSTART;TZID=Europe/Stockholm:20260112T190000
DTEND;TZID=Europe/Stockholm:20260112T200000
DTSTAMP:20260423T005230
CREATED:20251003T073124Z
LAST-MODIFIED:20260330T145355Z
UID:10002615-1768244400-1768248000@www.tullingesk.se
SUMMARY:Styrkegympa -för alla!
DESCRIPTION:Tid: Måndagar kl 19-20\nPlats: Parkhemsskolans gympahall\nVem: TSK-medlemmar\nTa med: Inneskor & vattenflaska\nFörkunskaper: INGA! Alla kan vara med på sin nivå!\nVad: Styrka för hela kroppen. Enkla övningar\, oftast med egna kroppen som vikt men ibland även med gummiband (finns på plats). \n  \n  \n 
URL:https://www.tullingesk.se/aktivitet/tsk-gympa/2026-01-12/
LOCATION:Parkhemsskolans gympahall
END:VEVENT
BEGIN:VEVENT
DTSTART;TZID=Europe/Stockholm:20260113T180000
DTEND;TZID=Europe/Stockholm:20260113T190000
DTSTAMP:20260423T005230
CREATED:20260104T082953Z
LAST-MODIFIED:20260110T202221Z
UID:10002794-1768327200-1768330800@www.tullingesk.se
SUMMARY:Grupp 4 - tisdagsträning
DESCRIPTION:Grupp 4 – tisdagsträning \nGruppen för alla som inte väljer annan grupp 🙂 \nAnsvarig denna vecka: \nv3:  Mia Bratt \nHela-klubben-intervaller eller skidåkning! \n  \n  \nFör anvisningar och lista över ansvariga: https://www.tullingesk.se/bredd-motionar/
URL:https://www.tullingesk.se/aktivitet/grupp-4-tisdagstraning-2/
LOCATION:TSK-klubbstugan\, Flottiljvägen 56\, Tullinge\, 146 38\, Sweden
CATEGORIES:Tullinge SK
GEO:59.193432193406;17.901717405743
X-APPLE-STRUCTURED-LOCATION;VALUE=URI;X-ADDRESS=TSK-klubbstugan Flottiljvägen 56 Tullinge 146 38 Sweden;X-APPLE-RADIUS=500;X-TITLE=Flottiljvägen 56:geo:17.901717405743,59.193432193406
END:VEVENT
BEGIN:VEVENT
DTSTART;TZID=Europe/Stockholm:20260113T180000
DTEND;TZID=Europe/Stockholm:20260113T190000
DTSTAMP:20260423T005230
CREATED:20260107T131809Z
LAST-MODIFIED:20260107T131809Z
UID:10002860-1768327200-1768330800@www.tullingesk.se
SUMMARY:1316-gruppen - vi kör hela-klubben-intervaller
DESCRIPTION:
URL:https://www.tullingesk.se/aktivitet/1316-gruppen-vi-kor-hela-klubben-intervaller/
LOCATION:TSK-klubbstugan\, Flottiljvägen 56\, Tullinge\, 146 38\, Sweden
GEO:59.193432193406;17.901717405743
X-APPLE-STRUCTURED-LOCATION;VALUE=URI;X-ADDRESS=TSK-klubbstugan Flottiljvägen 56 Tullinge 146 38 Sweden;X-APPLE-RADIUS=500;X-TITLE=Flottiljvägen 56:geo:17.901717405743,59.193432193406
END:VEVENT
BEGIN:VEVENT
DTSTART;TZID=Europe/Stockholm:20260113T180000
DTEND;TZID=Europe/Stockholm:20260113T200000
DTSTAMP:20260423T005230
CREATED:20260102T165955Z
LAST-MODIFIED:20260113T121726Z
UID:10001022-1768327200-1768334400@www.tullingesk.se
SUMMARY:HD17 Hela Klubben Träning
DESCRIPTION:8 x 3 mins\, 1 min vila. \nRikstens cykelbana.
URL:https://www.tullingesk.se/aktivitet/hd17-34-5/
LOCATION:TSK-klubbstugan\, Flottiljvägen 56\, Tullinge\, 146 38\, Sweden
GEO:59.193432193406;17.901717405743
X-APPLE-STRUCTURED-LOCATION;VALUE=URI;X-ADDRESS=TSK-klubbstugan Flottiljvägen 56 Tullinge 146 38 Sweden;X-APPLE-RADIUS=500;X-TITLE=Flottiljvägen 56:geo:17.901717405743,59.193432193406
END:VEVENT
BEGIN:VEVENT
DTSTART;TZID=Europe/Stockholm:20260113T193000
DTEND;TZID=Europe/Stockholm:20260113T210000
DTSTAMP:20260423T005230
CREATED:20260107T131926Z
LAST-MODIFIED:20260107T131926Z
UID:10002861-1768332600-1768338000@www.tullingesk.se
SUMMARY:Mötesrummet entrén bokat - 1316-tränarmöte
DESCRIPTION:/Johan
URL:https://www.tullingesk.se/aktivitet/motesrummet-entren-bokat-1316-tranarmote/
LOCATION:TSK-klubbstugan\, Flottiljvägen 56\, Tullinge\, 146 38\, Sweden
GEO:59.193432193406;17.901717405743
X-APPLE-STRUCTURED-LOCATION;VALUE=URI;X-ADDRESS=TSK-klubbstugan Flottiljvägen 56 Tullinge 146 38 Sweden;X-APPLE-RADIUS=500;X-TITLE=Flottiljvägen 56:geo:17.901717405743,59.193432193406
END:VEVENT
BEGIN:VEVENT
DTSTART;TZID=Europe/Stockholm:20260116T080000
DTEND;TZID=Europe/Stockholm:20260118T170000
DTSTAMP:20260423T005230
CREATED:20260107T132449Z
LAST-MODIFIED:20260107T132449Z
UID:10002863-1768550400-1768755600@www.tullingesk.se
SUMMARY:SkidO-läger Grönklitt (1316-gruppen mfl)
DESCRIPTION:Fredag fm: SkidO \nFredag em: SkidO \nLördag fm: SkidO tävling \nLördag em: Skidlek/teknik \nSöndag: Långpass skidor
URL:https://www.tullingesk.se/aktivitet/skido-lager-gronklitt-1316-gruppen-mfl/
LOCATION:TSK-klubbstugan\, Flottiljvägen 56\, Tullinge\, 146 38\, Sweden
GEO:59.193432193406;17.901717405743
X-APPLE-STRUCTURED-LOCATION;VALUE=URI;X-ADDRESS=TSK-klubbstugan Flottiljvägen 56 Tullinge 146 38 Sweden;X-APPLE-RADIUS=500;X-TITLE=Flottiljvägen 56:geo:17.901717405743,59.193432193406
END:VEVENT
BEGIN:VEVENT
DTSTART;TZID=Europe/Stockholm:20260117T100000
DTEND;TZID=Europe/Stockholm:20260117T120000
DTSTAMP:20260423T005230
CREATED:20260102T170241Z
LAST-MODIFIED:20260115T065840Z
UID:10002778-1768644000-1768651200@www.tullingesk.se
SUMMARY:Lördagsbacke
DESCRIPTION:Vi kör i backen på Gårdsvägen från Tullinge kyrka till Örnbergsvägen. \nSamling kl. 10.15 vid foten av backen efter egen uppvärmning https://maps.app.goo.gl/EGMpAcXpxZNgxYfb6\n7–10 x (löpvila) \nEventuellt förlängning av backen med Adler Salvius väg om den är plogad \nAnsvarig: Madara \n 
URL:https://www.tullingesk.se/aktivitet/ol-teknik-jarla-ansvarig/
LOCATION:TSK-klubbstugan\, Flottiljvägen 56\, Tullinge\, 146 38\, Sweden
GEO:59.193432193406;17.901717405743
X-APPLE-STRUCTURED-LOCATION;VALUE=URI;X-ADDRESS=TSK-klubbstugan Flottiljvägen 56 Tullinge 146 38 Sweden;X-APPLE-RADIUS=500;X-TITLE=Flottiljvägen 56:geo:17.901717405743,59.193432193406
END:VEVENT
BEGIN:VEVENT
DTSTART;TZID=Europe/Stockholm:20260118T090000
DTEND;TZID=Europe/Stockholm:20260118T140000
DTSTAMP:20260423T005230
CREATED:20250915T150324Z
LAST-MODIFIED:20250915T150324Z
UID:10002320-1768726800-1768744800@www.tullingesk.se
SUMMARY:Tipspromenad från TSK-stugan\, Brantbrinks IP
DESCRIPTION:Tipspromenad med barn och vuxenfrågor.\nMotionsbingo\nStart kl10-12\nFikaservering kl.10-13\nLotterier\nVälkomna!\nSupporterklubben
URL:https://www.tullingesk.se/aktivitet/tipspromenad-fran-tsk-stugan-brantbrinks-ip-23/
LOCATION:TSK-klubbstugan\, Flottiljvägen 56\, Tullinge\, 146 38\, Sweden
GEO:59.193432193406;17.901717405743
X-APPLE-STRUCTURED-LOCATION;VALUE=URI;X-ADDRESS=TSK-klubbstugan Flottiljvägen 56 Tullinge 146 38 Sweden;X-APPLE-RADIUS=500;X-TITLE=Flottiljvägen 56:geo:17.901717405743,59.193432193406
END:VEVENT
BEGIN:VEVENT
DTSTART;TZID=Europe/Stockholm:20260118T100000
DTEND;TZID=Europe/Stockholm:20260118T130000
DTSTAMP:20260423T005230
CREATED:20260102T161646Z
LAST-MODIFIED:20260110T164749Z
UID:10002768-1768730400-1768741200@www.tullingesk.se
SUMMARY:Långpass på ej trafikerade\, plogade vägar från Brantan
DESCRIPTION:Ansvarig: Anders Kärrström \nLinje: \nLånga 24 km\, 2 vätskor \nMellan 18 km\, 2 vätskor \nKorta 10 km\, 1 vätska \n 
URL:https://www.tullingesk.se/aktivitet/langpass-fran-brantan-4/
LOCATION:TSK-klubbstugan\, Flottiljvägen 56\, Tullinge\, 146 38\, Sweden
GEO:59.193432193406;17.901717405743
X-APPLE-STRUCTURED-LOCATION;VALUE=URI;X-ADDRESS=TSK-klubbstugan Flottiljvägen 56 Tullinge 146 38 Sweden;X-APPLE-RADIUS=500;X-TITLE=Flottiljvägen 56:geo:17.901717405743,59.193432193406
END:VEVENT
BEGIN:VEVENT
DTSTART;TZID=Europe/Stockholm:20260119T180000
DTEND;TZID=Europe/Stockholm:20260119T190000
DTSTAMP:20260423T005230
CREATED:20251209T120757Z
LAST-MODIFIED:20251209T120757Z
UID:10002744-1768845600-1768849200@www.tullingesk.se
SUMMARY:Träsktrollen - inomhusträning
DESCRIPTION:Barn födda 2017-2018 \nLekar och inomhusorientering.
URL:https://www.tullingesk.se/aktivitet/trasktrollen-inomhustraning-2/2026-01-19/
LOCATION:Parkhemsskolans gympahall
END:VEVENT
BEGIN:VEVENT
DTSTART;TZID=Europe/Stockholm:20260119T180000
DTEND;TZID=Europe/Stockholm:20260119T210000
DTSTAMP:20260423T005230
CREATED:20251214T122933Z
LAST-MODIFIED:20260123T171655Z
UID:10002756-1768845600-1768856400@www.tullingesk.se
SUMMARY:Klubbstugan uthyrd/TSS\, Lars Berggren
DESCRIPTION:Styrelsemöte\, Tullinge Seglarsällskap
URL:https://www.tullingesk.se/aktivitet/storstugan-styrelserummet-uthyrt-tss-lars-berggren/2026-01-19/
LOCATION:TSK-klubbstugan\, Flottiljvägen 56\, Tullinge\, 146 38\, Sweden
ORGANIZER;CN="Stugkommitt%C3%A9n":MAILTO:uthyrning@tullingesk.se
GEO:59.193432193406;17.901717405743
X-APPLE-STRUCTURED-LOCATION;VALUE=URI;X-ADDRESS=TSK-klubbstugan Flottiljvägen 56 Tullinge 146 38 Sweden;X-APPLE-RADIUS=500;X-TITLE=Flottiljvägen 56:geo:17.901717405743,59.193432193406
END:VEVENT
BEGIN:VEVENT
DTSTART;TZID=Europe/Stockholm:20260119T190000
DTEND;TZID=Europe/Stockholm:20260119T200000
DTSTAMP:20260423T005230
CREATED:20251003T073124Z
LAST-MODIFIED:20260330T145355Z
UID:10002616-1768849200-1768852800@www.tullingesk.se
SUMMARY:Styrkegympa -för alla!
DESCRIPTION:Tid: Måndagar kl 19-20\nPlats: Parkhemsskolans gympahall\nVem: TSK-medlemmar\nTa med: Inneskor & vattenflaska\nFörkunskaper: INGA! Alla kan vara med på sin nivå!\nVad: Styrka för hela kroppen. Enkla övningar\, oftast med egna kroppen som vikt men ibland även med gummiband (finns på plats). \n  \n  \n 
URL:https://www.tullingesk.se/aktivitet/tsk-gympa/2026-01-19/
LOCATION:Parkhemsskolans gympahall
END:VEVENT
BEGIN:VEVENT
DTSTART;TZID=Europe/Stockholm:20260120T180000
DTEND;TZID=Europe/Stockholm:20260120T190000
DTSTAMP:20260423T005230
CREATED:20260104T083123Z
LAST-MODIFIED:20260118T204312Z
UID:10002795-1768932000-1768935600@www.tullingesk.se
SUMMARY:Grupp 4 - tisdagsträning
DESCRIPTION:Grupp 4 – tisdagsträning \nGruppen för alla som inte väljer annan grupp 🙂 \nOrienteringsbana på väg. Medtag reflexväst och lämpliga skor för asfalt. \nAnsvarig denna vecka: \nv4: Robert Lidström och PO Melinder \n  \n  \nFör anvisningar och lista över ansvariga: https://www.tullingesk.se/bredd-motionar/
URL:https://www.tullingesk.se/aktivitet/grupp-4-tisdagstraning-3/
LOCATION:TSK-klubbstugan\, Flottiljvägen 56\, Tullinge\, 146 38\, Sweden
CATEGORIES:Tullinge SK
GEO:59.193432193406;17.901717405743
X-APPLE-STRUCTURED-LOCATION;VALUE=URI;X-ADDRESS=TSK-klubbstugan Flottiljvägen 56 Tullinge 146 38 Sweden;X-APPLE-RADIUS=500;X-TITLE=Flottiljvägen 56:geo:17.901717405743,59.193432193406
END:VEVENT
BEGIN:VEVENT
DTSTART;TZID=Europe/Stockholm:20260120T180000
DTEND;TZID=Europe/Stockholm:20260120T190000
DTSTAMP:20260423T005230
CREATED:20260119T191918Z
LAST-MODIFIED:20260119T212300Z
UID:10002869-1768932000-1768935600@www.tullingesk.se
SUMMARY:13-16 korta intervaller på väg
DESCRIPTION:Löparskor + reflexväst
URL:https://www.tullingesk.se/aktivitet/13-16-korta-intervaller-pa-vag/
LOCATION:TSK-klubbstugan\, Flottiljvägen 56\, Tullinge\, 146 38\, Sweden
GEO:59.193432193406;17.901717405743
X-APPLE-STRUCTURED-LOCATION;VALUE=URI;X-ADDRESS=TSK-klubbstugan Flottiljvägen 56 Tullinge 146 38 Sweden;X-APPLE-RADIUS=500;X-TITLE=Flottiljvägen 56:geo:17.901717405743,59.193432193406
END:VEVENT
BEGIN:VEVENT
DTSTART;TZID=Europe/Stockholm:20260120T180000
DTEND;TZID=Europe/Stockholm:20260120T200000
DTSTAMP:20260423T005230
CREATED:20260119T105924Z
LAST-MODIFIED:20260119T105925Z
UID:10001023-1768932000-1768939200@www.tullingesk.se
SUMMARY:HD17
DESCRIPTION:5 x 6 min\, vila 1 min. Vi springer på vägar. \nAnsvarig: Simon
URL:https://www.tullingesk.se/aktivitet/hd17-34-8/
LOCATION:TSK-klubbstugan\, Flottiljvägen 56\, Tullinge\, 146 38\, Sweden
GEO:59.193432193406;17.901717405743
X-APPLE-STRUCTURED-LOCATION;VALUE=URI;X-ADDRESS=TSK-klubbstugan Flottiljvägen 56 Tullinge 146 38 Sweden;X-APPLE-RADIUS=500;X-TITLE=Flottiljvägen 56:geo:17.901717405743,59.193432193406
END:VEVENT
BEGIN:VEVENT
DTSTART;TZID=Europe/Stockholm:20260120T190000
DTEND;TZID=Europe/Stockholm:20260120T210000
DTSTAMP:20260423T005230
CREATED:20251210T141958Z
LAST-MODIFIED:20251210T141958Z
UID:10002751-1768935600-1768942800@www.tullingesk.se
SUMMARY:Rummet vid hallen bokat/Styrelsen
DESCRIPTION:
URL:https://www.tullingesk.se/aktivitet/rummet-vid-hallen-bokat-styrelsen/
LOCATION:TSK-klubbstugan\, Flottiljvägen 56\, Tullinge\, 146 38\, Sweden
GEO:59.193432193406;17.901717405743
X-APPLE-STRUCTURED-LOCATION;VALUE=URI;X-ADDRESS=TSK-klubbstugan Flottiljvägen 56 Tullinge 146 38 Sweden;X-APPLE-RADIUS=500;X-TITLE=Flottiljvägen 56:geo:17.901717405743,59.193432193406
END:VEVENT
BEGIN:VEVENT
DTSTART;TZID=Europe/Stockholm:20260120T193000
DTEND;TZID=Europe/Stockholm:20260120T210000
DTSTAMP:20260423T005230
CREATED:20251209T213316Z
LAST-MODIFIED:20251215T065352Z
UID:10002749-1768937400-1768942800@www.tullingesk.se
SUMMARY:Styrelserummet bokat - ungkom
DESCRIPTION:
URL:https://www.tullingesk.se/aktivitet/styrelserummet-bokat-ungkom-2/
LOCATION:TSK-klubbstugan\, Flottiljvägen 56\, Tullinge\, 146 38\, Sweden
GEO:59.193432193406;17.901717405743
X-APPLE-STRUCTURED-LOCATION;VALUE=URI;X-ADDRESS=TSK-klubbstugan Flottiljvägen 56 Tullinge 146 38 Sweden;X-APPLE-RADIUS=500;X-TITLE=Flottiljvägen 56:geo:17.901717405743,59.193432193406
END:VEVENT
BEGIN:VEVENT
DTSTART;TZID=Europe/Stockholm:20260121T170000
DTEND;TZID=Europe/Stockholm:20260121T210000
DTSTAMP:20260423T005230
CREATED:20251221T211055Z
LAST-MODIFIED:20251221T211055Z
UID:10002762-1769014800-1769029200@www.tullingesk.se
SUMMARY:Klubbstugan bokad/Nattugglan
DESCRIPTION:Vi kommer att köra Nattugglan 3 från Brantbrink och då kommer vi behöva använda klubbstugan. Storstugan och båda omklädningsrummen. \nOnsdag 21/1 kl 17-21. \nAnders Kärrström \n 
URL:https://www.tullingesk.se/aktivitet/klubbstugan-bokad-nattugglan/
LOCATION:TSK-klubbstugan\, Flottiljvägen 56\, Tullinge\, 146 38\, Sweden
GEO:59.193432193406;17.901717405743
X-APPLE-STRUCTURED-LOCATION;VALUE=URI;X-ADDRESS=TSK-klubbstugan Flottiljvägen 56 Tullinge 146 38 Sweden;X-APPLE-RADIUS=500;X-TITLE=Flottiljvägen 56:geo:17.901717405743,59.193432193406
END:VEVENT
BEGIN:VEVENT
DTSTART;TZID=Europe/Stockholm:20260121T183000
DTEND;TZID=Europe/Stockholm:20260121T203000
DTSTAMP:20260423T005230
CREATED:20260102T170503Z
LAST-MODIFIED:20260119T195047Z
UID:10002779-1769020200-1769027400@www.tullingesk.se
SUMMARY:Nattugglan #2 Brantan - INSTÄLLT
DESCRIPTION:
URL:https://www.tullingesk.se/aktivitet/nattugglan-2-brantan/
LOCATION:TSK-klubbstugan\, Flottiljvägen 56\, Tullinge\, 146 38\, Sweden
GEO:59.193432193406;17.901717405743
X-APPLE-STRUCTURED-LOCATION;VALUE=URI;X-ADDRESS=TSK-klubbstugan Flottiljvägen 56 Tullinge 146 38 Sweden;X-APPLE-RADIUS=500;X-TITLE=Flottiljvägen 56:geo:17.901717405743,59.193432193406
END:VEVENT
BEGIN:VEVENT
DTSTART;TZID=Europe/Stockholm:20260122T180000
DTEND;TZID=Europe/Stockholm:20260122T190000
DTSTAMP:20260423T005230
CREATED:20260119T122647Z
LAST-MODIFIED:20260122T082100Z
UID:10002868-1769104800-1769108400@www.tullingesk.se
SUMMARY:1316-gruppen: distanspass väg (reflexväst)
DESCRIPTION:/Anna & Johan
URL:https://www.tullingesk.se/aktivitet/1316-gruppen-distanspass/
LOCATION:TSK-klubbstugan\, Flottiljvägen 56\, Tullinge\, 146 38\, Sweden
GEO:59.193432193406;17.901717405743
X-APPLE-STRUCTURED-LOCATION;VALUE=URI;X-ADDRESS=TSK-klubbstugan Flottiljvägen 56 Tullinge 146 38 Sweden;X-APPLE-RADIUS=500;X-TITLE=Flottiljvägen 56:geo:17.901717405743,59.193432193406
END:VEVENT
BEGIN:VEVENT
DTSTART;TZID=Europe/Stockholm:20260123T170000
DTEND;TZID=Europe/Stockholm:20260123T170000
DTSTAMP:20260423T005230
CREATED:20260122T082923Z
LAST-MODIFIED:20260302T083013Z
UID:10002877-1769187600-1769187600@www.tullingesk.se
SUMMARY:Skidträning 912 & 1316
DESCRIPTION:Ansvarig: Pelle
URL:https://www.tullingesk.se/aktivitet/skidtraning-912-1316-2/2026-01-23/
LOCATION:Lida Frilufsgård\, Lidavägen 1\, Tullinge\, 14633\, Sverige
CATEGORIES:Skidor
GEO:59.163433851931;17.88166904719
X-APPLE-STRUCTURED-LOCATION;VALUE=URI;X-ADDRESS=Lida Frilufsgård Lidavägen 1 Tullinge 14633 Sverige;X-APPLE-RADIUS=500;X-TITLE=Lidavägen 1:geo:17.88166904719,59.163433851931
END:VEVENT
END:VCALENDAR