BEGIN:VCALENDAR
VERSION:2.0
PRODID:-//Tullinge SK - ECPv6.15.20//NONSGML v1.0//EN
CALSCALE:GREGORIAN
METHOD:PUBLISH
X-WR-CALNAME:Tullinge SK
X-ORIGINAL-URL:https://www.tullingesk.se
X-WR-CALDESC:Händelser för Tullinge SK
REFRESH-INTERVAL;VALUE=DURATION:PT1H
X-Robots-Tag:noindex
X-PUBLISHED-TTL:PT1H
BEGIN:VTIMEZONE
TZID:Europe/Stockholm
BEGIN:DAYLIGHT
TZOFFSETFROM:+0100
TZOFFSETTO:+0200
TZNAME:CEST
DTSTART:20250330T010000
END:DAYLIGHT
BEGIN:STANDARD
TZOFFSETFROM:+0200
TZOFFSETTO:+0100
TZNAME:CET
DTSTART:20251026T010000
END:STANDARD
BEGIN:DAYLIGHT
TZOFFSETFROM:+0100
TZOFFSETTO:+0200
TZNAME:CEST
DTSTART:20260329T010000
END:DAYLIGHT
BEGIN:STANDARD
TZOFFSETFROM:+0200
TZOFFSETTO:+0100
TZNAME:CET
DTSTART:20261025T010000
END:STANDARD
BEGIN:DAYLIGHT
TZOFFSETFROM:+0100
TZOFFSETTO:+0200
TZNAME:CEST
DTSTART:20270328T010000
END:DAYLIGHT
BEGIN:STANDARD
TZOFFSETFROM:+0200
TZOFFSETTO:+0100
TZNAME:CET
DTSTART:20271031T010000
END:STANDARD
END:VTIMEZONE
BEGIN:VEVENT
DTSTART;TZID=Europe/Stockholm:20260428T180000
DTEND;TZID=Europe/Stockholm:20260428T190000
DTSTAMP:20260419T232608
CREATED:20260309T174321Z
LAST-MODIFIED:20260309T174321Z
UID:10003034-1777399200-1777402800@www.tullingesk.se
SUMMARY:Träsktrollen
DESCRIPTION:Barn födda 2019 & 2018. \nLenka\, Zdeněk & Micke
URL:https://www.tullingesk.se/aktivitet/trasktrollen-7/2026-04-28/
LOCATION:TSK-klubbstugan\, Flottiljvägen 56\, Tullinge\, 146 38\, Sweden
GEO:59.193432193406;17.901717405743
X-APPLE-STRUCTURED-LOCATION;VALUE=URI;X-ADDRESS=TSK-klubbstugan Flottiljvägen 56 Tullinge 146 38 Sweden;X-APPLE-RADIUS=500;X-TITLE=Flottiljvägen 56:geo:17.901717405743,59.193432193406
END:VEVENT
BEGIN:VEVENT
DTSTART;TZID=Europe/Stockholm:20260428T180000
DTEND;TZID=Europe/Stockholm:20260428T191500
DTSTAMP:20260419T232608
CREATED:20260403T091758Z
LAST-MODIFIED:20260403T091758Z
UID:10003164-1777399200-1777403700@www.tullingesk.se
SUMMARY:9-12 träning
DESCRIPTION:Tisdagsträning för 9-12 gruppen \nSamling vid stakethörnet
URL:https://www.tullingesk.se/aktivitet/9-12-traning-4/2026-04-28/
LOCATION:TSK-klubbstugan\, Flottiljvägen 56\, Tullinge\, 146 38\, Sweden
GEO:59.193432193406;17.901717405743
X-APPLE-STRUCTURED-LOCATION;VALUE=URI;X-ADDRESS=TSK-klubbstugan Flottiljvägen 56 Tullinge 146 38 Sweden;X-APPLE-RADIUS=500;X-TITLE=Flottiljvägen 56:geo:17.901717405743,59.193432193406
END:VEVENT
BEGIN:VEVENT
DTSTART;TZID=Europe/Stockholm:20260428T180000
DTEND;TZID=Europe/Stockholm:20260428T200000
DTSTAMP:20260419T232608
CREATED:20260413T183550Z
LAST-MODIFIED:20260413T183550Z
UID:10000919-1777399200-1777406400@www.tullingesk.se
SUMMARY:HD17
DESCRIPTION:Intervaller på spåret. \nAnsvarig Simon/Matthew
URL:https://www.tullingesk.se/aktivitet/hd17-34-17/2026-04-28/
LOCATION:TSK-klubbstugan\, Flottiljvägen 56\, Tullinge\, 146 38\, Sweden
GEO:59.193432193406;17.901717405743
X-APPLE-STRUCTURED-LOCATION;VALUE=URI;X-ADDRESS=TSK-klubbstugan Flottiljvägen 56 Tullinge 146 38 Sweden;X-APPLE-RADIUS=500;X-TITLE=Flottiljvägen 56:geo:17.901717405743,59.193432193406
END:VEVENT
BEGIN:VEVENT
DTSTART;TZID=Europe/Stockholm:20260428T180000
DTEND;TZID=Europe/Stockholm:20260428T210000
DTSTAMP:20260419T232608
CREATED:20260301T104400Z
LAST-MODIFIED:20260301T104400Z
UID:10003013-1777399200-1777410000@www.tullingesk.se
SUMMARY:Soppa och städa
DESCRIPTION:Soppa: T Sundberg/C+P Mattila/L+K Hanson/E Stiernstedt \nStäd Dam: Tina Junegard och Josefin Illergård \nStäd Herr: Kristoffer Illergård och Peter Lidströmer
URL:https://www.tullingesk.se/aktivitet/soppa-och-stada-102/
LOCATION:TSK-klubbstugan\, Flottiljvägen 56\, Tullinge\, 146 38\, Sweden
CATEGORIES:Städvecka / tisdagssoppa
GEO:59.193432193406;17.901717405743
X-APPLE-STRUCTURED-LOCATION;VALUE=URI;X-ADDRESS=TSK-klubbstugan Flottiljvägen 56 Tullinge 146 38 Sweden;X-APPLE-RADIUS=500;X-TITLE=Flottiljvägen 56:geo:17.901717405743,59.193432193406
END:VEVENT
END:VCALENDAR