BEGIN:VCALENDAR
VERSION:2.0
PRODID:-//Tullinge SK - ECPv6.15.20//NONSGML v1.0//EN
CALSCALE:GREGORIAN
METHOD:PUBLISH
X-ORIGINAL-URL:https://www.tullingesk.se
X-WR-CALDESC:Händelser för Tullinge SK
REFRESH-INTERVAL;VALUE=DURATION:PT1H
X-Robots-Tag:noindex
X-PUBLISHED-TTL:PT1H
BEGIN:VTIMEZONE
TZID:Europe/Stockholm
BEGIN:DAYLIGHT
TZOFFSETFROM:+0100
TZOFFSETTO:+0200
TZNAME:CEST
DTSTART:20250330T010000
END:DAYLIGHT
BEGIN:STANDARD
TZOFFSETFROM:+0200
TZOFFSETTO:+0100
TZNAME:CET
DTSTART:20251026T010000
END:STANDARD
BEGIN:DAYLIGHT
TZOFFSETFROM:+0100
TZOFFSETTO:+0200
TZNAME:CEST
DTSTART:20260329T010000
END:DAYLIGHT
BEGIN:STANDARD
TZOFFSETFROM:+0200
TZOFFSETTO:+0100
TZNAME:CET
DTSTART:20261025T010000
END:STANDARD
BEGIN:DAYLIGHT
TZOFFSETFROM:+0100
TZOFFSETTO:+0200
TZNAME:CEST
DTSTART:20270328T010000
END:DAYLIGHT
BEGIN:STANDARD
TZOFFSETFROM:+0200
TZOFFSETTO:+0100
TZNAME:CET
DTSTART:20271031T010000
END:STANDARD
END:VTIMEZONE
BEGIN:VEVENT
DTSTART;TZID=Europe/Stockholm:20260409T180000
DTEND;TZID=Europe/Stockholm:20260409T193000
DTSTAMP:20260422T084525
CREATED:20260330T062537Z
LAST-MODIFIED:20260407T112628Z
UID:10003140-1775757600-1775763000@www.tullingesk.se
SUMMARY:Teknikträning Masmo
DESCRIPTION:Teknikträning öppen för alla medlemmar \nAnmälan:\nSenast onsdag kl 19 via Eventor: Länk till Eventor \nSamling:\n18:00 Korsningen Snickarkrogsvägen/Solhagavägen i Masmo. https://maps.app.goo.gl/8m1FcHr2DHTAvKyB7\nParkering vid Lidl/färgaffären i Masmo (2 timmar med p-skiva) \nBanor/tema:\nKontrollplock \nBanlängder:\nSvart 8\,2 km avkortningsbar till 6\,0 km eller 4\,0 km. Möjlig att korta ytterligare.\nOrange 3\,2 km\nVi kör på den alldeles färska nyritade kartan över Gömmaren som även kommer att användas för 25-manna i höst men vi kör utanför det avlysta området.\nLivelox: https://www.livelox.com/Events/Show/183259/Sydsamarbetet-Masmo-vecka-14-och-15 \nInga vita och gula banor finns denna vecka så träningen vänder sig främst till de som vill köra orange och svart. \nFör de om inte kan aktuellt datum kommer kartor att finnas i filarkivet för egen utskrift. Träningen sitter uppe till 10 april \nAnsvariga:\n9-12 ledare: Inga 9-12 ledare denna vecka\n13-16 ledare: Rickard \nBanläggare: Rickard \nUtskrift: Rickard \nUtsättning: Mia + Rickard\nInplockning: IFK Enskede \nMedtag gärna plastficka A4.
URL:https://www.tullingesk.se/aktivitet/tekniktraning-masmo/
END:VEVENT
END:VCALENDAR