BEGIN:VCALENDAR
VERSION:2.0
PRODID:-//Tullinge SK - ECPv6.15.20//NONSGML v1.0//EN
CALSCALE:GREGORIAN
METHOD:PUBLISH
X-ORIGINAL-URL:https://www.tullingesk.se
X-WR-CALDESC:Händelser för Tullinge SK
REFRESH-INTERVAL;VALUE=DURATION:PT1H
X-Robots-Tag:noindex
X-PUBLISHED-TTL:PT1H
BEGIN:VTIMEZONE
TZID:Europe/Stockholm
BEGIN:DAYLIGHT
TZOFFSETFROM:+0100
TZOFFSETTO:+0200
TZNAME:CEST
DTSTART:20250330T010000
END:DAYLIGHT
BEGIN:STANDARD
TZOFFSETFROM:+0200
TZOFFSETTO:+0100
TZNAME:CET
DTSTART:20251026T010000
END:STANDARD
BEGIN:DAYLIGHT
TZOFFSETFROM:+0100
TZOFFSETTO:+0200
TZNAME:CEST
DTSTART:20260329T010000
END:DAYLIGHT
BEGIN:STANDARD
TZOFFSETFROM:+0200
TZOFFSETTO:+0100
TZNAME:CET
DTSTART:20261025T010000
END:STANDARD
BEGIN:DAYLIGHT
TZOFFSETFROM:+0100
TZOFFSETTO:+0200
TZNAME:CEST
DTSTART:20270328T010000
END:DAYLIGHT
BEGIN:STANDARD
TZOFFSETFROM:+0200
TZOFFSETTO:+0100
TZNAME:CET
DTSTART:20271031T010000
END:STANDARD
END:VTIMEZONE
BEGIN:VEVENT
DTSTART;TZID=Europe/Stockholm:20260309T080000
DTEND;TZID=Europe/Stockholm:20260309T170000
DTSTAMP:20260422T010456
CREATED:20251214T122933Z
LAST-MODIFIED:20260123T171655Z
UID:10002758-1773043200-1773075600@www.tullingesk.se
SUMMARY:Klubbstugan uthyrd/TSS\, Lars Berggren
DESCRIPTION:Styrelsemöte\, Tullinge Seglarsällskap
URL:https://www.tullingesk.se/aktivitet/storstugan-styrelserummet-uthyrt-tss-lars-berggren/2026-03-09/
LOCATION:TSK-klubbstugan\, Flottiljvägen 56\, Tullinge\, 146 38\, Sweden
ORGANIZER;CN="Stugkommitt%C3%A9n":MAILTO:uthyrning@tullingesk.se
GEO:59.193432193406;17.901717405743
X-APPLE-STRUCTURED-LOCATION;VALUE=URI;X-ADDRESS=TSK-klubbstugan Flottiljvägen 56 Tullinge 146 38 Sweden;X-APPLE-RADIUS=500;X-TITLE=Flottiljvägen 56:geo:17.901717405743,59.193432193406
END:VEVENT
BEGIN:VEVENT
DTSTART;TZID=Europe/Stockholm:20260309T190000
DTEND;TZID=Europe/Stockholm:20260309T200000
DTSTAMP:20260422T010456
CREATED:20251003T073124Z
LAST-MODIFIED:20260330T145355Z
UID:10002623-1773082800-1773086400@www.tullingesk.se
SUMMARY:Styrkegympa -för alla!
DESCRIPTION:Tid: Måndagar kl 19-20\nPlats: Parkhemsskolans gympahall\nVem: TSK-medlemmar\nTa med: Inneskor & vattenflaska\nFörkunskaper: INGA! Alla kan vara med på sin nivå!\nVad: Styrka för hela kroppen. Enkla övningar\, oftast med egna kroppen som vikt men ibland även med gummiband (finns på plats). \n  \n  \n 
URL:https://www.tullingesk.se/aktivitet/tsk-gympa/2026-03-09/
LOCATION:Parkhemsskolans gympahall
END:VEVENT
END:VCALENDAR