BEGIN:VCALENDAR
VERSION:2.0
PRODID:-//Tullinge SK - ECPv6.15.20//NONSGML v1.0//EN
CALSCALE:GREGORIAN
METHOD:PUBLISH
X-WR-CALNAME:Tullinge SK
X-ORIGINAL-URL:https://www.tullingesk.se
X-WR-CALDESC:Händelser för Tullinge SK
REFRESH-INTERVAL;VALUE=DURATION:PT1H
X-Robots-Tag:noindex
X-PUBLISHED-TTL:PT1H
BEGIN:VTIMEZONE
TZID:Europe/Stockholm
BEGIN:DAYLIGHT
TZOFFSETFROM:+0100
TZOFFSETTO:+0200
TZNAME:CEST
DTSTART:20250330T010000
END:DAYLIGHT
BEGIN:STANDARD
TZOFFSETFROM:+0200
TZOFFSETTO:+0100
TZNAME:CET
DTSTART:20251026T010000
END:STANDARD
BEGIN:DAYLIGHT
TZOFFSETFROM:+0100
TZOFFSETTO:+0200
TZNAME:CEST
DTSTART:20260329T010000
END:DAYLIGHT
BEGIN:STANDARD
TZOFFSETFROM:+0200
TZOFFSETTO:+0100
TZNAME:CET
DTSTART:20261025T010000
END:STANDARD
BEGIN:DAYLIGHT
TZOFFSETFROM:+0100
TZOFFSETTO:+0200
TZNAME:CEST
DTSTART:20270328T010000
END:DAYLIGHT
BEGIN:STANDARD
TZOFFSETFROM:+0200
TZOFFSETTO:+0100
TZNAME:CET
DTSTART:20271031T010000
END:STANDARD
END:VTIMEZONE
BEGIN:VEVENT
DTSTART;TZID=Europe/Stockholm:20260209T180000
DTEND;TZID=Europe/Stockholm:20260209T190000
DTSTAMP:20260421T190434
CREATED:20251209T120757Z
LAST-MODIFIED:20251209T120757Z
UID:10002747-1770660000-1770663600@www.tullingesk.se
SUMMARY:Träsktrollen - inomhusträning
DESCRIPTION:Barn födda 2017-2018 \nLekar och inomhusorientering.
URL:https://www.tullingesk.se/aktivitet/trasktrollen-inomhustraning-2/2026-02-09/
LOCATION:Parkhemsskolans gympahall
END:VEVENT
BEGIN:VEVENT
DTSTART;TZID=Europe/Stockholm:20260209T190000
DTEND;TZID=Europe/Stockholm:20260209T200000
DTSTAMP:20260421T190434
CREATED:20251003T073124Z
LAST-MODIFIED:20260330T145355Z
UID:10002619-1770663600-1770667200@www.tullingesk.se
SUMMARY:Styrkegympa -för alla!
DESCRIPTION:Tid: Måndagar kl 19-20\nPlats: Parkhemsskolans gympahall\nVem: TSK-medlemmar\nTa med: Inneskor & vattenflaska\nFörkunskaper: INGA! Alla kan vara med på sin nivå!\nVad: Styrka för hela kroppen. Enkla övningar\, oftast med egna kroppen som vikt men ibland även med gummiband (finns på plats). \n  \n  \n 
URL:https://www.tullingesk.se/aktivitet/tsk-gympa/2026-02-09/
LOCATION:Parkhemsskolans gympahall
END:VEVENT
END:VCALENDAR