BEGIN:VCALENDAR
VERSION:2.0
PRODID:-//Tullinge SK - ECPv6.15.20//NONSGML v1.0//EN
CALSCALE:GREGORIAN
METHOD:PUBLISH
X-WR-CALNAME:Tullinge SK
X-ORIGINAL-URL:https://www.tullingesk.se
X-WR-CALDESC:Händelser för Tullinge SK
REFRESH-INTERVAL;VALUE=DURATION:PT1H
X-Robots-Tag:noindex
X-PUBLISHED-TTL:PT1H
BEGIN:VTIMEZONE
TZID:Europe/Stockholm
BEGIN:DAYLIGHT
TZOFFSETFROM:+0100
TZOFFSETTO:+0200
TZNAME:CEST
DTSTART:20250330T010000
END:DAYLIGHT
BEGIN:STANDARD
TZOFFSETFROM:+0200
TZOFFSETTO:+0100
TZNAME:CET
DTSTART:20251026T010000
END:STANDARD
BEGIN:DAYLIGHT
TZOFFSETFROM:+0100
TZOFFSETTO:+0200
TZNAME:CEST
DTSTART:20260329T010000
END:DAYLIGHT
BEGIN:STANDARD
TZOFFSETFROM:+0200
TZOFFSETTO:+0100
TZNAME:CET
DTSTART:20261025T010000
END:STANDARD
BEGIN:DAYLIGHT
TZOFFSETFROM:+0100
TZOFFSETTO:+0200
TZNAME:CEST
DTSTART:20270328T010000
END:DAYLIGHT
BEGIN:STANDARD
TZOFFSETFROM:+0200
TZOFFSETTO:+0100
TZNAME:CET
DTSTART:20271031T010000
END:STANDARD
END:VTIMEZONE
BEGIN:VEVENT
DTSTART;TZID=Europe/Stockholm:20260124T100000
DTEND;TZID=Europe/Stockholm:20260124T180000
DTSTAMP:20260423T001140
CREATED:20260102T170612Z
LAST-MODIFIED:20260123T124540Z
UID:10002780-1769248800-1769277600@www.tullingesk.se
SUMMARY:Hemvändarhelg HD17
DESCRIPTION:Förmiddag:\nBackintervaller i skog. OL-skor rekommenderas. \nEftermiddag:\nMatthews vägrunda med inslag av fart. Löparskor rekommenderas. \nLunch och samling däremellan. \nInformation om nytt i policyn\, planering inför vårens stafetter och läger mm. \nAnmälan: \nhttps://eventor.orientering.se/Activities/Show/25255
URL:https://www.tullingesk.se/aktivitet/hemvandarhelg-hd17/
LOCATION:TSK-klubbstugan\, Flottiljvägen 56\, Tullinge\, 146 38\, Sweden
GEO:59.193432193406;17.901717405743
X-APPLE-STRUCTURED-LOCATION;VALUE=URI;X-ADDRESS=TSK-klubbstugan Flottiljvägen 56 Tullinge 146 38 Sweden;X-APPLE-RADIUS=500;X-TITLE=Flottiljvägen 56:geo:17.901717405743,59.193432193406
END:VEVENT
BEGIN:VEVENT
DTSTART;TZID=Europe/Stockholm:20260124T103000
DTEND;TZID=Europe/Stockholm:20260124T160000
DTSTAMP:20260423T001140
CREATED:20260119T122539Z
LAST-MODIFIED:20260119T122539Z
UID:10002867-1769250600-1769270400@www.tullingesk.se
SUMMARY:1316-gruppen: träningsdag Bosön
DESCRIPTION:Kläder för inomhus- och utomhusträning \nBadkläder \nOmbyte
URL:https://www.tullingesk.se/aktivitet/1316-gruppen-traningsdag-boson-2/
LOCATION:Bosön
CATEGORIES:Ungdomskommittén
END:VEVENT
BEGIN:VEVENT
DTSTART;TZID=Europe/Stockholm:20260124T110000
DTEND;TZID=Europe/Stockholm:20260124T170000
DTSTAMP:20260423T001140
CREATED:20260107T115301Z
LAST-MODIFIED:20260107T115301Z
UID:10002859-1769252400-1769274000@www.tullingesk.se
SUMMARY:Storstugan bokad/HD17 samling
DESCRIPTION:
URL:https://www.tullingesk.se/aktivitet/storstugan-bokad-hd17-samling/
LOCATION:TSK-klubbstugan\, Flottiljvägen 56\, Tullinge\, 146 38\, Sweden
ORGANIZER;CN="Stugkommitt%C3%A9n":MAILTO:uthyrning@tullingesk.se
GEO:59.193432193406;17.901717405743
X-APPLE-STRUCTURED-LOCATION;VALUE=URI;X-ADDRESS=TSK-klubbstugan Flottiljvägen 56 Tullinge 146 38 Sweden;X-APPLE-RADIUS=500;X-TITLE=Flottiljvägen 56:geo:17.901717405743,59.193432193406
END:VEVENT
END:VCALENDAR