BEGIN:VCALENDAR
VERSION:2.0
PRODID:-//Tullinge SK - ECPv6.15.20//NONSGML v1.0//EN
CALSCALE:GREGORIAN
METHOD:PUBLISH
X-ORIGINAL-URL:https://www.tullingesk.se
X-WR-CALDESC:Händelser för Tullinge SK
REFRESH-INTERVAL;VALUE=DURATION:PT1H
X-Robots-Tag:noindex
X-PUBLISHED-TTL:PT1H
BEGIN:VTIMEZONE
TZID:Europe/Stockholm
BEGIN:DAYLIGHT
TZOFFSETFROM:+0100
TZOFFSETTO:+0200
TZNAME:CEST
DTSTART:20240331T010000
END:DAYLIGHT
BEGIN:STANDARD
TZOFFSETFROM:+0200
TZOFFSETTO:+0100
TZNAME:CET
DTSTART:20241027T010000
END:STANDARD
BEGIN:DAYLIGHT
TZOFFSETFROM:+0100
TZOFFSETTO:+0200
TZNAME:CEST
DTSTART:20250330T010000
END:DAYLIGHT
BEGIN:STANDARD
TZOFFSETFROM:+0200
TZOFFSETTO:+0100
TZNAME:CET
DTSTART:20251026T010000
END:STANDARD
BEGIN:DAYLIGHT
TZOFFSETFROM:+0100
TZOFFSETTO:+0200
TZNAME:CEST
DTSTART:20260329T010000
END:DAYLIGHT
BEGIN:STANDARD
TZOFFSETFROM:+0200
TZOFFSETTO:+0100
TZNAME:CET
DTSTART:20261025T010000
END:STANDARD
END:VTIMEZONE
BEGIN:VEVENT
DTSTART;TZID=Europe/Stockholm:20251128T180000
DTEND;TZID=Europe/Stockholm:20251130T080000
DTSTAMP:20260422T213023
CREATED:20250610T190317Z
LAST-MODIFIED:20251019T083200Z
UID:10001911-1764352800-1764489600@www.tullingesk.se
SUMMARY:Stugan bokad/Årsfest TSK\, trivselkomm.
DESCRIPTION:
URL:https://www.tullingesk.se/aktivitet/stugan-bokad-arsfest-tsk-trivselkomm/
LOCATION:TSK-klubbstugan\, Flottiljvägen 56\, Tullinge\, 146 38\, Sweden
CATEGORIES:Uthyrning klubbstugan
GEO:59.193432193406;17.901717405743
X-APPLE-STRUCTURED-LOCATION;VALUE=URI;X-ADDRESS=TSK-klubbstugan Flottiljvägen 56 Tullinge 146 38 Sweden;X-APPLE-RADIUS=500;X-TITLE=Flottiljvägen 56:geo:17.901717405743,59.193432193406
END:VEVENT
BEGIN:VEVENT
DTSTART;TZID=Europe/Stockholm:20251128T180000
DTEND;TZID=Europe/Stockholm:20251130T080000
DTSTAMP:20260422T213023
CREATED:20251019T082656Z
LAST-MODIFIED:20251019T082656Z
UID:10002689-1764352800-1764489600@www.tullingesk.se
SUMMARY:Stugan bokad
DESCRIPTION:
URL:https://www.tullingesk.se/aktivitet/stugan-bokad-12/
LOCATION:TSK-klubbstugan\, Flottiljvägen 56\, Tullinge\, 146 38\, Sweden
GEO:59.193432193406;17.901717405743
X-APPLE-STRUCTURED-LOCATION;VALUE=URI;X-ADDRESS=TSK-klubbstugan Flottiljvägen 56 Tullinge 146 38 Sweden;X-APPLE-RADIUS=500;X-TITLE=Flottiljvägen 56:geo:17.901717405743,59.193432193406
END:VEVENT
BEGIN:VEVENT
DTSTART;TZID=Europe/Stockholm:20251130T090000
DTEND;TZID=Europe/Stockholm:20251130T140000
DTSTAMP:20260422T213023
CREATED:20250915T150201Z
LAST-MODIFIED:20250915T150201Z
UID:10002317-1764493200-1764511200@www.tullingesk.se
SUMMARY:Tipspromenad från TSK-stugan\, Brantbrinks IP
DESCRIPTION:Tipspromenad med barn och vuxenfrågor.\nMotionsbingo\nStart kl10-12\nFikaservering kl.10-13\nLotterier\nVälkomna!\nSupporterklubben
URL:https://www.tullingesk.se/aktivitet/tipspromenad-fran-tsk-stugan-brantbrinks-ip-20/
LOCATION:TSK-klubbstugan\, Flottiljvägen 56\, Tullinge\, 146 38\, Sweden
GEO:59.193432193406;17.901717405743
X-APPLE-STRUCTURED-LOCATION;VALUE=URI;X-ADDRESS=TSK-klubbstugan Flottiljvägen 56 Tullinge 146 38 Sweden;X-APPLE-RADIUS=500;X-TITLE=Flottiljvägen 56:geo:17.901717405743,59.193432193406
END:VEVENT
BEGIN:VEVENT
DTSTART;TZID=Europe/Stockholm:20251130T100000
DTEND;TZID=Europe/Stockholm:20251130T130000
DTSTAMP:20260422T213023
CREATED:20251110T190339Z
LAST-MODIFIED:20251123T145819Z
UID:10002710-1764496800-1764507600@www.tullingesk.se
SUMMARY:Långpass från Brantan
DESCRIPTION:Ansvarig: Robert och Frida Lidström
URL:https://www.tullingesk.se/aktivitet/langpass-fran-brantan-3/
LOCATION:TSK-klubbstugan\, Flottiljvägen 56\, Tullinge\, 146 38\, Sweden
GEO:59.193432193406;17.901717405743
X-APPLE-STRUCTURED-LOCATION;VALUE=URI;X-ADDRESS=TSK-klubbstugan Flottiljvägen 56 Tullinge 146 38 Sweden;X-APPLE-RADIUS=500;X-TITLE=Flottiljvägen 56:geo:17.901717405743,59.193432193406
END:VEVENT
BEGIN:VEVENT
DTSTART;TZID=Europe/Stockholm:20251130T140000
DTEND;TZID=Europe/Stockholm:20251130T190000
DTSTAMP:20260422T213023
CREATED:20250824T121537Z
LAST-MODIFIED:20250824T121537Z
UID:10002034-1764511200-1764529200@www.tullingesk.se
SUMMARY:Stugan bokad f stora prisbordet
DESCRIPTION:
URL:https://www.tullingesk.se/aktivitet/stugan-bokad-f-stora-prisbordet/
LOCATION:TSK-klubbstugan\, Flottiljvägen 56\, Tullinge\, 146 38\, Sweden
CATEGORIES:Uthyrning klubbstugan
GEO:59.193432193406;17.901717405743
X-APPLE-STRUCTURED-LOCATION;VALUE=URI;X-ADDRESS=TSK-klubbstugan Flottiljvägen 56 Tullinge 146 38 Sweden;X-APPLE-RADIUS=500;X-TITLE=Flottiljvägen 56:geo:17.901717405743,59.193432193406
END:VEVENT
BEGIN:VEVENT
DTSTART;TZID=Europe/Stockholm:20251130T153000
DTEND;TZID=Europe/Stockholm:20251130T170000
DTSTAMP:20260422T213023
CREATED:20251120T161336Z
LAST-MODIFIED:20251120T161336Z
UID:10002727-1764516600-1764522000@www.tullingesk.se
SUMMARY:Stora prisbordet
DESCRIPTION:
URL:https://www.tullingesk.se/aktivitet/stora-prisbordet/
LOCATION:TSK-klubbstugan\, Flottiljvägen 56\, Tullinge\, 146 38\, Sweden
GEO:59.193432193406;17.901717405743
X-APPLE-STRUCTURED-LOCATION;VALUE=URI;X-ADDRESS=TSK-klubbstugan Flottiljvägen 56 Tullinge 146 38 Sweden;X-APPLE-RADIUS=500;X-TITLE=Flottiljvägen 56:geo:17.901717405743,59.193432193406
END:VEVENT
END:VCALENDAR