BEGIN:VCALENDAR
VERSION:2.0
PRODID:-//Tullinge SK - ECPv6.15.20//NONSGML v1.0//EN
CALSCALE:GREGORIAN
METHOD:PUBLISH
X-WR-CALNAME:Tullinge SK
X-ORIGINAL-URL:https://www.tullingesk.se
X-WR-CALDESC:Händelser för Tullinge SK
REFRESH-INTERVAL;VALUE=DURATION:PT1H
X-Robots-Tag:noindex
X-PUBLISHED-TTL:PT1H
BEGIN:VTIMEZONE
TZID:Europe/Stockholm
BEGIN:DAYLIGHT
TZOFFSETFROM:+0100
TZOFFSETTO:+0200
TZNAME:CEST
DTSTART:20240331T010000
END:DAYLIGHT
BEGIN:STANDARD
TZOFFSETFROM:+0200
TZOFFSETTO:+0100
TZNAME:CET
DTSTART:20241027T010000
END:STANDARD
BEGIN:DAYLIGHT
TZOFFSETFROM:+0100
TZOFFSETTO:+0200
TZNAME:CEST
DTSTART:20250330T010000
END:DAYLIGHT
BEGIN:STANDARD
TZOFFSETFROM:+0200
TZOFFSETTO:+0100
TZNAME:CET
DTSTART:20251026T010000
END:STANDARD
BEGIN:DAYLIGHT
TZOFFSETFROM:+0100
TZOFFSETTO:+0200
TZNAME:CEST
DTSTART:20260329T010000
END:DAYLIGHT
BEGIN:STANDARD
TZOFFSETFROM:+0200
TZOFFSETTO:+0100
TZNAME:CET
DTSTART:20261025T010000
END:STANDARD
END:VTIMEZONE
BEGIN:VEVENT
DTSTART;TZID=Europe/Stockholm:20251128T180000
DTEND;TZID=Europe/Stockholm:20251130T080000
DTSTAMP:20260422T223240
CREATED:20250610T190317Z
LAST-MODIFIED:20251019T083200Z
UID:10001911-1764352800-1764489600@www.tullingesk.se
SUMMARY:Stugan bokad/Årsfest TSK\, trivselkomm.
DESCRIPTION:
URL:https://www.tullingesk.se/aktivitet/stugan-bokad-arsfest-tsk-trivselkomm/
LOCATION:TSK-klubbstugan\, Flottiljvägen 56\, Tullinge\, 146 38\, Sweden
CATEGORIES:Uthyrning klubbstugan
GEO:59.193432193406;17.901717405743
X-APPLE-STRUCTURED-LOCATION;VALUE=URI;X-ADDRESS=TSK-klubbstugan Flottiljvägen 56 Tullinge 146 38 Sweden;X-APPLE-RADIUS=500;X-TITLE=Flottiljvägen 56:geo:17.901717405743,59.193432193406
END:VEVENT
BEGIN:VEVENT
DTSTART;TZID=Europe/Stockholm:20251128T180000
DTEND;TZID=Europe/Stockholm:20251130T080000
DTSTAMP:20260422T223240
CREATED:20251019T082656Z
LAST-MODIFIED:20251019T082656Z
UID:10002689-1764352800-1764489600@www.tullingesk.se
SUMMARY:Stugan bokad
DESCRIPTION:
URL:https://www.tullingesk.se/aktivitet/stugan-bokad-12/
LOCATION:TSK-klubbstugan\, Flottiljvägen 56\, Tullinge\, 146 38\, Sweden
GEO:59.193432193406;17.901717405743
X-APPLE-STRUCTURED-LOCATION;VALUE=URI;X-ADDRESS=TSK-klubbstugan Flottiljvägen 56 Tullinge 146 38 Sweden;X-APPLE-RADIUS=500;X-TITLE=Flottiljvägen 56:geo:17.901717405743,59.193432193406
END:VEVENT
BEGIN:VEVENT
DTSTART;TZID=Europe/Stockholm:20251129T001000
DTEND;TZID=Europe/Stockholm:20251129T140000
DTSTAMP:20260422T223240
CREATED:20251110T190239Z
LAST-MODIFIED:20251123T172535Z
UID:10002709-1764375000-1764424800@www.tullingesk.se
SUMMARY:HD 17 Samling - Planering och mål 2026
DESCRIPTION:Eklidsskolan \nAnmäl: Eventor – Aktivitet: HD17 Kick off Planering och mål 2026 \n  \nTräning kl. 10 – Nedförsbacke OL Intervaller – Flottsbro \n4-6 banor cirka 1.3km varje. OL ner 800m\, spring upp 500m. \nSamling 9:55 Eklid\, spring till Flottsbro 2.5km\, start kl. 10:30. \nAlternativ samling Stendalsbadet parkeringsplats kl. 10:15 – https://maps.app.goo.gl/Vv21bjYj5VRUL8TY7
URL:https://www.tullingesk.se/aktivitet/hd-17-samling-planering-och-mal-2026/
LOCATION:TSK-klubbstugan\, Flottiljvägen 56\, Tullinge\, 146 38\, Sweden
GEO:59.193432193406;17.901717405743
X-APPLE-STRUCTURED-LOCATION;VALUE=URI;X-ADDRESS=TSK-klubbstugan Flottiljvägen 56 Tullinge 146 38 Sweden;X-APPLE-RADIUS=500;X-TITLE=Flottiljvägen 56:geo:17.901717405743,59.193432193406
END:VEVENT
BEGIN:VEVENT
DTSTART;TZID=Europe/Stockholm:20251129T100000
DTEND;TZID=Europe/Stockholm:20251129T110000
DTSTAMP:20260422T223240
CREATED:20251128T150040Z
LAST-MODIFIED:20251128T150040Z
UID:10002731-1764410400-1764414000@www.tullingesk.se
SUMMARY:1316-träning: intervaller på spåret
DESCRIPTION:Löparskor
URL:https://www.tullingesk.se/aktivitet/1316-traning-intervaller-pa-sparet/
LOCATION:TSK-klubbstugan\, Flottiljvägen 56\, Tullinge\, 146 38\, Sweden
GEO:59.193432193406;17.901717405743
X-APPLE-STRUCTURED-LOCATION;VALUE=URI;X-ADDRESS=TSK-klubbstugan Flottiljvägen 56 Tullinge 146 38 Sweden;X-APPLE-RADIUS=500;X-TITLE=Flottiljvägen 56:geo:17.901717405743,59.193432193406
END:VEVENT
END:VCALENDAR