BEGIN:VCALENDAR
VERSION:2.0
PRODID:-//Tullinge SK - ECPv6.15.20//NONSGML v1.0//EN
CALSCALE:GREGORIAN
METHOD:PUBLISH
X-ORIGINAL-URL:https://www.tullingesk.se
X-WR-CALDESC:Händelser för Tullinge SK
REFRESH-INTERVAL;VALUE=DURATION:PT1H
X-Robots-Tag:noindex
X-PUBLISHED-TTL:PT1H
BEGIN:VTIMEZONE
TZID:Europe/Stockholm
BEGIN:DAYLIGHT
TZOFFSETFROM:+0100
TZOFFSETTO:+0200
TZNAME:CEST
DTSTART:20240331T010000
END:DAYLIGHT
BEGIN:STANDARD
TZOFFSETFROM:+0200
TZOFFSETTO:+0100
TZNAME:CET
DTSTART:20241027T010000
END:STANDARD
BEGIN:DAYLIGHT
TZOFFSETFROM:+0100
TZOFFSETTO:+0200
TZNAME:CEST
DTSTART:20250330T010000
END:DAYLIGHT
BEGIN:STANDARD
TZOFFSETFROM:+0200
TZOFFSETTO:+0100
TZNAME:CET
DTSTART:20251026T010000
END:STANDARD
BEGIN:DAYLIGHT
TZOFFSETFROM:+0100
TZOFFSETTO:+0200
TZNAME:CEST
DTSTART:20260329T010000
END:DAYLIGHT
BEGIN:STANDARD
TZOFFSETFROM:+0200
TZOFFSETTO:+0100
TZNAME:CET
DTSTART:20261025T010000
END:STANDARD
END:VTIMEZONE
BEGIN:VEVENT
DTSTART;TZID=Europe/Stockholm:20250424T180000
DTEND;TZID=Europe/Stockholm:20250424T193000
DTSTAMP:20260419T190335
CREATED:20250417T062847Z
LAST-MODIFIED:20250424T061253Z
UID:10001814-1745517600-1745523000@www.tullingesk.se
SUMMARY:Teknikträning Salemsvallen
DESCRIPTION:Teknikträning öppen för alla medlemmar \nAnmälan senast onsdag kl 12 via Eventor: https://eventor.orientering.se/Activities/Show/23552 \nSamling:\nLilla parkeringen vid skogen norr om Salemsvallen (vanliga stället) https://maps.app.goo.gl/2W6WBnLWagi6VAR47\nBegränsat antal parkeringar vid samlingen annars finns parkeringar vid Salemsvallen och Nytorpsskolan (Tvillingvägen) samt möjlighet att stå längs gatorna i området (kolla skyltning och stå på samma sida som övriga bilar). \nBanor/tema:\nSvart och orange: Banor av långdistanskaraktär med fokus på vägval.\nVit och gul: Vanlig bana \nBanlängder:\nSvart 3\,6 5\,5 7\,4 och 9.9 km\nOrange 3\,2 km\nGul 2\,5 km\nVit 2\,1 km \nAnsvariga ledare:\n9-12 Ledare: Johanna\, Närvaro: Gry\n13-16 Ledare: Kaj \nBanläggare:\nSydsam: Svart\, orange och gul\nViola: Vit \nUtskrift: Rickard \nInplockning vit: Kaj \nMedtag gärna plastficka A4 (A3 för 7\,4/7500 och 9\,9/10000) \nLivelox: https://www.livelox.com/Events/Show/154110/Sydvastsamarbetet-V17 \n 
URL:https://www.tullingesk.se/aktivitet/tekniktraning-salemsvallen/
END:VEVENT
END:VCALENDAR