BEGIN:VCALENDAR
VERSION:2.0
PRODID:-//Tullinge SK - ECPv6.15.20//NONSGML v1.0//EN
CALSCALE:GREGORIAN
METHOD:PUBLISH
X-ORIGINAL-URL:https://www.tullingesk.se
X-WR-CALDESC:Händelser för Tullinge SK
REFRESH-INTERVAL;VALUE=DURATION:PT1H
X-Robots-Tag:noindex
X-PUBLISHED-TTL:PT1H
BEGIN:VTIMEZONE
TZID:Europe/Stockholm
BEGIN:DAYLIGHT
TZOFFSETFROM:+0100
TZOFFSETTO:+0200
TZNAME:CEST
DTSTART:20240331T010000
END:DAYLIGHT
BEGIN:STANDARD
TZOFFSETFROM:+0200
TZOFFSETTO:+0100
TZNAME:CET
DTSTART:20241027T010000
END:STANDARD
BEGIN:DAYLIGHT
TZOFFSETFROM:+0100
TZOFFSETTO:+0200
TZNAME:CEST
DTSTART:20250330T010000
END:DAYLIGHT
BEGIN:STANDARD
TZOFFSETFROM:+0200
TZOFFSETTO:+0100
TZNAME:CET
DTSTART:20251026T010000
END:STANDARD
BEGIN:DAYLIGHT
TZOFFSETFROM:+0100
TZOFFSETTO:+0200
TZNAME:CEST
DTSTART:20260329T010000
END:DAYLIGHT
BEGIN:STANDARD
TZOFFSETFROM:+0200
TZOFFSETTO:+0100
TZNAME:CET
DTSTART:20261025T010000
END:STANDARD
END:VTIMEZONE
BEGIN:VEVENT
DTSTART;TZID=Europe/Stockholm:20250304T180000
DTEND;TZID=Europe/Stockholm:20250304T190000
DTSTAMP:20260422T184901
CREATED:20250228T125105Z
LAST-MODIFIED:20250302T101930Z
UID:10001575-1741111200-1741114800@www.tullingesk.se
SUMMARY:Grupp 4 tisdagar
DESCRIPTION:Grupp 4 – gruppen för alla! \nFör instruktioner och lista över alla ansvariga:  https://www.tullingesk.se/bredd-motionar/ \nV10 Rickard Andersson & Peter Mattila \nOrienteringsbana med kontrollpunkter markerade med antigen snitsel eller vit reflex. Hela banan 5\,6 km + uppvärmning till startpunkt. Banan avkortningsbar.
URL:https://www.tullingesk.se/aktivitet/grupp-4-tisdagar-10/
LOCATION:TSK-klubbstugan\, Flottiljvägen 56\, Tullinge\, 146 38\, Sweden
GEO:59.193432193406;17.901717405743
X-APPLE-STRUCTURED-LOCATION;VALUE=URI;X-ADDRESS=TSK-klubbstugan Flottiljvägen 56 Tullinge 146 38 Sweden;X-APPLE-RADIUS=500;X-TITLE=Flottiljvägen 56:geo:17.901717405743,59.193432193406
END:VEVENT
BEGIN:VEVENT
DTSTART;TZID=Europe/Stockholm:20250304T180000
DTEND;TZID=Europe/Stockholm:20250304T191500
DTSTAMP:20260422T184901
CREATED:20250303T164121Z
LAST-MODIFIED:20250303T164121Z
UID:10001720-1741111200-1741115700@www.tullingesk.se
SUMMARY:1316-gruppen: backe och stjärn-ol (lampa\, ol-skor & kompass)
DESCRIPTION:
URL:https://www.tullingesk.se/aktivitet/1316-gruppen-backe-och-stjarn-ol-lampa-ol-skor-kompass/
LOCATION:TSK-klubbstugan\, Flottiljvägen 56\, Tullinge\, 146 38\, Sweden
GEO:59.193432193406;17.901717405743
X-APPLE-STRUCTURED-LOCATION;VALUE=URI;X-ADDRESS=TSK-klubbstugan Flottiljvägen 56 Tullinge 146 38 Sweden;X-APPLE-RADIUS=500;X-TITLE=Flottiljvägen 56:geo:17.901717405743,59.193432193406
END:VEVENT
BEGIN:VEVENT
DTSTART;TZID=Europe/Stockholm:20250304T180000
DTEND;TZID=Europe/Stockholm:20250304T200000
DTSTAMP:20260422T184901
CREATED:20250223T185246Z
LAST-MODIFIED:20250302T200150Z
UID:10000909-1741111200-1741118400@www.tullingesk.se
SUMMARY:HD17: 2x 6 min + 4x 3 min\, + 4x 90\, vila 60
DESCRIPTION:Intervaller på spåret\, 2x 6 min + 4x 3 min\, + 4x 90\, vila 60
URL:https://www.tullingesk.se/aktivitet/hd17-72/
LOCATION:TSK-klubbstugan\, Flottiljvägen 56\, Tullinge\, 146 38\, Sweden
GEO:59.193432193406;17.901717405743
X-APPLE-STRUCTURED-LOCATION;VALUE=URI;X-ADDRESS=TSK-klubbstugan Flottiljvägen 56 Tullinge 146 38 Sweden;X-APPLE-RADIUS=500;X-TITLE=Flottiljvägen 56:geo:17.901717405743,59.193432193406
END:VEVENT
BEGIN:VEVENT
DTSTART;TZID=Europe/Stockholm:20250304T180000
DTEND;TZID=Europe/Stockholm:20250304T210000
DTSTAMP:20260422T184901
CREATED:20250218T184034Z
LAST-MODIFIED:20250218T184034Z
UID:10001698-1741111200-1741122000@www.tullingesk.se
SUMMARY:Soppa och städa
DESCRIPTION:Soppa: A+E Myrberger/M Andersson/S Jansson/S Pousette/M Wallqvist Pousette \nStäd Dam: Frida Forsberg och Karin Forsberg \nStäd Herr: Andreas Aasa och Johan Ställberg
URL:https://www.tullingesk.se/aktivitet/soppa-och-stada-61/
LOCATION:TSK-klubbstugan\, Flottiljvägen 56\, Tullinge\, 146 38\, Sweden
GEO:59.193432193406;17.901717405743
X-APPLE-STRUCTURED-LOCATION;VALUE=URI;X-ADDRESS=TSK-klubbstugan Flottiljvägen 56 Tullinge 146 38 Sweden;X-APPLE-RADIUS=500;X-TITLE=Flottiljvägen 56:geo:17.901717405743,59.193432193406
END:VEVENT
END:VCALENDAR