BEGIN:VCALENDAR
VERSION:2.0
PRODID:-//Tullinge SK - ECPv6.15.20//NONSGML v1.0//EN
CALSCALE:GREGORIAN
METHOD:PUBLISH
X-ORIGINAL-URL:https://www.tullingesk.se
X-WR-CALDESC:Händelser för Tullinge SK
REFRESH-INTERVAL;VALUE=DURATION:PT1H
X-Robots-Tag:noindex
X-PUBLISHED-TTL:PT1H
BEGIN:VTIMEZONE
TZID:Europe/Stockholm
BEGIN:DAYLIGHT
TZOFFSETFROM:+0100
TZOFFSETTO:+0200
TZNAME:CEST
DTSTART:20240331T010000
END:DAYLIGHT
BEGIN:STANDARD
TZOFFSETFROM:+0200
TZOFFSETTO:+0100
TZNAME:CET
DTSTART:20241027T010000
END:STANDARD
BEGIN:DAYLIGHT
TZOFFSETFROM:+0100
TZOFFSETTO:+0200
TZNAME:CEST
DTSTART:20250330T010000
END:DAYLIGHT
BEGIN:STANDARD
TZOFFSETFROM:+0200
TZOFFSETTO:+0100
TZNAME:CET
DTSTART:20251026T010000
END:STANDARD
BEGIN:DAYLIGHT
TZOFFSETFROM:+0100
TZOFFSETTO:+0200
TZNAME:CEST
DTSTART:20260329T010000
END:DAYLIGHT
BEGIN:STANDARD
TZOFFSETFROM:+0200
TZOFFSETTO:+0100
TZNAME:CET
DTSTART:20261025T010000
END:STANDARD
END:VTIMEZONE
BEGIN:VEVENT
DTSTART;TZID=Europe/Stockholm:20250211T180000
DTEND;TZID=Europe/Stockholm:20250211T180000
DTSTAMP:20260422T124357
CREATED:20250101T141309Z
LAST-MODIFIED:20250101T141309Z
UID:10001622-1739296800-1739296800@www.tullingesk.se
SUMMARY:Soppa och städa
DESCRIPTION:Soppa: P Emanuelsson/I+R Hersén/T Svensson/D Helander \nStäd Dam: Carina Stensson och Gunilla Eriksson \nStäd Herr: Rikard Imark och Markus Wistrand
URL:https://www.tullingesk.se/aktivitet/soppa-och-stada-58/
LOCATION:TSK-klubbstugan\, Flottiljvägen 56\, Tullinge\, 146 38\, Sweden
CATEGORIES:Städvecka / tisdagssoppa
GEO:59.193432193406;17.901717405743
X-APPLE-STRUCTURED-LOCATION;VALUE=URI;X-ADDRESS=TSK-klubbstugan Flottiljvägen 56 Tullinge 146 38 Sweden;X-APPLE-RADIUS=500;X-TITLE=Flottiljvägen 56:geo:17.901717405743,59.193432193406
END:VEVENT
BEGIN:VEVENT
DTSTART;TZID=Europe/Stockholm:20250211T180000
DTEND;TZID=Europe/Stockholm:20250211T190000
DTSTAMP:20260422T124357
CREATED:20250204T132317Z
LAST-MODIFIED:20250204T132317Z
UID:10001572-1739296800-1739300400@www.tullingesk.se
SUMMARY:Grupp 4 tisdagar
DESCRIPTION:Grupp 4 – gruppen för alla! \nFör instruktioner och lista över alla ansvariga:  https://www.tullingesk.se/bredd-motionar/ \nV7 Erik Berggren & Kenneth Jönsson
URL:https://www.tullingesk.se/aktivitet/grupp-4-tisdagar-7/
LOCATION:TSK-klubbstugan\, Flottiljvägen 56\, Tullinge\, 146 38\, Sweden
GEO:59.193432193406;17.901717405743
X-APPLE-STRUCTURED-LOCATION;VALUE=URI;X-ADDRESS=TSK-klubbstugan Flottiljvägen 56 Tullinge 146 38 Sweden;X-APPLE-RADIUS=500;X-TITLE=Flottiljvägen 56:geo:17.901717405743,59.193432193406
END:VEVENT
BEGIN:VEVENT
DTSTART;TZID=Europe/Stockholm:20250211T180000
DTEND;TZID=Europe/Stockholm:20250211T190000
DTSTAMP:20260422T124357
CREATED:20250209T154925Z
LAST-MODIFIED:20250210T192458Z
UID:10001694-1739296800-1739300400@www.tullingesk.se
SUMMARY:1316-gruppen Långa intervaller (reflexväst + löparskor)
DESCRIPTION: 
URL:https://www.tullingesk.se/aktivitet/1316-gruppen-langa-intervaller/
LOCATION:TSK-klubbstugan\, Flottiljvägen 56\, Tullinge\, 146 38\, Sweden
GEO:59.193432193406;17.901717405743
X-APPLE-STRUCTURED-LOCATION;VALUE=URI;X-ADDRESS=TSK-klubbstugan Flottiljvägen 56 Tullinge 146 38 Sweden;X-APPLE-RADIUS=500;X-TITLE=Flottiljvägen 56:geo:17.901717405743,59.193432193406
END:VEVENT
BEGIN:VEVENT
DTSTART;TZID=Europe/Stockholm:20250211T180000
DTEND;TZID=Europe/Stockholm:20250211T200000
DTSTAMP:20260422T124357
CREATED:20241227T144648Z
LAST-MODIFIED:20250209T181030Z
UID:10000982-1739296800-1739304000@www.tullingesk.se
SUMMARY:HD17\, 10x 3 min\, vila 60 OBS\, reflexväst behövs!
DESCRIPTION:Intervaller på vägar\, 10x 3 min\, vila 60
URL:https://www.tullingesk.se/aktivitet/hd17-69/
LOCATION:TSK-klubbstugan\, Flottiljvägen 56\, Tullinge\, 146 38\, Sweden
GEO:59.193432193406;17.901717405743
X-APPLE-STRUCTURED-LOCATION;VALUE=URI;X-ADDRESS=TSK-klubbstugan Flottiljvägen 56 Tullinge 146 38 Sweden;X-APPLE-RADIUS=500;X-TITLE=Flottiljvägen 56:geo:17.901717405743,59.193432193406
END:VEVENT
BEGIN:VEVENT
DTSTART;TZID=Europe/Stockholm:20250211T193000
DTEND;TZID=Europe/Stockholm:20250211T210000
DTSTAMP:20260422T124357
CREATED:20250208T134108Z
LAST-MODIFIED:20250208T134108Z
UID:10001692-1739302200-1739307600@www.tullingesk.se
SUMMARY:Styrelserummet bokad/Ung.komm Åsa F
DESCRIPTION:
URL:https://www.tullingesk.se/aktivitet/styrelserummet-bokad-ung-komm-asa-f/
LOCATION:TSK-klubbstugan\, Flottiljvägen 56\, Tullinge\, 146 38\, Sweden
CATEGORIES:Uthyrning klubbstugan
GEO:59.193432193406;17.901717405743
X-APPLE-STRUCTURED-LOCATION;VALUE=URI;X-ADDRESS=TSK-klubbstugan Flottiljvägen 56 Tullinge 146 38 Sweden;X-APPLE-RADIUS=500;X-TITLE=Flottiljvägen 56:geo:17.901717405743,59.193432193406
END:VEVENT
END:VCALENDAR