BEGIN:VCALENDAR
VERSION:2.0
PRODID:-//Tullinge SK - ECPv6.15.20//NONSGML v1.0//EN
CALSCALE:GREGORIAN
METHOD:PUBLISH
X-WR-CALNAME:Tullinge SK
X-ORIGINAL-URL:https://www.tullingesk.se
X-WR-CALDESC:Händelser för Tullinge SK
REFRESH-INTERVAL;VALUE=DURATION:PT1H
X-Robots-Tag:noindex
X-PUBLISHED-TTL:PT1H
BEGIN:VTIMEZONE
TZID:Europe/Stockholm
BEGIN:DAYLIGHT
TZOFFSETFROM:+0100
TZOFFSETTO:+0200
TZNAME:CEST
DTSTART:20240331T010000
END:DAYLIGHT
BEGIN:STANDARD
TZOFFSETFROM:+0200
TZOFFSETTO:+0100
TZNAME:CET
DTSTART:20241027T010000
END:STANDARD
BEGIN:DAYLIGHT
TZOFFSETFROM:+0100
TZOFFSETTO:+0200
TZNAME:CEST
DTSTART:20250330T010000
END:DAYLIGHT
BEGIN:STANDARD
TZOFFSETFROM:+0200
TZOFFSETTO:+0100
TZNAME:CET
DTSTART:20251026T010000
END:STANDARD
BEGIN:DAYLIGHT
TZOFFSETFROM:+0100
TZOFFSETTO:+0200
TZNAME:CEST
DTSTART:20260329T010000
END:DAYLIGHT
BEGIN:STANDARD
TZOFFSETFROM:+0200
TZOFFSETTO:+0100
TZNAME:CET
DTSTART:20261025T010000
END:STANDARD
END:VTIMEZONE
BEGIN:VEVENT
DTSTART;TZID=Europe/Stockholm:20250124T170000
DTEND;TZID=Europe/Stockholm:20250124T181500
DTSTAMP:20260421T072455
CREATED:20250123T094248Z
LAST-MODIFIED:20250123T094248Z
UID:10001651-1737738000-1737742500@www.tullingesk.se
SUMMARY:Skidträning 9-12 & 13-16
DESCRIPTION:Pelle mfl
URL:https://www.tullingesk.se/aktivitet/skidtraning-9-12-13-16/
LOCATION:Lida Frilufsgård\, Lidavägen 1\, Tullinge\, 14633\, Sverige
GEO:59.163433851931;17.88166904719
X-APPLE-STRUCTURED-LOCATION;VALUE=URI;X-ADDRESS=Lida Frilufsgård Lidavägen 1 Tullinge 14633 Sverige;X-APPLE-RADIUS=500;X-TITLE=Lidavägen 1:geo:17.88166904719,59.163433851931
END:VEVENT
END:VCALENDAR