BEGIN:VCALENDAR
VERSION:2.0
PRODID:-//Tullinge SK - ECPv6.15.20//NONSGML v1.0//EN
CALSCALE:GREGORIAN
METHOD:PUBLISH
X-WR-CALNAME:Tullinge SK
X-ORIGINAL-URL:https://www.tullingesk.se
X-WR-CALDESC:Händelser för Tullinge SK
REFRESH-INTERVAL;VALUE=DURATION:PT1H
X-Robots-Tag:noindex
X-PUBLISHED-TTL:PT1H
BEGIN:VTIMEZONE
TZID:Europe/Stockholm
BEGIN:DAYLIGHT
TZOFFSETFROM:+0100
TZOFFSETTO:+0200
TZNAME:CEST
DTSTART:20230326T010000
END:DAYLIGHT
BEGIN:STANDARD
TZOFFSETFROM:+0200
TZOFFSETTO:+0100
TZNAME:CET
DTSTART:20231029T010000
END:STANDARD
BEGIN:DAYLIGHT
TZOFFSETFROM:+0100
TZOFFSETTO:+0200
TZNAME:CEST
DTSTART:20240331T010000
END:DAYLIGHT
BEGIN:STANDARD
TZOFFSETFROM:+0200
TZOFFSETTO:+0100
TZNAME:CET
DTSTART:20241027T010000
END:STANDARD
BEGIN:DAYLIGHT
TZOFFSETFROM:+0100
TZOFFSETTO:+0200
TZNAME:CEST
DTSTART:20250330T010000
END:DAYLIGHT
BEGIN:STANDARD
TZOFFSETFROM:+0200
TZOFFSETTO:+0100
TZNAME:CET
DTSTART:20251026T010000
END:STANDARD
END:VTIMEZONE
BEGIN:VEVENT
DTSTART;TZID=Europe/Stockholm:20241203T180000
DTEND;TZID=Europe/Stockholm:20241203T190000
DTSTAMP:20260420T204138
CREATED:20241004T171626Z
LAST-MODIFIED:20241120T212602Z
UID:10000435-1733248800-1733252400@www.tullingesk.se
SUMMARY:Grupp 4
DESCRIPTION:V49 Anna Perneby & Anna-Karin Ohlsson
URL:https://www.tullingesk.se/aktivitet/grupp-4-12/
LOCATION:TSK-klubbstugan\, Flottiljvägen 56\, Tullinge\, 146 38\, Sweden
GEO:59.193432193406;17.901717405743
X-APPLE-STRUCTURED-LOCATION;VALUE=URI;X-ADDRESS=TSK-klubbstugan Flottiljvägen 56 Tullinge 146 38 Sweden;X-APPLE-RADIUS=500;X-TITLE=Flottiljvägen 56:geo:17.901717405743,59.193432193406
END:VEVENT
BEGIN:VEVENT
DTSTART;TZID=Europe/Stockholm:20241203T180000
DTEND;TZID=Europe/Stockholm:20241203T191500
DTSTAMP:20260420T204138
CREATED:20241201T122623Z
LAST-MODIFIED:20241202T180235Z
UID:10001488-1733248800-1733253300@www.tullingesk.se
SUMMARY:13-16: intervaller i skog (lampa)
DESCRIPTION:Lampa och trailskor/ol-skor
URL:https://www.tullingesk.se/aktivitet/13-16-langa-intervaller/
LOCATION:TSK-klubbstugan\, Flottiljvägen 56\, Tullinge\, 146 38\, Sweden
GEO:59.193432193406;17.901717405743
X-APPLE-STRUCTURED-LOCATION;VALUE=URI;X-ADDRESS=TSK-klubbstugan Flottiljvägen 56 Tullinge 146 38 Sweden;X-APPLE-RADIUS=500;X-TITLE=Flottiljvägen 56:geo:17.901717405743,59.193432193406
END:VEVENT
BEGIN:VEVENT
DTSTART;TZID=Europe/Stockholm:20241203T180000
DTEND;TZID=Europe/Stockholm:20241203T200000
DTSTAMP:20260420T204138
CREATED:20241021T074740Z
LAST-MODIFIED:20241202T055550Z
UID:10000974-1733248800-1733256000@www.tullingesk.se
SUMMARY:HD17: 5\,5\,4\,4\,3\,3\,90\,90 vila 90
DESCRIPTION:Intervaller på spåret 5\,5\,4\,4\,3\,3\,90\,90 vila 90
URL:https://www.tullingesk.se/aktivitet/hd17-61/
LOCATION:TSK-klubbstugan\, Flottiljvägen 56\, Tullinge\, 146 38\, Sweden
GEO:59.193432193406;17.901717405743
X-APPLE-STRUCTURED-LOCATION;VALUE=URI;X-ADDRESS=TSK-klubbstugan Flottiljvägen 56 Tullinge 146 38 Sweden;X-APPLE-RADIUS=500;X-TITLE=Flottiljvägen 56:geo:17.901717405743,59.193432193406
END:VEVENT
BEGIN:VEVENT
DTSTART;TZID=Europe/Stockholm:20241203T180000
DTEND;TZID=Europe/Stockholm:20241203T210000
DTSTAMP:20260420T204138
CREATED:20240816T073211Z
LAST-MODIFIED:20241129T130903Z
UID:10001274-1733248800-1733259600@www.tullingesk.se
SUMMARY:Soppa och städa
DESCRIPTION:Soppa: M Hoffsten-Arkäng/Ö Arkäng/L+H Klockare/J+P Persson \nStäd Dam: Tina Junegard och Josefin Illergård \nStäd Herr: Robert Lidström och Erik Näsman
URL:https://www.tullingesk.se/aktivitet/soppa-och-stada-50/
LOCATION:TSK-klubbstugan\, Flottiljvägen 56\, Tullinge\, 146 38\, Sweden
CATEGORIES:Städvecka / tisdagssoppa
GEO:59.193432193406;17.901717405743
X-APPLE-STRUCTURED-LOCATION;VALUE=URI;X-ADDRESS=TSK-klubbstugan Flottiljvägen 56 Tullinge 146 38 Sweden;X-APPLE-RADIUS=500;X-TITLE=Flottiljvägen 56:geo:17.901717405743,59.193432193406
END:VEVENT
BEGIN:VEVENT
DTSTART;TZID=Europe/Stockholm:20241203T194000
DTEND;TZID=Europe/Stockholm:20241203T201500
DTSTAMP:20260420T204138
CREATED:20241202T114903Z
LAST-MODIFIED:20241202T114903Z
UID:10001490-1733254800-1733256900@www.tullingesk.se
SUMMARY:Luciatågsträning i gymmet
DESCRIPTION:
URL:https://www.tullingesk.se/aktivitet/luciatagstraning-i-gymmet-2/
LOCATION:TSK-klubbstugan\, Flottiljvägen 56\, Tullinge\, 146 38\, Sweden
GEO:59.193432193406;17.901717405743
X-APPLE-STRUCTURED-LOCATION;VALUE=URI;X-ADDRESS=TSK-klubbstugan Flottiljvägen 56 Tullinge 146 38 Sweden;X-APPLE-RADIUS=500;X-TITLE=Flottiljvägen 56:geo:17.901717405743,59.193432193406
END:VEVENT
END:VCALENDAR