BEGIN:VCALENDAR
VERSION:2.0
PRODID:-//Tullinge SK - ECPv6.15.20//NONSGML v1.0//EN
CALSCALE:GREGORIAN
METHOD:PUBLISH
X-ORIGINAL-URL:https://www.tullingesk.se
X-WR-CALDESC:Händelser för Tullinge SK
REFRESH-INTERVAL;VALUE=DURATION:PT1H
X-Robots-Tag:noindex
X-PUBLISHED-TTL:PT1H
BEGIN:VTIMEZONE
TZID:Europe/Stockholm
BEGIN:DAYLIGHT
TZOFFSETFROM:+0100
TZOFFSETTO:+0200
TZNAME:CEST
DTSTART:20230326T010000
END:DAYLIGHT
BEGIN:STANDARD
TZOFFSETFROM:+0200
TZOFFSETTO:+0100
TZNAME:CET
DTSTART:20231029T010000
END:STANDARD
BEGIN:DAYLIGHT
TZOFFSETFROM:+0100
TZOFFSETTO:+0200
TZNAME:CEST
DTSTART:20240331T010000
END:DAYLIGHT
BEGIN:STANDARD
TZOFFSETFROM:+0200
TZOFFSETTO:+0100
TZNAME:CET
DTSTART:20241027T010000
END:STANDARD
BEGIN:DAYLIGHT
TZOFFSETFROM:+0100
TZOFFSETTO:+0200
TZNAME:CEST
DTSTART:20250330T010000
END:DAYLIGHT
BEGIN:STANDARD
TZOFFSETFROM:+0200
TZOFFSETTO:+0100
TZNAME:CET
DTSTART:20251026T010000
END:STANDARD
END:VTIMEZONE
BEGIN:VEVENT
DTSTART;TZID=Europe/Stockholm:20241122T080000
DTEND;TZID=Europe/Stockholm:20241124T080000
DTSTAMP:20260420T153215
CREATED:20240810T182349Z
LAST-MODIFIED:20240810T182818Z
UID:10001254-1732262400-1732435200@www.tullingesk.se
SUMMARY:Stugan bokad TSK årsfest
DESCRIPTION:
URL:https://www.tullingesk.se/aktivitet/stugan-bokad-tsk-arsfest/
LOCATION:TSK-klubbstugan\, Flottiljvägen 56\, Tullinge\, 146 38\, Sweden
CATEGORIES:Uthyrning klubbstugan
GEO:59.193432193406;17.901717405743
X-APPLE-STRUCTURED-LOCATION;VALUE=URI;X-ADDRESS=TSK-klubbstugan Flottiljvägen 56 Tullinge 146 38 Sweden;X-APPLE-RADIUS=500;X-TITLE=Flottiljvägen 56:geo:17.901717405743,59.193432193406
END:VEVENT
BEGIN:VEVENT
DTSTART;TZID=Europe/Stockholm:20241124T080000
DTEND;TZID=Europe/Stockholm:20241124T170000
DTSTAMP:20260420T153215
CREATED:20241124T193722Z
LAST-MODIFIED:20241124T193722Z
UID:10001480-1732435200-1732467600@www.tullingesk.se
SUMMARY:Nattugglan Visättra ishall
DESCRIPTION:Samling: Visättra Ishall\nBanläggare: Erik Berggren \nInfo på Eventor
URL:https://www.tullingesk.se/aktivitet/nattugglan-visattra-ishall/
LOCATION:TSK-klubbstugan\, Flottiljvägen 56\, Tullinge\, 146 38\, Sweden
CATEGORIES:Orienteringstävling
GEO:59.193432193406;17.901717405743
X-APPLE-STRUCTURED-LOCATION;VALUE=URI;X-ADDRESS=TSK-klubbstugan Flottiljvägen 56 Tullinge 146 38 Sweden;X-APPLE-RADIUS=500;X-TITLE=Flottiljvägen 56:geo:17.901717405743,59.193432193406
END:VEVENT
BEGIN:VEVENT
DTSTART;TZID=Europe/Stockholm:20241124T090000
DTEND;TZID=Europe/Stockholm:20241124T140000
DTSTAMP:20260420T153215
CREATED:20240930T172834Z
LAST-MODIFIED:20240930T173802Z
UID:10001403-1732438800-1732456800@www.tullingesk.se
SUMMARY:Tipspromenad från TSK-stugan\, Brantbrink IP
DESCRIPTION:Tipspromenad med barn och vuxenfrågor.\nMotionsbingo\nStart kl10-12\nFikaservering kl.10-13. Lotterier\nVälkomna!\nSupporterklubben
URL:https://www.tullingesk.se/aktivitet/tipspromenad-fran-tsk-stugan-brantbrink-ip-3/2024-11-24/
LOCATION:TSK-klubbstugan\, Flottiljvägen 56\, Tullinge\, 146 38\, Sweden
CATEGORIES:Supporterklubben
GEO:59.193432193406;17.901717405743
X-APPLE-STRUCTURED-LOCATION;VALUE=URI;X-ADDRESS=TSK-klubbstugan Flottiljvägen 56 Tullinge 146 38 Sweden;X-APPLE-RADIUS=500;X-TITLE=Flottiljvägen 56:geo:17.901717405743,59.193432193406
END:VEVENT
BEGIN:VEVENT
DTSTART;TZID=Europe/Stockholm:20241124T110000
DTEND;TZID=Europe/Stockholm:20241124T130000
DTSTAMP:20260420T153215
CREATED:20241107T182431Z
LAST-MODIFIED:20241123T150008Z
UID:10001462-1732446000-1732453200@www.tullingesk.se
SUMMARY:Långpass med vätska senare start kl11!
DESCRIPTION:OBS att vi startar långpasset 11:00 från klubbstugan! \nTre banor 7km\, 10\,5km samt 16\,4km\, utgår från klubbstugan mot Visätraskogen.\nVätska finns för alla banor.\nVåffla i klubbstugan till alla löpare! \nVälkomna önskar Björn Axelsson
URL:https://www.tullingesk.se/aktivitet/langpass-15/
LOCATION:TSK-klubbstugan\, Flottiljvägen 56\, Tullinge\, 146 38\, Sweden
GEO:59.193432193406;17.901717405743
X-APPLE-STRUCTURED-LOCATION;VALUE=URI;X-ADDRESS=TSK-klubbstugan Flottiljvägen 56 Tullinge 146 38 Sweden;X-APPLE-RADIUS=500;X-TITLE=Flottiljvägen 56:geo:17.901717405743,59.193432193406
END:VEVENT
END:VCALENDAR