BEGIN:VCALENDAR
VERSION:2.0
PRODID:-//Tullinge SK - ECPv6.15.20//NONSGML v1.0//EN
CALSCALE:GREGORIAN
METHOD:PUBLISH
X-WR-CALNAME:Tullinge SK
X-ORIGINAL-URL:https://www.tullingesk.se
X-WR-CALDESC:Händelser för Tullinge SK
REFRESH-INTERVAL;VALUE=DURATION:PT1H
X-Robots-Tag:noindex
X-PUBLISHED-TTL:PT1H
BEGIN:VTIMEZONE
TZID:Europe/Stockholm
BEGIN:DAYLIGHT
TZOFFSETFROM:+0100
TZOFFSETTO:+0200
TZNAME:CEST
DTSTART:20230326T010000
END:DAYLIGHT
BEGIN:STANDARD
TZOFFSETFROM:+0200
TZOFFSETTO:+0100
TZNAME:CET
DTSTART:20231029T010000
END:STANDARD
BEGIN:DAYLIGHT
TZOFFSETFROM:+0100
TZOFFSETTO:+0200
TZNAME:CEST
DTSTART:20240331T010000
END:DAYLIGHT
BEGIN:STANDARD
TZOFFSETFROM:+0200
TZOFFSETTO:+0100
TZNAME:CET
DTSTART:20241027T010000
END:STANDARD
BEGIN:DAYLIGHT
TZOFFSETFROM:+0100
TZOFFSETTO:+0200
TZNAME:CEST
DTSTART:20250330T010000
END:DAYLIGHT
BEGIN:STANDARD
TZOFFSETFROM:+0200
TZOFFSETTO:+0100
TZNAME:CET
DTSTART:20251026T010000
END:STANDARD
END:VTIMEZONE
BEGIN:VEVENT
DTSTART;TZID=Europe/Stockholm:20241119T180000
DTEND;TZID=Europe/Stockholm:20241119T190000
DTSTAMP:20260420T170022
CREATED:20241004T171616Z
LAST-MODIFIED:20241114T211322Z
UID:10000433-1732039200-1732042800@www.tullingesk.se
SUMMARY:Grupp 4
DESCRIPTION:V47 Barbro Lönnkvist & Lars Lönnkvist \n 
URL:https://www.tullingesk.se/aktivitet/grupp-4-10/
LOCATION:TSK-klubbstugan\, Flottiljvägen 56\, Tullinge\, 146 38\, Sweden
GEO:59.193432193406;17.901717405743
X-APPLE-STRUCTURED-LOCATION;VALUE=URI;X-ADDRESS=TSK-klubbstugan Flottiljvägen 56 Tullinge 146 38 Sweden;X-APPLE-RADIUS=500;X-TITLE=Flottiljvägen 56:geo:17.901717405743,59.193432193406
END:VEVENT
BEGIN:VEVENT
DTSTART;TZID=Europe/Stockholm:20241119T180000
DTEND;TZID=Europe/Stockholm:20241119T191500
DTSTAMP:20260420T170022
CREATED:20241117T162422Z
LAST-MODIFIED:20241117T162422Z
UID:10001476-1732039200-1732043700@www.tullingesk.se
SUMMARY:13-16 gruppen: långa intervaller med HD17
DESCRIPTION:Anpassat upplägg \nLöparskor (ingen lampa) \n 
URL:https://www.tullingesk.se/aktivitet/13-16-gruppen-langa-intervaller-med-hd17/
LOCATION:TSK-klubbstugan\, Flottiljvägen 56\, Tullinge\, 146 38\, Sweden
GEO:59.193432193406;17.901717405743
X-APPLE-STRUCTURED-LOCATION;VALUE=URI;X-ADDRESS=TSK-klubbstugan Flottiljvägen 56 Tullinge 146 38 Sweden;X-APPLE-RADIUS=500;X-TITLE=Flottiljvägen 56:geo:17.901717405743,59.193432193406
END:VEVENT
BEGIN:VEVENT
DTSTART;TZID=Europe/Stockholm:20241119T180000
DTEND;TZID=Europe/Stockholm:20241119T200000
DTSTAMP:20260420T170022
CREATED:20241021T074738Z
LAST-MODIFIED:20241118T054004Z
UID:10000972-1732039200-1732046400@www.tullingesk.se
SUMMARY:HD17: 10x 3 min\, vila 60
DESCRIPTION:Intervaller på spåret\, 10x 3 min\, vila 60
URL:https://www.tullingesk.se/aktivitet/hd17-59/
LOCATION:TSK-klubbstugan\, Flottiljvägen 56\, Tullinge\, 146 38\, Sweden
GEO:59.193432193406;17.901717405743
X-APPLE-STRUCTURED-LOCATION;VALUE=URI;X-ADDRESS=TSK-klubbstugan Flottiljvägen 56 Tullinge 146 38 Sweden;X-APPLE-RADIUS=500;X-TITLE=Flottiljvägen 56:geo:17.901717405743,59.193432193406
END:VEVENT
BEGIN:VEVENT
DTSTART;TZID=Europe/Stockholm:20241119T180000
DTEND;TZID=Europe/Stockholm:20241119T210000
DTSTAMP:20260420T170022
CREATED:20240816T072442Z
LAST-MODIFIED:20241103T112640Z
UID:10001272-1732039200-1732050000@www.tullingesk.se
SUMMARY:Soppa och städa
DESCRIPTION:Soppa: A Kärrström/F+K+P-A Forsberg \nStäd Dam: Carolina Andersson och Sara Pousette \nStäd Herr: Björn Axelsson och Emil Andersson
URL:https://www.tullingesk.se/aktivitet/soppa-och-stada-48/
LOCATION:TSK-klubbstugan\, Flottiljvägen 56\, Tullinge\, 146 38\, Sweden
CATEGORIES:Städvecka / tisdagssoppa
GEO:59.193432193406;17.901717405743
X-APPLE-STRUCTURED-LOCATION;VALUE=URI;X-ADDRESS=TSK-klubbstugan Flottiljvägen 56 Tullinge 146 38 Sweden;X-APPLE-RADIUS=500;X-TITLE=Flottiljvägen 56:geo:17.901717405743,59.193432193406
END:VEVENT
BEGIN:VEVENT
DTSTART;TZID=Europe/Stockholm:20241119T190000
DTEND;TZID=Europe/Stockholm:20241119T203000
DTSTAMP:20260420T170022
CREATED:20241118T070703Z
LAST-MODIFIED:20241118T070703Z
UID:10001477-1732042800-1732048200@www.tullingesk.se
SUMMARY:Lilla mötesrummet vid entrén bokat - IT-gruppen
DESCRIPTION:Bokat möte för IT-gruppen
URL:https://www.tullingesk.se/aktivitet/lilla-motesrummet-vid-entren-bokat-it-gruppen/
LOCATION:TSK-klubbstugan\, Flottiljvägen 56\, Tullinge\, 146 38\, Sweden
CATEGORIES:Tullinge SK
GEO:59.193432193406;17.901717405743
X-APPLE-STRUCTURED-LOCATION;VALUE=URI;X-ADDRESS=TSK-klubbstugan Flottiljvägen 56 Tullinge 146 38 Sweden;X-APPLE-RADIUS=500;X-TITLE=Flottiljvägen 56:geo:17.901717405743,59.193432193406
END:VEVENT
BEGIN:VEVENT
DTSTART;TZID=Europe/Stockholm:20241119T193000
DTEND;TZID=Europe/Stockholm:20241119T213000
DTSTAMP:20260420T170022
CREATED:20241114T190624Z
LAST-MODIFIED:20241114T190624Z
UID:10001474-1732044600-1732051800@www.tullingesk.se
SUMMARY:Styrelserummet bokat/Åsa F Ung.komm
DESCRIPTION:
URL:https://www.tullingesk.se/aktivitet/styrelserummet-bokat-asa-f-ung-komm/
LOCATION:TSK-klubbstugan\, Flottiljvägen 56\, Tullinge\, 146 38\, Sweden
CATEGORIES:Uthyrning klubbstugan
GEO:59.193432193406;17.901717405743
X-APPLE-STRUCTURED-LOCATION;VALUE=URI;X-ADDRESS=TSK-klubbstugan Flottiljvägen 56 Tullinge 146 38 Sweden;X-APPLE-RADIUS=500;X-TITLE=Flottiljvägen 56:geo:17.901717405743,59.193432193406
END:VEVENT
BEGIN:VEVENT
DTSTART;TZID=Europe/Stockholm:20241119T194500
DTEND;TZID=Europe/Stockholm:20241119T201500
DTSTAMP:20260420T170022
CREATED:20241113T103914Z
LAST-MODIFIED:20241113T103914Z
UID:10001472-1732045500-1732047300@www.tullingesk.se
SUMMARY:Gymmet bokat för Luciaträning
DESCRIPTION:/Ungkom
URL:https://www.tullingesk.se/aktivitet/gymmet-bokat-for-luciatraning/
LOCATION:TSK-klubbstugan\, Flottiljvägen 56\, Tullinge\, 146 38\, Sweden
GEO:59.193432193406;17.901717405743
X-APPLE-STRUCTURED-LOCATION;VALUE=URI;X-ADDRESS=TSK-klubbstugan Flottiljvägen 56 Tullinge 146 38 Sweden;X-APPLE-RADIUS=500;X-TITLE=Flottiljvägen 56:geo:17.901717405743,59.193432193406
END:VEVENT
END:VCALENDAR