BEGIN:VCALENDAR
VERSION:2.0
PRODID:-//Tullinge SK - ECPv6.15.20//NONSGML v1.0//EN
CALSCALE:GREGORIAN
METHOD:PUBLISH
X-ORIGINAL-URL:https://www.tullingesk.se
X-WR-CALDESC:Händelser för Tullinge SK
REFRESH-INTERVAL;VALUE=DURATION:PT1H
X-Robots-Tag:noindex
X-PUBLISHED-TTL:PT1H
BEGIN:VTIMEZONE
TZID:Europe/Stockholm
BEGIN:DAYLIGHT
TZOFFSETFROM:+0100
TZOFFSETTO:+0200
TZNAME:CEST
DTSTART:20230326T010000
END:DAYLIGHT
BEGIN:STANDARD
TZOFFSETFROM:+0200
TZOFFSETTO:+0100
TZNAME:CET
DTSTART:20231029T010000
END:STANDARD
BEGIN:DAYLIGHT
TZOFFSETFROM:+0100
TZOFFSETTO:+0200
TZNAME:CEST
DTSTART:20240331T010000
END:DAYLIGHT
BEGIN:STANDARD
TZOFFSETFROM:+0200
TZOFFSETTO:+0100
TZNAME:CET
DTSTART:20241027T010000
END:STANDARD
BEGIN:DAYLIGHT
TZOFFSETFROM:+0100
TZOFFSETTO:+0200
TZNAME:CEST
DTSTART:20250330T010000
END:DAYLIGHT
BEGIN:STANDARD
TZOFFSETFROM:+0200
TZOFFSETTO:+0100
TZNAME:CET
DTSTART:20251026T010000
END:STANDARD
END:VTIMEZONE
BEGIN:VEVENT
DTSTART;TZID=Europe/Stockholm:20241022T180000
DTEND;TZID=Europe/Stockholm:20241022T190000
DTSTAMP:20260422T195441
CREATED:20241004T171605Z
LAST-MODIFIED:20241021T183809Z
UID:10000429-1729620000-1729623600@www.tullingesk.se
SUMMARY:Grupp 4
DESCRIPTION:Vi springer banorna för Luffarligan som går av stapeln på onsdag. Stort tack till Anders mfl som håller i den! \n4 banor finns det att välja mellan\, 5\,5km – 4\,5km – 3\,5km och 2\,5km\, ca 1km uppvärmning till start. Målet är nära klubbstugan och det sitter stor skärm vid kontrollerna men ingen reflexstav. \nVälkomna! \nV43 Daniel Helander & Henrik Bladh
URL:https://www.tullingesk.se/aktivitet/grupp-4-6/
LOCATION:TSK-klubbstugan\, Flottiljvägen 56\, Tullinge\, 146 38\, Sweden
GEO:59.193432193406;17.901717405743
X-APPLE-STRUCTURED-LOCATION;VALUE=URI;X-ADDRESS=TSK-klubbstugan Flottiljvägen 56 Tullinge 146 38 Sweden;X-APPLE-RADIUS=500;X-TITLE=Flottiljvägen 56:geo:17.901717405743,59.193432193406
END:VEVENT
BEGIN:VEVENT
DTSTART;TZID=Europe/Stockholm:20241022T180000
DTEND;TZID=Europe/Stockholm:20241022T193000
DTSTAMP:20260422T195441
CREATED:20241020T123102Z
LAST-MODIFIED:20241022T053455Z
UID:10001429-1729620000-1729625400@www.tullingesk.se
SUMMARY:1316-gruppen: sprintstafett - pannlampa
DESCRIPTION:Sprintstafett med korta\, enkla OL slingor. \nLöpar/trailskor och pannlampa samt gärna kompass. \n/Rickard\, Johan och Calle
URL:https://www.tullingesk.se/aktivitet/1316-gruppen-sprintstafett-pannlampa/
LOCATION:TSK-klubbstugan\, Flottiljvägen 56\, Tullinge\, 146 38\, Sweden
GEO:59.193432193406;17.901717405743
X-APPLE-STRUCTURED-LOCATION;VALUE=URI;X-ADDRESS=TSK-klubbstugan Flottiljvägen 56 Tullinge 146 38 Sweden;X-APPLE-RADIUS=500;X-TITLE=Flottiljvägen 56:geo:17.901717405743,59.193432193406
END:VEVENT
BEGIN:VEVENT
DTSTART;TZID=Europe/Stockholm:20241022T180000
DTEND;TZID=Europe/Stockholm:20241022T200000
DTSTAMP:20260422T195441
CREATED:20241021T074732Z
LAST-MODIFIED:20241021T075120Z
UID:10000969-1729620000-1729627200@www.tullingesk.se
SUMMARY:HD17: Intervaller 10x 3 min\, vila 60
DESCRIPTION:Intervaller på spåret\, 10x 3 min\, vila 60
URL:https://www.tullingesk.se/aktivitet/hd17-55/
LOCATION:TSK-klubbstugan\, Flottiljvägen 56\, Tullinge\, 146 38\, Sweden
GEO:59.193432193406;17.901717405743
X-APPLE-STRUCTURED-LOCATION;VALUE=URI;X-ADDRESS=TSK-klubbstugan Flottiljvägen 56 Tullinge 146 38 Sweden;X-APPLE-RADIUS=500;X-TITLE=Flottiljvägen 56:geo:17.901717405743,59.193432193406
END:VEVENT
BEGIN:VEVENT
DTSTART;TZID=Europe/Stockholm:20241022T180000
DTEND;TZID=Europe/Stockholm:20241022T210000
DTSTAMP:20260422T195441
CREATED:20240816T071314Z
LAST-MODIFIED:20240816T071314Z
UID:10001268-1729620000-1729630800@www.tullingesk.se
SUMMARY:Soppa och städa
DESCRIPTION:Soppa: Å+F Flodmark/L Matthews/L+E Näsman \nStäd Dam: Åsa Rimsjö Sand och Yvonne Andersson \nStäd Herr: Hasse Sundqvist och Mikael Sundqvist
URL:https://www.tullingesk.se/aktivitet/soppa-och-stada-44/
LOCATION:TSK-klubbstugan\, Flottiljvägen 56\, Tullinge\, 146 38\, Sweden
CATEGORIES:Städvecka / tisdagssoppa
GEO:59.193432193406;17.901717405743
X-APPLE-STRUCTURED-LOCATION;VALUE=URI;X-ADDRESS=TSK-klubbstugan Flottiljvägen 56 Tullinge 146 38 Sweden;X-APPLE-RADIUS=500;X-TITLE=Flottiljvägen 56:geo:17.901717405743,59.193432193406
END:VEVENT
BEGIN:VEVENT
DTSTART;TZID=Europe/Stockholm:20241022T200000
DTEND;TZID=Europe/Stockholm:20241022T210000
DTSTAMP:20260422T195441
CREATED:20240831T165055Z
LAST-MODIFIED:20240831T165055Z
UID:10001284-1729627200-1729630800@www.tullingesk.se
SUMMARY:Halvårsmöte bortre storstuga/ Styrelsen
DESCRIPTION:
URL:https://www.tullingesk.se/aktivitet/halvarsmote-bortre-storstuga-styrelsen/
LOCATION:TSK-klubbstugan\, Flottiljvägen 56\, Tullinge\, 146 38\, Sweden
CATEGORIES:Uthyrning klubbstugan
GEO:59.193432193406;17.901717405743
X-APPLE-STRUCTURED-LOCATION;VALUE=URI;X-ADDRESS=TSK-klubbstugan Flottiljvägen 56 Tullinge 146 38 Sweden;X-APPLE-RADIUS=500;X-TITLE=Flottiljvägen 56:geo:17.901717405743,59.193432193406
END:VEVENT
END:VCALENDAR