BEGIN:VCALENDAR
VERSION:2.0
PRODID:-//Tullinge SK - ECPv6.15.20//NONSGML v1.0//EN
CALSCALE:GREGORIAN
METHOD:PUBLISH
X-ORIGINAL-URL:https://www.tullingesk.se
X-WR-CALDESC:Händelser för Tullinge SK
REFRESH-INTERVAL;VALUE=DURATION:PT1H
X-Robots-Tag:noindex
X-PUBLISHED-TTL:PT1H
BEGIN:VTIMEZONE
TZID:Europe/Stockholm
BEGIN:DAYLIGHT
TZOFFSETFROM:+0100
TZOFFSETTO:+0200
TZNAME:CEST
DTSTART:20230326T010000
END:DAYLIGHT
BEGIN:STANDARD
TZOFFSETFROM:+0200
TZOFFSETTO:+0100
TZNAME:CET
DTSTART:20231029T010000
END:STANDARD
BEGIN:DAYLIGHT
TZOFFSETFROM:+0100
TZOFFSETTO:+0200
TZNAME:CEST
DTSTART:20240331T010000
END:DAYLIGHT
BEGIN:STANDARD
TZOFFSETFROM:+0200
TZOFFSETTO:+0100
TZNAME:CET
DTSTART:20241027T010000
END:STANDARD
BEGIN:DAYLIGHT
TZOFFSETFROM:+0100
TZOFFSETTO:+0200
TZNAME:CEST
DTSTART:20250330T010000
END:DAYLIGHT
BEGIN:STANDARD
TZOFFSETFROM:+0200
TZOFFSETTO:+0100
TZNAME:CET
DTSTART:20251026T010000
END:STANDARD
END:VTIMEZONE
BEGIN:VEVENT
DTSTART;TZID=Europe/Stockholm:20241003T174000
DTEND;TZID=Europe/Stockholm:20241003T190000
DTSTAMP:20260422T025933
CREATED:20240924T053833Z
LAST-MODIFIED:20240929T151144Z
UID:10001384-1727977200-1727982000@www.tullingesk.se
SUMMARY:Sprintträning Flemingsberg
DESCRIPTION:Teknikträning i Flemingsberg med sprintbanor\, för alla medlemmar. \nOBS Samling 17:40 \nAnmälan senast onsdag kl 13 via Eventor: https://eventor.orientering.se/Activities/Show/21794 \nSamling: Flemingsbergs torg/centrum\, utan för ingången till köpcentret. https://maps.app.goo.gl/uhzjDnY5PgZ5QSW49 \nParkering: På torget eller i P-hus under köpcentret. Gratis 1 h med app därefter 12 kr/h. Alternativt pendeltåg eller cykel. \n\nBanor: \n\n\n\nBana\nKontroller\nLängd\n\n\n\n\n\nVit 1\n9\n0\,6 km\n\n\n\nVit 2\n8\n0\,8 km\n\n\n\nGul 1\n9\n0\,8 km\n\n\n\nGul 2\n16\n1\,4 km\n\n\n\nOrange 1\n19\n1\,8 km\n\n\n\nOrange 2\n10\n1\,3 km\n\n\n\nSvart 1\n12\n1\,5 km\n\n\n\nSvart 2\n14\n1\,8 km\n\n\n\nSvart 3\n13\n1\,7 km\n\n\n\nLösa kontrolldefinitioner finns \nAlla kontroller sitter på asfalt/grus/gräs så vanliga löparskor rekommenderas. \nAnsvariga ledare:\n9-12 Ledare: Anders/Mats\, Närvaro: Putsep\n13-16 Ledare: Rickard \nUtskrift: Rickard \nBanläggare och utsättning:\nRickard \nInplockning:\nKenneth J
URL:https://www.tullingesk.se/aktivitet/sprinttraning-flemingsberg/
END:VEVENT
END:VCALENDAR