BEGIN:VCALENDAR
VERSION:2.0
PRODID:-//Tullinge SK - ECPv6.15.20//NONSGML v1.0//EN
CALSCALE:GREGORIAN
METHOD:PUBLISH
X-ORIGINAL-URL:https://www.tullingesk.se
X-WR-CALDESC:Händelser för Tullinge SK
REFRESH-INTERVAL;VALUE=DURATION:PT1H
X-Robots-Tag:noindex
X-PUBLISHED-TTL:PT1H
BEGIN:VTIMEZONE
TZID:Europe/Stockholm
BEGIN:DAYLIGHT
TZOFFSETFROM:+0100
TZOFFSETTO:+0200
TZNAME:CEST
DTSTART:20230326T010000
END:DAYLIGHT
BEGIN:STANDARD
TZOFFSETFROM:+0200
TZOFFSETTO:+0100
TZNAME:CET
DTSTART:20231029T010000
END:STANDARD
BEGIN:DAYLIGHT
TZOFFSETFROM:+0100
TZOFFSETTO:+0200
TZNAME:CEST
DTSTART:20240331T010000
END:DAYLIGHT
BEGIN:STANDARD
TZOFFSETFROM:+0200
TZOFFSETTO:+0100
TZNAME:CET
DTSTART:20241027T010000
END:STANDARD
BEGIN:DAYLIGHT
TZOFFSETFROM:+0100
TZOFFSETTO:+0200
TZNAME:CEST
DTSTART:20250330T010000
END:DAYLIGHT
BEGIN:STANDARD
TZOFFSETFROM:+0200
TZOFFSETTO:+0100
TZNAME:CET
DTSTART:20251026T010000
END:STANDARD
END:VTIMEZONE
BEGIN:VEVENT
DTSTART;TZID=Europe/Stockholm:20240917T180000
DTEND;TZID=Europe/Stockholm:20240917T190000
DTSTAMP:20260420T153157
CREATED:20240909T152205Z
LAST-MODIFIED:20240911T163915Z
UID:10000424-1726596000-1726599600@www.tullingesk.se
SUMMARY:Grupp 4
DESCRIPTION:V38 Lena & Hasse Sundqvist Det blir OL-slingor i närområdet.
URL:https://www.tullingesk.se/aktivitet/grupp-4-2-50/
LOCATION:TSK-klubbstugan\, Flottiljvägen 56\, Tullinge\, 146 38\, Sweden
GEO:59.193432193406;17.901717405743
X-APPLE-STRUCTURED-LOCATION;VALUE=URI;X-ADDRESS=TSK-klubbstugan Flottiljvägen 56 Tullinge 146 38 Sweden;X-APPLE-RADIUS=500;X-TITLE=Flottiljvägen 56:geo:17.901717405743,59.193432193406
END:VEVENT
BEGIN:VEVENT
DTSTART;TZID=Europe/Stockholm:20240917T180000
DTEND;TZID=Europe/Stockholm:20240917T191500
DTSTAMP:20260420T153157
CREATED:20240915T193143Z
LAST-MODIFIED:20240915T193143Z
UID:10001297-1726596000-1726600500@www.tullingesk.se
SUMMARY:13-16 gruppen: långa intervaller och höjdkurvor
DESCRIPTION:Intervaller på spåret \nTrailskor/dubbfriaskor och kompass
URL:https://www.tullingesk.se/aktivitet/13-16-gruppen-langa-intervaller-och-hojdkurvor/
LOCATION:TSK-klubbstugan\, Flottiljvägen 56\, Tullinge\, 146 38\, Sweden
GEO:59.193432193406;17.901717405743
X-APPLE-STRUCTURED-LOCATION;VALUE=URI;X-ADDRESS=TSK-klubbstugan Flottiljvägen 56 Tullinge 146 38 Sweden;X-APPLE-RADIUS=500;X-TITLE=Flottiljvägen 56:geo:17.901717405743,59.193432193406
END:VEVENT
BEGIN:VEVENT
DTSTART;TZID=Europe/Stockholm:20240917T180000
DTEND;TZID=Europe/Stockholm:20240917T200000
DTSTAMP:20260420T153157
CREATED:20240826T122201Z
LAST-MODIFIED:20240916T144115Z
UID:10000905-1726596000-1726603200@www.tullingesk.se
SUMMARY:HD17\, intervaller 4x 3 min + 6x 90\, vila 60
DESCRIPTION:Intervaller på spåret\, 4x 3 + 6x 90\, vila 60
URL:https://www.tullingesk.se/aktivitet/hd17-50/
LOCATION:TSK-klubbstugan\, Flottiljvägen 56\, Tullinge\, 146 38\, Sweden
GEO:59.193432193406;17.901717405743
X-APPLE-STRUCTURED-LOCATION;VALUE=URI;X-ADDRESS=TSK-klubbstugan Flottiljvägen 56 Tullinge 146 38 Sweden;X-APPLE-RADIUS=500;X-TITLE=Flottiljvägen 56:geo:17.901717405743,59.193432193406
END:VEVENT
BEGIN:VEVENT
DTSTART;TZID=Europe/Stockholm:20240917T180000
DTEND;TZID=Europe/Stockholm:20240917T210000
DTSTAMP:20260420T153157
CREATED:20240812T052959Z
LAST-MODIFIED:20240812T052959Z
UID:10001259-1726596000-1726606800@www.tullingesk.se
SUMMARY:Soppa och städa
DESCRIPTION:Soppa: N+J Däckfors/A-S+B Nybäck/S+H Sandberg \nStäd Dam: Mari Heijkenskjöld och Anna Perneby \nStäd Herr: Patrik Tjärdal och Rudolf Hersen
URL:https://www.tullingesk.se/aktivitet/soppa-och-stada-39/
LOCATION:TSK-klubbstugan\, Flottiljvägen 56\, Tullinge\, 146 38\, Sweden
CATEGORIES:Städvecka / tisdagssoppa
GEO:59.193432193406;17.901717405743
X-APPLE-STRUCTURED-LOCATION;VALUE=URI;X-ADDRESS=TSK-klubbstugan Flottiljvägen 56 Tullinge 146 38 Sweden;X-APPLE-RADIUS=500;X-TITLE=Flottiljvägen 56:geo:17.901717405743,59.193432193406
END:VEVENT
END:VCALENDAR