BEGIN:VCALENDAR
VERSION:2.0
PRODID:-//Tullinge SK - ECPv6.15.20//NONSGML v1.0//EN
CALSCALE:GREGORIAN
METHOD:PUBLISH
X-WR-CALNAME:Tullinge SK
X-ORIGINAL-URL:https://www.tullingesk.se
X-WR-CALDESC:Händelser för Tullinge SK
REFRESH-INTERVAL;VALUE=DURATION:PT1H
X-Robots-Tag:noindex
X-PUBLISHED-TTL:PT1H
BEGIN:VTIMEZONE
TZID:Europe/Stockholm
BEGIN:DAYLIGHT
TZOFFSETFROM:+0100
TZOFFSETTO:+0200
TZNAME:CEST
DTSTART:20230326T010000
END:DAYLIGHT
BEGIN:STANDARD
TZOFFSETFROM:+0200
TZOFFSETTO:+0100
TZNAME:CET
DTSTART:20231029T010000
END:STANDARD
BEGIN:DAYLIGHT
TZOFFSETFROM:+0100
TZOFFSETTO:+0200
TZNAME:CEST
DTSTART:20240331T010000
END:DAYLIGHT
BEGIN:STANDARD
TZOFFSETFROM:+0200
TZOFFSETTO:+0100
TZNAME:CET
DTSTART:20241027T010000
END:STANDARD
BEGIN:DAYLIGHT
TZOFFSETFROM:+0100
TZOFFSETTO:+0200
TZNAME:CEST
DTSTART:20250330T010000
END:DAYLIGHT
BEGIN:STANDARD
TZOFFSETFROM:+0200
TZOFFSETTO:+0100
TZNAME:CET
DTSTART:20251026T010000
END:STANDARD
END:VTIMEZONE
BEGIN:VEVENT
DTSTART;TZID=Europe/Stockholm:20240820T180000
DTEND;TZID=Europe/Stockholm:20240820T190000
DTSTAMP:20260420T022027
CREATED:20240819T175500Z
LAST-MODIFIED:20240819T175501Z
UID:10000420-1724176800-1724180400@www.tullingesk.se
SUMMARY:Grupp 4
DESCRIPTION:Den 20 Augusti blir det korta OL-slingor som för de rutinerade blir tempoträning och för de mindre rutinerade blir mer teknikträning.  Välkomna!   /mia
URL:https://www.tullingesk.se/aktivitet/grupp-4-2-39/
LOCATION:TSK-klubbstugan\, Flottiljvägen 56\, Tullinge\, 146 38\, Sweden
GEO:59.193432193406;17.901717405743
X-APPLE-STRUCTURED-LOCATION;VALUE=URI;X-ADDRESS=TSK-klubbstugan Flottiljvägen 56 Tullinge 146 38 Sweden;X-APPLE-RADIUS=500;X-TITLE=Flottiljvägen 56:geo:17.901717405743,59.193432193406
END:VEVENT
BEGIN:VEVENT
DTSTART;TZID=Europe/Stockholm:20240820T180000
DTEND;TZID=Europe/Stockholm:20240820T193000
DTSTAMP:20260420T022027
CREATED:20240812T074223Z
LAST-MODIFIED:20240818T183215Z
UID:10001262-1724176800-1724182200@www.tullingesk.se
SUMMARY:1316-gruppen - back on map
DESCRIPTION:OL-slingor + korta intervaller \nKompass och lämpliga skor \n/Johan\, Lina\, Calle\, Rickard mfl
URL:https://www.tullingesk.se/aktivitet/1316-gruppen-back-on-map/
LOCATION:TSK-klubbstugan\, Flottiljvägen 56\, Tullinge\, 146 38\, Sweden
CATEGORIES:Ungdomskommittén
GEO:59.193432193406;17.901717405743
X-APPLE-STRUCTURED-LOCATION;VALUE=URI;X-ADDRESS=TSK-klubbstugan Flottiljvägen 56 Tullinge 146 38 Sweden;X-APPLE-RADIUS=500;X-TITLE=Flottiljvägen 56:geo:17.901717405743,59.193432193406
END:VEVENT
BEGIN:VEVENT
DTSTART;TZID=Europe/Stockholm:20240820T180000
DTEND;TZID=Europe/Stockholm:20240820T200000
DTSTAMP:20260420T022027
CREATED:20240805T062407Z
LAST-MODIFIED:20240819T150008Z
UID:10000961-1724176800-1724184000@www.tullingesk.se
SUMMARY:HD17: Intervaller 4x 3 min + 6x 90\, vila 60
DESCRIPTION:Intervaller på spåret\, 4x 3 min + 6x 90\, vila 60
URL:https://www.tullingesk.se/aktivitet/hd17-47/
LOCATION:TSK-klubbstugan\, Flottiljvägen 56\, Tullinge\, 146 38\, Sweden
GEO:59.193432193406;17.901717405743
X-APPLE-STRUCTURED-LOCATION;VALUE=URI;X-ADDRESS=TSK-klubbstugan Flottiljvägen 56 Tullinge 146 38 Sweden;X-APPLE-RADIUS=500;X-TITLE=Flottiljvägen 56:geo:17.901717405743,59.193432193406
END:VEVENT
BEGIN:VEVENT
DTSTART;TZID=Europe/Stockholm:20240820T180000
DTEND;TZID=Europe/Stockholm:20240820T210000
DTSTAMP:20260420T022027
CREATED:20240812T052024Z
LAST-MODIFIED:20240812T052024Z
UID:10001255-1724176800-1724187600@www.tullingesk.se
SUMMARY:Soppa och städa
DESCRIPTION:Soppa: Y Andersson/B Axelsson/A-K+G Ohlsson \nStäd Dam: Carina Ronge och Linnea Fryxell \nStäd Herr: Henrik Bladh och Björn Normark
URL:https://www.tullingesk.se/aktivitet/soppa-och-stada-35/
LOCATION:TSK-klubbstugan\, Flottiljvägen 56\, Tullinge\, 146 38\, Sweden
CATEGORIES:Städvecka / tisdagssoppa
GEO:59.193432193406;17.901717405743
X-APPLE-STRUCTURED-LOCATION;VALUE=URI;X-ADDRESS=TSK-klubbstugan Flottiljvägen 56 Tullinge 146 38 Sweden;X-APPLE-RADIUS=500;X-TITLE=Flottiljvägen 56:geo:17.901717405743,59.193432193406
END:VEVENT
BEGIN:VEVENT
DTSTART;TZID=Europe/Stockholm:20240820T193000
DTEND;TZID=Europe/Stockholm:20240820T203000
DTSTAMP:20260420T022027
CREATED:20240812T182212Z
LAST-MODIFIED:20240812T182212Z
UID:10001263-1724182200-1724185800@www.tullingesk.se
SUMMARY:1316-tränarmöte - bokar mötesrummet vid entrén
DESCRIPTION:1316 ledarmöte
URL:https://www.tullingesk.se/aktivitet/1316-tranarmote-bokar-motesrummet-vid-entren/
LOCATION:TSK-klubbstugan\, Flottiljvägen 56\, Tullinge\, 146 38\, Sweden
GEO:59.193432193406;17.901717405743
X-APPLE-STRUCTURED-LOCATION;VALUE=URI;X-ADDRESS=TSK-klubbstugan Flottiljvägen 56 Tullinge 146 38 Sweden;X-APPLE-RADIUS=500;X-TITLE=Flottiljvägen 56:geo:17.901717405743,59.193432193406
END:VEVENT
END:VCALENDAR