BEGIN:VCALENDAR
VERSION:2.0
PRODID:-//Tullinge SK - ECPv6.15.20//NONSGML v1.0//EN
CALSCALE:GREGORIAN
METHOD:PUBLISH
X-ORIGINAL-URL:https://www.tullingesk.se
X-WR-CALDESC:Händelser för Tullinge SK
REFRESH-INTERVAL;VALUE=DURATION:PT1H
X-Robots-Tag:noindex
X-PUBLISHED-TTL:PT1H
BEGIN:VTIMEZONE
TZID:Europe/Stockholm
BEGIN:DAYLIGHT
TZOFFSETFROM:+0100
TZOFFSETTO:+0200
TZNAME:CEST
DTSTART:20230326T010000
END:DAYLIGHT
BEGIN:STANDARD
TZOFFSETFROM:+0200
TZOFFSETTO:+0100
TZNAME:CET
DTSTART:20231029T010000
END:STANDARD
BEGIN:DAYLIGHT
TZOFFSETFROM:+0100
TZOFFSETTO:+0200
TZNAME:CEST
DTSTART:20240331T010000
END:DAYLIGHT
BEGIN:STANDARD
TZOFFSETFROM:+0200
TZOFFSETTO:+0100
TZNAME:CET
DTSTART:20241027T010000
END:STANDARD
BEGIN:DAYLIGHT
TZOFFSETFROM:+0100
TZOFFSETTO:+0200
TZNAME:CEST
DTSTART:20250330T010000
END:DAYLIGHT
BEGIN:STANDARD
TZOFFSETFROM:+0200
TZOFFSETTO:+0100
TZNAME:CET
DTSTART:20251026T010000
END:STANDARD
END:VTIMEZONE
BEGIN:VEVENT
DTSTART;VALUE=DATE:20240628
DTEND;VALUE=DATE:20240701
DTSTAMP:20260420T053301
CREATED:20240202T110224Z
LAST-MODIFIED:20240202T110224Z
UID:10000749-1719532800-1719791999@www.tullingesk.se
SUMMARY:3+3 i Sälen
DESCRIPTION:
URL:https://www.tullingesk.se/aktivitet/33-i-salen/
CATEGORIES:Orienteringstävling
END:VEVENT
BEGIN:VEVENT
DTSTART;VALUE=DATE:20240630
DTEND;VALUE=DATE:20240701
DTSTAMP:20260420T053301
CREATED:20240202T110444Z
LAST-MODIFIED:20240202T110444Z
UID:10000773-1719705600-1719791999@www.tullingesk.se
SUMMARY:Havs-OL\, dag 2\, lång
DESCRIPTION:
URL:https://www.tullingesk.se/aktivitet/havs-ol-dag-2-lang/
CATEGORIES:Orienteringstävling
END:VEVENT
BEGIN:VEVENT
DTSTART;VALUE=DATE:20240630
DTEND;VALUE=DATE:20240701
DTSTAMP:20260420T053301
CREATED:20240202T110946Z
LAST-MODIFIED:20240202T110946Z
UID:10000801-1719705600-1719791999@www.tullingesk.se
SUMMARY:SM\, sprintstafett (Stafettligan\, #5)
DESCRIPTION:
URL:https://www.tullingesk.se/aktivitet/sm-sprintstafett-stafettligan-5/
CATEGORIES:Orienteringstävling
END:VEVENT
END:VCALENDAR